BEGIN:VCALENDAR
VERSION:2.0
PRODID:-//Beth Emet - ECPv6.15.17//NONSGML v1.0//EN
CALSCALE:GREGORIAN
METHOD:PUBLISH
X-ORIGINAL-URL:https://bethemet.org
X-WR-CALDESC:Events for Beth Emet
REFRESH-INTERVAL;VALUE=DURATION:PT1H
X-Robots-Tag:noindex
X-PUBLISHED-TTL:PT1H
BEGIN:VTIMEZONE
TZID:America/Chicago
BEGIN:DAYLIGHT
TZOFFSETFROM:-0600
TZOFFSETTO:-0500
TZNAME:CDT
DTSTART:20230312T080000
END:DAYLIGHT
BEGIN:STANDARD
TZOFFSETFROM:-0500
TZOFFSETTO:-0600
TZNAME:CST
DTSTART:20231105T070000
END:STANDARD
BEGIN:DAYLIGHT
TZOFFSETFROM:-0600
TZOFFSETTO:-0500
TZNAME:CDT
DTSTART:20240310T080000
END:DAYLIGHT
BEGIN:STANDARD
TZOFFSETFROM:-0500
TZOFFSETTO:-0600
TZNAME:CST
DTSTART:20241103T070000
END:STANDARD
BEGIN:DAYLIGHT
TZOFFSETFROM:-0600
TZOFFSETTO:-0500
TZNAME:CDT
DTSTART:20250309T080000
END:DAYLIGHT
BEGIN:STANDARD
TZOFFSETFROM:-0500
TZOFFSETTO:-0600
TZNAME:CST
DTSTART:20251102T070000
END:STANDARD
END:VTIMEZONE
BEGIN:VEVENT
DTSTART;TZID=America/Chicago:20240519T110000
DTEND;TZID=America/Chicago:20240519T123000
DTSTAMP:20260422T104327
CREATED:20240419T163159Z
LAST-MODIFIED:20240419T163159Z
UID:10253-1716116400-1716121800@bethemet.org
SUMMARY:Tzedekah Committee Spring Box Drop off and Exchange
DESCRIPTION:It’s that time of year again for our spring Tzedekah Box drive\, a time to accept donations\, hand out new boxes\, and respond to any questions you may have regarding the tzedakah grant program. Donations may also be made by credit card\, e-check or billed to your account. As always\, contributions received are used exclusively to fund our grant program for the benefit of local and Israeli not-for-profits whose missions align with Beth Emet’s social justice core values. Click here for more information.
URL:https://bethemet.org/event/tzedekah-committee-spring-box-drop-off-and-exchange/
CATEGORIES:Congregational Programs
END:VEVENT
END:VCALENDAR