BEGIN:VCALENDAR
VERSION:2.0
PRODID:-//Beth Emet - ECPv6.15.17//NONSGML v1.0//EN
CALSCALE:GREGORIAN
METHOD:PUBLISH
X-ORIGINAL-URL:https://bethemet.org
X-WR-CALDESC:Events for Beth Emet
REFRESH-INTERVAL;VALUE=DURATION:PT1H
X-Robots-Tag:noindex
X-PUBLISHED-TTL:PT1H
BEGIN:VTIMEZONE
TZID:America/Chicago
BEGIN:DAYLIGHT
TZOFFSETFROM:-0600
TZOFFSETTO:-0500
TZNAME:CDT
DTSTART:20250309T080000
END:DAYLIGHT
BEGIN:STANDARD
TZOFFSETFROM:-0500
TZOFFSETTO:-0600
TZNAME:CST
DTSTART:20251102T070000
END:STANDARD
BEGIN:DAYLIGHT
TZOFFSETFROM:-0600
TZOFFSETTO:-0500
TZNAME:CDT
DTSTART:20260308T080000
END:DAYLIGHT
BEGIN:STANDARD
TZOFFSETFROM:-0500
TZOFFSETTO:-0600
TZNAME:CST
DTSTART:20261101T070000
END:STANDARD
BEGIN:DAYLIGHT
TZOFFSETFROM:-0600
TZOFFSETTO:-0500
TZNAME:CDT
DTSTART:20270314T080000
END:DAYLIGHT
BEGIN:STANDARD
TZOFFSETFROM:-0500
TZOFFSETTO:-0600
TZNAME:CST
DTSTART:20271107T070000
END:STANDARD
END:VTIMEZONE
BEGIN:VEVENT
DTSTART;TZID=America/Chicago:20260626T183000
DTEND;TZID=America/Chicago:20260626T200000
DTSTAMP:20260421T071037
CREATED:20251010T180036Z
LAST-MODIFIED:20251211T183004Z
UID:10021155-1782498600-1782504000@bethemet.org
SUMMARY:Soul Spark Shabbat
DESCRIPTION:Step into a transcendent Shabbat service unlike any other! Immerse yourself in an extraordinary fusion of spirituality and melody\, as our esteemed clergy\, talented musicians\, and captivating singers lead you through an enchanting tapestry of soul-stirring music\, profound meditations\, and illuminating teachings. Soul Spark is an extraordinary opportunity to enrich your soul and deepen your connection to the sacred rhythms of Shabbat\, taking place in the Sanctuary. \nJoin our clergy\, musicians\, and singers for a unique Shabbat experience filled with soul-stirring music\, contemplative meditations\, and teachings. Follow along with the online prayers during the service. \nClick here to meet the musicians! \n  \nContact Debbie Siegel-Acevedo to schedule an Oneg or sponsor of a loved one.
URL:https://bethemet.org/event/soul-spark-shabbat/2026-06-26/
CATEGORIES:Worship
ATTACH;FMTTYPE=image/jpeg:https://bethemet.org/wp-content/uploads/2025/08/Soul-Spark-Shabbat.jpg
LOCATION:
END:VEVENT
END:VCALENDAR