BEGIN:VCALENDAR
VERSION:2.0
PRODID:-//Beth Emet - ECPv6.15.17//NONSGML v1.0//EN
CALSCALE:GREGORIAN
METHOD:PUBLISH
X-ORIGINAL-URL:https://bethemet.org
X-WR-CALDESC:Events for Beth Emet
REFRESH-INTERVAL;VALUE=DURATION:PT1H
X-Robots-Tag:noindex
X-PUBLISHED-TTL:PT1H
BEGIN:VTIMEZONE
TZID:America/Chicago
BEGIN:DAYLIGHT
TZOFFSETFROM:-0600
TZOFFSETTO:-0500
TZNAME:CDT
DTSTART:20230312T080000
END:DAYLIGHT
BEGIN:STANDARD
TZOFFSETFROM:-0500
TZOFFSETTO:-0600
TZNAME:CST
DTSTART:20231105T070000
END:STANDARD
BEGIN:DAYLIGHT
TZOFFSETFROM:-0600
TZOFFSETTO:-0500
TZNAME:CDT
DTSTART:20240310T080000
END:DAYLIGHT
BEGIN:STANDARD
TZOFFSETFROM:-0500
TZOFFSETTO:-0600
TZNAME:CST
DTSTART:20241103T070000
END:STANDARD
BEGIN:DAYLIGHT
TZOFFSETFROM:-0600
TZOFFSETTO:-0500
TZNAME:CDT
DTSTART:20250309T080000
END:DAYLIGHT
BEGIN:STANDARD
TZOFFSETFROM:-0500
TZOFFSETTO:-0600
TZNAME:CST
DTSTART:20251102T070000
END:STANDARD
END:VTIMEZONE
BEGIN:VEVENT
DTSTART;TZID=America/Chicago:20241207T093000
DTEND;TZID=America/Chicago:20241207T113000
DTSTAMP:20260420T074750
CREATED:20241023T205850Z
LAST-MODIFIED:20241023T205853Z
UID:10017035-1733563800-1733571000@bethemet.org
SUMMARY:Kahal Shabbat Morning Service
DESCRIPTION:Come together for a special Shabbat morning with Kahal\, featuring prayer\, Torah reading\, and engaging discussions. The service offers a chance to connect spiritually and share in the experience with the community. Whether attending regularly or exploring Shabbat for the first time\, everyone is welcome to participate and enjoy the warmth of the congregation. If you are new to Kahal and would like to attend virtually\, register here. \n  \n 
URL:https://bethemet.org/event/satuday-morning-shabbat-services-with-kahal-2/2024-12-07/
CATEGORIES:Worship
END:VEVENT
END:VCALENDAR