BEGIN:VCALENDAR
VERSION:2.0
PRODID:-//Beth Emet - ECPv6.15.17//NONSGML v1.0//EN
CALSCALE:GREGORIAN
METHOD:PUBLISH
X-ORIGINAL-URL:https://bethemet.org
X-WR-CALDESC:Events for Beth Emet
REFRESH-INTERVAL;VALUE=DURATION:PT1H
X-Robots-Tag:noindex
X-PUBLISHED-TTL:PT1H
BEGIN:VTIMEZONE
TZID:America/Chicago
BEGIN:DAYLIGHT
TZOFFSETFROM:-0600
TZOFFSETTO:-0500
TZNAME:CDT
DTSTART:20240310T080000
END:DAYLIGHT
BEGIN:STANDARD
TZOFFSETFROM:-0500
TZOFFSETTO:-0600
TZNAME:CST
DTSTART:20241103T070000
END:STANDARD
BEGIN:DAYLIGHT
TZOFFSETFROM:-0600
TZOFFSETTO:-0500
TZNAME:CDT
DTSTART:20250309T080000
END:DAYLIGHT
BEGIN:STANDARD
TZOFFSETFROM:-0500
TZOFFSETTO:-0600
TZNAME:CST
DTSTART:20251102T070000
END:STANDARD
BEGIN:DAYLIGHT
TZOFFSETFROM:-0600
TZOFFSETTO:-0500
TZNAME:CDT
DTSTART:20260308T080000
END:DAYLIGHT
BEGIN:STANDARD
TZOFFSETFROM:-0500
TZOFFSETTO:-0600
TZNAME:CST
DTSTART:20261101T070000
END:STANDARD
END:VTIMEZONE
BEGIN:VEVENT
DTSTART;TZID=America/Chicago:20250204T193000
DTEND;TZID=America/Chicago:20250204T204500
DTSTAMP:20260425T063647
CREATED:20241121T160343Z
LAST-MODIFIED:20241218T191118Z
UID:10019114-1738697400-1738701900@bethemet.org
SUMMARY:The Peaceful Grandparent Project with Jane Shapiro
DESCRIPTION:Price of registration is $100 \nMembers Register Here \nGuests Register Here \nAre you a grandparent wondering about your evolving role in your family?\nDo you strive to build a strong relationship with your grandchildren? Want to share Jewish values and instill Jewish pride in them? Looking to communicate more openly with your adult children? \nBeth Emet proudly sponsors the Peaceful Grandparent Project\, an Orot Peaceful Family initiative. This program offers tools to deepen family connections and bring sacredness and tranquility to family moments\, all rooted in ancient Jewish wisdom and mindfulness teachings. \nWhy Join the Peaceful Grandparent Project?\n\nEmpathy\, Compassion\, and Love: Our program nurtures these values within your family.\nWelcoming for All Grandparents: Open to all backgrounds and literacy levels with Jewish texts.\nEnglish Texts: All resources are provided in English\, making participation easy and accessible.\n\nMeet Dr. Jane Shapiro\nDr. Jane Shapiro\, a proud grandmother (Bubbie) and senior educator with deep ties to Beth Emet\, leads the program. With over 30 years of teaching experience in Torah\, Jewish thought\, history\, and literature\, Dr. Shapiro brings a wealth of knowledge to guide and mentor participants. In 2017\, she was honored with the Covenant Foundation’s Educators Award and delivered an Eli talk on “The Torah of Bubbiehood.” She holds a doctorate from the Jewish Theological Seminary and lives in Skokie with her family. \nProgram Details:\n\nFee: $100\n\nThis has been Generously funded by the JELLO Fund (Jewish Education: Lifelong Learning Opportunities)\, of the Beth Emet Foundation. \nJoin a supportive community of grandparents and learn how to bring mindfulness\, empathy\, and Jewish wisdom into your family life.
URL:https://bethemet.org/event/new-dates-the-peaceful-grandparent-project-with-jane-shapiro/2025-02-04/
CATEGORIES:Adult Programming
ATTACH;FMTTYPE=image/png:https://bethemet.org/wp-content/uploads/2024/09/Screenshot-2024-09-25-at-12.26.52 PM.png
END:VEVENT
END:VCALENDAR