BEGIN:VCALENDAR
VERSION:2.0
PRODID:-//Beth Emet - ECPv6.15.17//NONSGML v1.0//EN
CALSCALE:GREGORIAN
METHOD:PUBLISH
X-ORIGINAL-URL:https://bethemet.org
X-WR-CALDESC:Events for Beth Emet
REFRESH-INTERVAL;VALUE=DURATION:PT1H
X-Robots-Tag:noindex
X-PUBLISHED-TTL:PT1H
BEGIN:VTIMEZONE
TZID:America/Chicago
BEGIN:DAYLIGHT
TZOFFSETFROM:-0600
TZOFFSETTO:-0500
TZNAME:CDT
DTSTART:20210314T080000
END:DAYLIGHT
BEGIN:STANDARD
TZOFFSETFROM:-0500
TZOFFSETTO:-0600
TZNAME:CST
DTSTART:20211107T070000
END:STANDARD
BEGIN:DAYLIGHT
TZOFFSETFROM:-0600
TZOFFSETTO:-0500
TZNAME:CDT
DTSTART:20220313T080000
END:DAYLIGHT
BEGIN:STANDARD
TZOFFSETFROM:-0500
TZOFFSETTO:-0600
TZNAME:CST
DTSTART:20221106T070000
END:STANDARD
BEGIN:DAYLIGHT
TZOFFSETFROM:-0600
TZOFFSETTO:-0500
TZNAME:CDT
DTSTART:20230312T080000
END:DAYLIGHT
BEGIN:STANDARD
TZOFFSETFROM:-0500
TZOFFSETTO:-0600
TZNAME:CST
DTSTART:20231105T070000
END:STANDARD
END:VTIMEZONE
BEGIN:VEVENT
DTSTART;TZID=America/Chicago:20220701T183000
DTEND;TZID=America/Chicago:20220701T200000
DTSTAMP:20260421T024140
CREATED:20211108T140157Z
LAST-MODIFIED:20220627T190350Z
UID:5524-1656700200-1656705600@bethemet.org
SUMMARY:Kabbalat Shabbat Services with July Birthday Blessings and a Picnic!
DESCRIPTION:During Kabbalat Shabbat Services this Friday\, we will be offering a birthday blessing to all our July birthdays! Here’s a list of all those who are celebrating! Following an abbreviated service\, we will have a picnic at Larimer Park (1201 Oak Street\, one block east and one block south of Beth Emet; parking on the surrounding streets). Bring your own dinner\, we’ll provide the drinks\, desserts and paper goods! A great way to kick off the holiday weekend with some fun! \nWelcome Shabbat whether in the Sanctuary or online! Pre-registration is no longer required unless you have yet to submit your booster information\, (which is required now) and sign the Brit (Covenant of Responsibility) by completing the online form. \nTo listen to the service dial 847-869-4230 and press 7 \nJoin Livestream
URL:https://bethemet.org/event/kabbalat-shabbat-services-2021-11-19-2021-12-17-2022-03-25-2022-04-08-2022-07-01/
CATEGORIES:Worship
ATTACH;FMTTYPE=image/png:https://bethemet.org/wp-content/uploads/2021/11/July-Bday-Blessings-and-Picnic-7.2.png
END:VEVENT
END:VCALENDAR