BEGIN:VCALENDAR
VERSION:2.0
PRODID:-//Beth Emet - ECPv6.15.17//NONSGML v1.0//EN
CALSCALE:GREGORIAN
METHOD:PUBLISH
X-ORIGINAL-URL:https://bethemet.org
X-WR-CALDESC:Events for Beth Emet
REFRESH-INTERVAL;VALUE=DURATION:PT1H
X-Robots-Tag:noindex
X-PUBLISHED-TTL:PT1H
BEGIN:VTIMEZONE
TZID:America/Chicago
BEGIN:DAYLIGHT
TZOFFSETFROM:-0600
TZOFFSETTO:-0500
TZNAME:CDT
DTSTART:20230312T080000
END:DAYLIGHT
BEGIN:STANDARD
TZOFFSETFROM:-0500
TZOFFSETTO:-0600
TZNAME:CST
DTSTART:20231105T070000
END:STANDARD
BEGIN:DAYLIGHT
TZOFFSETFROM:-0600
TZOFFSETTO:-0500
TZNAME:CDT
DTSTART:20240310T080000
END:DAYLIGHT
BEGIN:STANDARD
TZOFFSETFROM:-0500
TZOFFSETTO:-0600
TZNAME:CST
DTSTART:20241103T070000
END:STANDARD
BEGIN:DAYLIGHT
TZOFFSETFROM:-0600
TZOFFSETTO:-0500
TZNAME:CDT
DTSTART:20250309T080000
END:DAYLIGHT
BEGIN:STANDARD
TZOFFSETFROM:-0500
TZOFFSETTO:-0600
TZNAME:CST
DTSTART:20251102T070000
END:STANDARD
END:VTIMEZONE
BEGIN:VEVENT
DTSTART;TZID=America/Chicago:20240615T160000
DTEND;TZID=America/Chicago:20240615T173000
DTSTAMP:20260425T084538
CREATED:20240614T173150Z
LAST-MODIFIED:20240614T173151Z
UID:10494-1718467200-1718472600@bethemet.org
SUMMARY:Kabbalat Mitzvah of: Parker Breivald
DESCRIPTION:This Shabbat\, we celebrate a special occasion as Parker is called to the Torah for his Kabbalat Mitzvah (What is this?)! \n  \nThis joyous event marks a significant milestone in their life\, symbolizing their dedication\, growth\, and commitment to their faith and community. The ceremony will be held in the Sanctuary. We look forward to sharing this momentous day with friends\, family\, and the community. Mazel tov to the new Kabbalat Mitzvah.
URL:https://bethemet.org/event/kabbalat-mitzvah-of-3/
CATEGORIES:Worship
ATTACH;FMTTYPE=image/jpeg:https://bethemet.org/wp-content/uploads/2024/06/Reading-from-the-Torah.jpeg
END:VEVENT
END:VCALENDAR