BEGIN:VCALENDAR
VERSION:2.0
PRODID:-//Beth Emet - ECPv6.15.17//NONSGML v1.0//EN
CALSCALE:GREGORIAN
METHOD:PUBLISH
X-ORIGINAL-URL:https://bethemet.org
X-WR-CALDESC:Events for Beth Emet
REFRESH-INTERVAL;VALUE=DURATION:PT1H
X-Robots-Tag:noindex
X-PUBLISHED-TTL:PT1H
BEGIN:VTIMEZONE
TZID:America/Chicago
BEGIN:DAYLIGHT
TZOFFSETFROM:-0600
TZOFFSETTO:-0500
TZNAME:CDT
DTSTART:20220313T080000
END:DAYLIGHT
BEGIN:STANDARD
TZOFFSETFROM:-0500
TZOFFSETTO:-0600
TZNAME:CST
DTSTART:20221106T070000
END:STANDARD
BEGIN:DAYLIGHT
TZOFFSETFROM:-0600
TZOFFSETTO:-0500
TZNAME:CDT
DTSTART:20230312T080000
END:DAYLIGHT
BEGIN:STANDARD
TZOFFSETFROM:-0500
TZOFFSETTO:-0600
TZNAME:CST
DTSTART:20231105T070000
END:STANDARD
BEGIN:DAYLIGHT
TZOFFSETFROM:-0600
TZOFFSETTO:-0500
TZNAME:CDT
DTSTART:20240310T080000
END:DAYLIGHT
BEGIN:STANDARD
TZOFFSETFROM:-0500
TZOFFSETTO:-0600
TZNAME:CST
DTSTART:20241103T070000
END:STANDARD
END:VTIMEZONE
BEGIN:VEVENT
DTSTART;TZID=America/Chicago:20231008T173000
DTEND;TZID=America/Chicago:20231008T193000
DTSTAMP:20260424T065332
CREATED:20230909T162810Z
LAST-MODIFIED:20230912T024552Z
UID:9365-1696786200-1696793400@bethemet.org
SUMMARY:Interfaith Action of Evanston Annual Fundraising Dinner Honoring Beth Emet's Vision Keepers: Lisa Levine
DESCRIPTION:Please join us as we honor Beth Emet’s Vision Keeper\, Lisa Levine\, chair of Beth Emet’s Social Justice committee.  Lisa is an inspirational leader who has expanded our social justice work and was instrumental in engaging our community during the pandemic at a time when being involved truly made a difference… as it does now.  Not only is Lisa’s leadership characterized by empathy and sensitivity\, but she also has boundless positive energy.  She has fostered the development of many social justice subcommittees as she encourages and mentors others to bring their ideas to fruition. \nAlong with her social justice work at Beth Emet\, Lisa is a speech-language pathologist in the Evanston schools and stays busy as a mom of twins that are freshmen at ETHS. She\, her husband and their kids enjoy music\, board games\, traveling and camping. Lisa is an avid reader and she is also learning to play the bass guitar. And if she’s not home\, at school\, or at Beth Emet\, the next place to look would be Linne Woods Forest Preserve. \nProceeds from the Vision Keepers Dinner support Interfaith Action’s programs at the Hospitality Center for the Homeless\, local soup kitchens\, Produce mobile\, winter overnight shelter\, and winter warming centers. \nRSVP by Tuesday\, September 26 \n\nAll reservations must be accompanied by payment ($80.00 per person) and send to Beth Emet\nFor questions about making reservations contact Bekki Kaplan\n\nMember Registration \nNonmember Registration
URL:https://bethemet.org/event/interfaith-action-of-evanston-annual-fundraising-dinner-honoring-beth-emets-vision-keepers-lisa-levine/
LOCATION:DoubleTree by Hilton Hotel\, 9599 Skokie Blvd\, Skokie\, IL\, United States
CATEGORIES:Congregational Programs
ATTACH;FMTTYPE=image/png:https://bethemet.org/wp-content/uploads/2023/09/Untitled-720-×-404-px.png
END:VEVENT
END:VCALENDAR