BEGIN:VCALENDAR
VERSION:2.0
PRODID:-//Beth Emet - ECPv6.15.17//NONSGML v1.0//EN
CALSCALE:GREGORIAN
METHOD:PUBLISH
X-ORIGINAL-URL:https://bethemet.org
X-WR-CALDESC:Events for Beth Emet
REFRESH-INTERVAL;VALUE=DURATION:PT1H
X-Robots-Tag:noindex
X-PUBLISHED-TTL:PT1H
BEGIN:VTIMEZONE
TZID:America/Chicago
BEGIN:DAYLIGHT
TZOFFSETFROM:-0600
TZOFFSETTO:-0500
TZNAME:CDT
DTSTART:20210314T080000
END:DAYLIGHT
BEGIN:STANDARD
TZOFFSETFROM:-0500
TZOFFSETTO:-0600
TZNAME:CST
DTSTART:20211107T070000
END:STANDARD
BEGIN:DAYLIGHT
TZOFFSETFROM:-0600
TZOFFSETTO:-0500
TZNAME:CDT
DTSTART:20220313T080000
END:DAYLIGHT
BEGIN:STANDARD
TZOFFSETFROM:-0500
TZOFFSETTO:-0600
TZNAME:CST
DTSTART:20221106T070000
END:STANDARD
BEGIN:DAYLIGHT
TZOFFSETFROM:-0600
TZOFFSETTO:-0500
TZNAME:CDT
DTSTART:20230312T080000
END:DAYLIGHT
BEGIN:STANDARD
TZOFFSETFROM:-0500
TZOFFSETTO:-0600
TZNAME:CST
DTSTART:20231105T070000
END:STANDARD
END:VTIMEZONE
BEGIN:VEVENT
DTSTART;TZID=America/Chicago:20220815T173000
DTEND;TZID=America/Chicago:20220815T183000
DTSTAMP:20260422T065527
CREATED:20220708T175412Z
LAST-MODIFIED:20220708T175452Z
UID:6097-1660584600-1660588200@bethemet.org
SUMMARY:Inclusion Committee Meeting
DESCRIPTION:Join the Beth Emet Inclusion Committee as we examine our current practices and explore ways to create a culture of belonging and inclusivity for Beth Emet members of all abilities. We know that all individuals can contribute to our community. \nIf interested\, please email Terri Michaels or call (847-691-8167) or email Marci Dickman \nZoom Link
URL:https://bethemet.org/event/inclusion-committee-meeting-10/
CATEGORIES:Congregational Programs
END:VEVENT
END:VCALENDAR