BEGIN:VCALENDAR
VERSION:2.0
PRODID:-//Beth Emet - ECPv6.15.17//NONSGML v1.0//EN
CALSCALE:GREGORIAN
METHOD:PUBLISH
X-ORIGINAL-URL:https://bethemet.org
X-WR-CALDESC:Events for Beth Emet
REFRESH-INTERVAL;VALUE=DURATION:PT1H
X-Robots-Tag:noindex
X-PUBLISHED-TTL:PT1H
BEGIN:VTIMEZONE
TZID:America/Chicago
BEGIN:DAYLIGHT
TZOFFSETFROM:-0600
TZOFFSETTO:-0500
TZNAME:CDT
DTSTART:20250309T080000
END:DAYLIGHT
BEGIN:STANDARD
TZOFFSETFROM:-0500
TZOFFSETTO:-0600
TZNAME:CST
DTSTART:20251102T070000
END:STANDARD
BEGIN:DAYLIGHT
TZOFFSETFROM:-0600
TZOFFSETTO:-0500
TZNAME:CDT
DTSTART:20260308T080000
END:DAYLIGHT
BEGIN:STANDARD
TZOFFSETFROM:-0500
TZOFFSETTO:-0600
TZNAME:CST
DTSTART:20261101T070000
END:STANDARD
BEGIN:DAYLIGHT
TZOFFSETFROM:-0600
TZOFFSETTO:-0500
TZNAME:CDT
DTSTART:20270314T080000
END:DAYLIGHT
BEGIN:STANDARD
TZOFFSETFROM:-0500
TZOFFSETTO:-0600
TZNAME:CST
DTSTART:20271107T070000
END:STANDARD
END:VTIMEZONE
BEGIN:VEVENT
DTSTART;TZID=America/Chicago:20260426T090000
DTEND;TZID=America/Chicago:20260426T093000
DTSTAMP:20260423T115905
CREATED:20251016T193746Z
LAST-MODIFIED:20251208T203930Z
UID:10021614-1777194000-1777195800@bethemet.org
SUMMARY:Kochavim Youth Choir
DESCRIPTION:Members Register Here \nSing with the Kochavim (Stars) Youth Choir!Love to sing? Join our Beth Emet youth choir\, Kochavim! We’ll meet on a few Sunday mornings during the year to learn fun songs and share music together. No experience needed—just bring your voice and your enthusiasm. The choir will meet in the Sanctuary. \nSign up today and be part of the music!
URL:https://bethemet.org/event/kochavim-youth-choir/2026-04-26/
CATEGORIES:Beit Sefer
ATTACH;FMTTYPE=image/jpeg:https://bethemet.org/wp-content/uploads/2025/10/Kochavim-scaled.jpg
END:VEVENT
END:VCALENDAR