BEGIN:VCALENDAR
VERSION:2.0
PRODID:-//Beth Emet - ECPv6.15.17//NONSGML v1.0//EN
CALSCALE:GREGORIAN
METHOD:PUBLISH
X-ORIGINAL-URL:https://bethemet.org
X-WR-CALDESC:Events for Beth Emet
REFRESH-INTERVAL;VALUE=DURATION:PT1H
X-Robots-Tag:noindex
X-PUBLISHED-TTL:PT1H
BEGIN:VTIMEZONE
TZID:America/Chicago
BEGIN:DAYLIGHT
TZOFFSETFROM:-0600
TZOFFSETTO:-0500
TZNAME:CDT
DTSTART:20220313T080000
END:DAYLIGHT
BEGIN:STANDARD
TZOFFSETFROM:-0500
TZOFFSETTO:-0600
TZNAME:CST
DTSTART:20221106T070000
END:STANDARD
BEGIN:DAYLIGHT
TZOFFSETFROM:-0600
TZOFFSETTO:-0500
TZNAME:CDT
DTSTART:20230312T080000
END:DAYLIGHT
BEGIN:STANDARD
TZOFFSETFROM:-0500
TZOFFSETTO:-0600
TZNAME:CST
DTSTART:20231105T070000
END:STANDARD
BEGIN:DAYLIGHT
TZOFFSETFROM:-0600
TZOFFSETTO:-0500
TZNAME:CDT
DTSTART:20240310T080000
END:DAYLIGHT
BEGIN:STANDARD
TZOFFSETFROM:-0500
TZOFFSETTO:-0600
TZNAME:CST
DTSTART:20241103T070000
END:STANDARD
END:VTIMEZONE
BEGIN:VEVENT
DTSTART;TZID=America/Chicago:20230312T094500
DTEND;TZID=America/Chicago:20230312T104500
DTSTAMP:20260421T093924
CREATED:20221221T194829Z
LAST-MODIFIED:20230228T224849Z
UID:10009190-1678614300-1678617900@bethemet.org
SUMMARY:Here All Along Discussion on Chapter 6 with Rabbi London
DESCRIPTION:This year the Beth Emet community is reading the book\, Here All Along by Sarah Hurwitz. Rabbi London will lead a conversation about a section of the book. This is a wonderful opportunity to contemplate questions about Judaism and explore Jewish identity. The book is accessible and thought-provoking. \nRegister Here \nBooks and bookmarks are available in the front office for anyone who would like one. Babysitting will be provided. Pre-registration requested \nThe One Book\, One Congregation programs are generously sponsored by the Judith F. Krug Fund\, David and Florence Fingeret Fund\, Solomon and Lillian Krug Fund\, and the JELLO (Jewish Education: Lifelong Learning Opportunities) Funds in the Beth Emet Foundation. 
URL:https://bethemet.org/event/here-all-along-discussion-with-rabbi-london-4/
CATEGORIES:Adult Programming,Congregational Programs
ATTACH;FMTTYPE=image/png:https://bethemet.org/wp-content/uploads/2022/09/Sarah-Hurwitz.png
END:VEVENT
BEGIN:VEVENT
DTSTART;TZID=America/Chicago:20230312T093000
DTEND;TZID=America/Chicago:20230312T120000
DTSTAMP:20260421T093924
CREATED:20220906T151250Z
LAST-MODIFIED:20230111T203052Z
UID:10008849-1678613400-1678622400@bethemet.org
SUMMARY:Beit Sefer
DESCRIPTION:
URL:https://bethemet.org/event/beit-sefer-first-day/2023-03-12/
CATEGORIES:Beit Sefer
END:VEVENT
BEGIN:VEVENT
DTSTART;TZID=America/Chicago:20230312T093000
DTEND;TZID=America/Chicago:20230312T110000
DTSTAMP:20260421T093924
CREATED:20220808T184046Z
LAST-MODIFIED:20220811T174012Z
UID:10008708-1678613400-1678618800@bethemet.org
SUMMARY:Gan Yom Rishon
DESCRIPTION:Gan Yom Rishon is an interactive class for children ages 3-5\, with a parent/caregiver\, that meets on Sunday mornings in-person at Beth Emet. Each week we’ll experience Judaism through music\, art\, cooking\, and stories. Gan Yom Rishon is also open to non-members. \nNon-Members Register Here \nMembers Register Here \nClass Dates: \nSeptember 18\nOctober 2\, 9\, 16\, 23\nNovember 6\, 13\, 20\nDecember 4\, 11\, 18\nJanuary 15\, 22\nFebruary 5\, 12\, 26\nMarch 12\, 19\, 26\nApril 16\, 23\, 30\nMay 7\, 14\, 21
URL:https://bethemet.org/event/gan-yom-rishon/2023-03-12/
CATEGORIES:Young Families
ATTACH;FMTTYPE=image/png:https://bethemet.org/wp-content/uploads/2022/08/GYR-2022-2023-1.png
END:VEVENT
BEGIN:VEVENT
DTSTART;TZID=America/Chicago:20230312T090000
DTEND;TZID=America/Chicago:20230312T100000
DTSTAMP:20260421T093924
CREATED:20211108T135747Z
LAST-MODIFIED:20230110T064535Z
UID:10007872-1678611600-1678615200@bethemet.org
SUMMARY:Sunday Morning Minyan
DESCRIPTION:Join us on Sundays to daven (pray) the weekday Shacharit (morning) service! We are returning to the building! First-timers are encouraged! Please note\, we will continue to Zoom as well for virtual participation. \nThe Minyan offers an intimate opportunity to pray with the Beth Emet community. The service explores our ritual\, liturgical\, and musical traditions in a welcoming setting for people new to prayer while providing a deeper connection for people with more experience. \nParticipants are encouraged to wear a tallit and tefillin. \n 
URL:https://bethemet.org/event/sunday-morning-minyan-2022-03-13-2022-03-27-2022-07-03-2022-10-30-2022-11-06/2023-03-12/
CATEGORIES:Worship
ATTACH;FMTTYPE=image/png:https://bethemet.org/wp-content/uploads/2021/11/Morning-Minyan-website.png
END:VEVENT
BEGIN:VEVENT
DTSTART;TZID=America/Chicago:20230312T090000
DTEND;TZID=America/Chicago:20230312T100000
DTSTAMP:20260421T093924
CREATED:20211108T135747Z
LAST-MODIFIED:20230314T190140Z
UID:10009154-1678611600-1678615200@bethemet.org
SUMMARY:Sunday Morning Minyan
DESCRIPTION:Join us on Sundays to daven (pray) the weekday Shacharit (morning) service! We are returning to the building! First-timers are encouraged! Please note\, we will continue to Zoom as well for virtual participation. \nThe Minyan offers an intimate opportunity to pray with the Beth Emet community. The service explores our ritual\, liturgical\, and musical traditions in a welcoming setting for people new to prayer while providing a deeper connection for people with more experience. \nParticipants are encouraged to wear a tallit and tefillin. \n 
URL:https://bethemet.org/event/sunday-morning-minyan-2022-03-13-2022-03-27-2022-07-03-2022-10-30-2022-11-06-2023-03-12/2023-03-12/
CATEGORIES:Worship
ATTACH;FMTTYPE=image/png:https://bethemet.org/wp-content/uploads/2021/11/Sunday-Morning-Minyan.png
END:VEVENT
BEGIN:VEVENT
DTSTART;TZID=America/Chicago:20230311T170000
DTEND;TZID=America/Chicago:20230311T193000
DTSTAMP:20260421T093924
CREATED:20230222T201917Z
LAST-MODIFIED:20230303T220031Z
UID:10009240-1678554000-1678563000@bethemet.org
SUMMARY:Beit Sefer Consecration and Naming Ceremony and Dinner
DESCRIPTION:For new Beit Sefer students in grades K\, 1\, and 2: Our very moving consecration ceremony will begin promptly in the sanctuary\, followed by the Hebrew naming program\, and then a festive dinner. \nThis is a program to take nachas in your young children and to feel pride as they embark on a lifelong journey of Jewish learning. \nSiblings and grandparents are encouraged to attend as well. \nReserve Your Spot Here
URL:https://bethemet.org/event/beit-sefer-consecration-and-naming-ceremony-and-dinner/
CATEGORIES:Beit Sefer
END:VEVENT
BEGIN:VEVENT
DTSTART;TZID=America/Chicago:20230311T093000
DTEND;TZID=America/Chicago:20230311T113000
DTSTAMP:20260421T093924
CREATED:20210725T013907Z
LAST-MODIFIED:20221222T190928Z
UID:10007201-1678527000-1678534200@bethemet.org
SUMMARY:Kahal Shabbat Morning Services
DESCRIPTION:Whether in-person or online participate in worship by signing up for an honor via the online honor form. Masks are no longer required and are encouraged. \nPh: 312-626-6799- Meeting ID: 833 6362 0227 / Passcode: 1224 \n 
URL:https://bethemet.org/event/kahal-shabbat-morning-services-2022-03-19-2022-06-11-2022-07-23-2022-10-08-2022-12-24/2023-03-11/
CATEGORIES:Worship
END:VEVENT
BEGIN:VEVENT
DTSTART;TZID=America/Chicago:20230310T183000
DTEND;TZID=America/Chicago:20230310T200000
DTSTAMP:20260421T093924
CREATED:20211108T140157Z
LAST-MODIFIED:20230308T171337Z
UID:10008921-1678473000-1678478400@bethemet.org
SUMMARY:Refugee Shabbat: Kabbalat Shabbat Services
DESCRIPTION:The Beth Emet community has worked closely with a refugee family for one full year. Through the triumphs and mishaps\, volunteers have learned new perspectives\, cultural differences\, and built lasting relationships. This Shabbat will be an opportunity to continue learning about the refugee experience in Skokie and how you can participate in this and similar projects. \nWelcome Shabbat whether in the Sanctuary or online! Masks are no longer required and are encouraged. There will be a masks-required section for those that feel more comfortable in the Sanctuary. \nTo listen to the service dial 847-869-4230 and press 7 \n 
URL:https://bethemet.org/event/kabbalat-shabbat-services-2-2023-03-10/
CATEGORIES:Worship
END:VEVENT
BEGIN:VEVENT
DTSTART;TZID=America/Chicago:20230310T113000
DTEND;TZID=America/Chicago:20230310T120000
DTSTAMP:20260421T093924
CREATED:20210725T013853Z
LAST-MODIFIED:20230612T151502Z
UID:10006441-1678447800-1678449600@bethemet.org
SUMMARY:Daily Meditation from Institute for Jewish Spirituality
DESCRIPTION:Join Meditation Room
URL:https://bethemet.org/event/daily-meditation-from-institute-for-jewish-spirituality/2023-03-10/
CATEGORIES:Congregational Programs
END:VEVENT
BEGIN:VEVENT
DTSTART;TZID=America/Chicago:20230310T110000
DTEND;TZID=America/Chicago:20230310T121500
DTSTAMP:20260421T093924
CREATED:20230207T175614Z
LAST-MODIFIED:20230303T220934Z
UID:10009229-1678446000-1678450500@bethemet.org
SUMMARY:The Purpose of Jewish Literature Today with Dr. Claire Sufrin
DESCRIPTION:Do novelists fill the role once occupied by prophets? Are Jewish novelists writing books that are either too Jewish or not Jewish enough? We will read and discuss two recent essays- each addressing one of these questions- alongside two recent novels\, The Netanyahus by Joshua Cohen and Fleischman is in Trouble by Taffy Brodesser-Akner. We will consider: Are these novelists saying something prophetic? What makes these works Jewish and is it enough or too much? \nLinks to the two essays\, as well as excerpts from the novels are provided below for those who wish to prepare. Reading the entire novels is also encouraged\, though not required for this class. \nNon-Members Register Here \nMembers Register Here \nDR. CLAIRE SUFRIN is the editor of Sources: A Journal of Jewish Ideas and Senior Editor at the Shalom Hartman Institute of North America. A scholar of modern Jewish thought\, she is a widely respected educator who has taught for more than a decade at Beth Emet\, and she is also co-editor of the New Jewish Canon: Ideas and Debates\, 1980-2015\, a 2021 National Jewish Book Award finalist. \n\nReadings for March 3 \n\nAllegra Goodman\, “Judaism without Borders\, Diaspora without Tears“\nExcerpt from Taffy Brodesser-Akner\, Fleischman in Trouble\n5 Jewish places that inspired Taffy Brodesser-Akner’s ‘Fleishman Is in Trouble’\n\nReadings for March 10 \n\nHoward Jacobson\, “Prophetic Fervor and the Jewish Writer“\nExcerpt from Joshua Cohen\, The Netanyahus
URL:https://bethemet.org/event/the-purpose-of-jewish-literature-today-with-dr-claire-sufrin/2023-03-10/
CATEGORIES:Adult Programming
ATTACH;FMTTYPE=image/png:https://bethemet.org/wp-content/uploads/2023/02/Claire-Sufrin.png
END:VEVENT
BEGIN:VEVENT
DTSTART;TZID=America/Chicago:20230310T093000
DTEND;TZID=America/Chicago:20230310T103500
DTSTAMP:20260421T093924
CREATED:20220829T002747Z
LAST-MODIFIED:20230831T203506Z
UID:10007829-1678440600-1678444500@bethemet.org
SUMMARY:A Close Look at Torah with Rabbi Andrea London
DESCRIPTION:There are many ways to interpret Torah and its nuances of meaning that are often overlooked. We will continue our learning from last year\, reading and interpreting the text of the Book of Deuteronomy line by line. New learners are always welcome. \nNo Fee for members; non-member fee is $120. \nNon-Members Register Here \nMembers Register Here
URL:https://bethemet.org/event/a-close-look-at-torah-with-rabbi-andrea-london/2023-03-10/
CATEGORIES:Adult Programming
ATTACH;FMTTYPE=image/jpeg:https://bethemet.org/wp-content/uploads/2021/07/rabbi-london-headshot.jpg
END:VEVENT
BEGIN:VEVENT
DTSTART;TZID=America/Chicago:20230309T161500
DTEND;TZID=America/Chicago:20230309T181500
DTSTAMP:20260421T093924
CREATED:20221109T162103Z
LAST-MODIFIED:20221109T162103Z
UID:10009106-1678378500-1678385700@bethemet.org
SUMMARY:Gesher Class (Grade 7)
DESCRIPTION:Gesher students learn to identify Jewish values in their lives and to use those values as they make choices. You can see the full list of dates and classes at this link.
URL:https://bethemet.org/event/gesher-class-grade-7/2023-03-09/
CATEGORIES:Beit Sefer
END:VEVENT
BEGIN:VEVENT
DTSTART;TZID=America/Chicago:20230309T161500
DTEND;TZID=America/Chicago:20230309T181500
DTSTAMP:20260421T093924
CREATED:20220906T151519Z
LAST-MODIFIED:20230110T062539Z
UID:10008881-1678378500-1678385700@bethemet.org
SUMMARY:Beit Sefer - Grades 3-6
DESCRIPTION:
URL:https://bethemet.org/event/beit-sefer-grades-3-6-2022-11-10/2023-03-09/
CATEGORIES:Beit Sefer
END:VEVENT
BEGIN:VEVENT
DTSTART;TZID=America/Chicago:20230309T113000
DTEND;TZID=America/Chicago:20230309T120000
DTSTAMP:20260421T093924
CREATED:20210725T013853Z
LAST-MODIFIED:20230612T151502Z
UID:10006440-1678361400-1678363200@bethemet.org
SUMMARY:Daily Meditation from Institute for Jewish Spirituality
DESCRIPTION:Join Meditation Room
URL:https://bethemet.org/event/daily-meditation-from-institute-for-jewish-spirituality/2023-03-09/
CATEGORIES:Congregational Programs
END:VEVENT
BEGIN:VEVENT
DTSTART;TZID=America/Chicago:20230309T100000
DTEND;TZID=America/Chicago:20230309T110000
DTSTAMP:20260421T093924
CREATED:20220103T173119Z
LAST-MODIFIED:20230530T041340Z
UID:10008307-1678356000-1678359600@bethemet.org
SUMMARY:Qigong with Netiva Caftori
DESCRIPTION:There are so many moving parts in our day to day lives. Our very own Netiva Caftori\, invites us to experience the healing practice of Qigong with her. Qigong is a millennia-old system of coordinated body-posture and movement\, breathing\, and meditation used for the purposes of health and spirituality. Beginners are encouraged to try out this session. \nJoin Here
URL:https://bethemet.org/event/qigong-with-netiva-caftori-7/2023-03-09/
CATEGORIES:Congregational Programs
ATTACH;FMTTYPE=image/jpeg:https://bethemet.org/wp-content/uploads/2021/07/qigong.jpg
END:VEVENT
BEGIN:VEVENT
DTSTART;TZID=America/Chicago:20230308T193000
DTEND;TZID=America/Chicago:20230308T210000
DTSTAMP:20260421T093924
CREATED:20230109T201759Z
LAST-MODIFIED:20230310T182311Z
UID:10009191-1678303800-1678309200@bethemet.org
SUMMARY:AIPAC and the US-Israel Relationship
DESCRIPTION:Click here to watch the recording of this event \nThe American Israel Public Affairs Committee (AIPAC) is a bipartisan American organization with a long and successful history advocating a strong US- Israel relationship. AIPAC encourages the US government to enact specific policies creating an enduring and mutually beneficial relationship with our ally Israel. AIPAC has evolved\, with a newly implemented strategy to ensure Israel remains safe and secure with America by its side. \nThis event is sponsored by the Israel Committee. \nNon-Members Register Here \nMembers Register Here \nJORDYN HARRIS serves as AIPAC Chicago Associate Area Director\, where she is responsible for building and leading AIPAC’s advocacy and political efforts in the Chicago area. She has been instrumental in promoting the US-Israel relationship ensuring AIPAC’s message is heard by lawmakers and community leaders in Chicago and throughout Illinois.
URL:https://bethemet.org/event/aipac-and-the-us-israel-relationship/
CATEGORIES:Adult Programming
ATTACH;FMTTYPE=image/png:https://bethemet.org/wp-content/uploads/2023/01/Jordyn-Harris.png
END:VEVENT
BEGIN:VEVENT
DTSTART;TZID=America/Chicago:20230308T180000
DTEND;TZID=America/Chicago:20230308T190000
DTSTAMP:20260421T093924
CREATED:20211108T135936Z
LAST-MODIFIED:20230914T185950Z
UID:10007518-1678298400-1678302000@bethemet.org
SUMMARY:Soup Kitchen
DESCRIPTION:
URL:https://bethemet.org/event/soup-kitchen-2022-06-08-2022-12-28/2023-03-08/
CATEGORIES:Congregational Programs
ATTACH;FMTTYPE=image/jpeg:https://bethemet.org/wp-content/uploads/2021/11/soup-kitchen.jpg
END:VEVENT
BEGIN:VEVENT
DTSTART;TZID=America/Chicago:20230308T113000
DTEND;TZID=America/Chicago:20230308T120000
DTSTAMP:20260421T093924
CREATED:20210725T013853Z
LAST-MODIFIED:20230612T151502Z
UID:10006439-1678275000-1678276800@bethemet.org
SUMMARY:Daily Meditation from Institute for Jewish Spirituality
DESCRIPTION:Join Meditation Room
URL:https://bethemet.org/event/daily-meditation-from-institute-for-jewish-spirituality/2023-03-08/
CATEGORIES:Congregational Programs
END:VEVENT
BEGIN:VEVENT
DTSTART;TZID=America/Chicago:20230307T193000
DTEND;TZID=America/Chicago:20230307T203000
DTSTAMP:20260421T093924
CREATED:20220228T002932Z
LAST-MODIFIED:20220302T191205Z
UID:10007394-1678217400-1678221000@bethemet.org
SUMMARY:Soul Stitchers- Virtual Knitting Circle
DESCRIPTION:Know how to knit and/or crochet? As a tribute to Nikki Zarefsky z”l\, join us for an hour (on zoom) of knitting and connecting as we create shawls to warm people during services and/or healing shawls that will bring warmth to those in need in a hospital\, home or other settings. Newcomers are welcome and encouraged to join! Please send us an email with any questions. \nZoom Link \nPh: 312-626-6799 | Meeting ID: 868 2649 2061|Passcode: 1224
URL:https://bethemet.org/event/soul-stitchers-virtual-knitting-circle-4/2023-03-07/
ATTACH;FMTTYPE=image/jpeg:https://bethemet.org/wp-content/uploads/2021/12/Mandala-Scarf-PDF-and-Final-051.jpg
END:VEVENT
BEGIN:VEVENT
DTSTART;TZID=America/Chicago:20230307T190000
DTEND;TZID=America/Chicago:20230307T200000
DTSTAMP:20260421T093924
CREATED:20220725T152122Z
LAST-MODIFIED:20230321T022843Z
UID:10009223-1678215600-1678219200@bethemet.org
SUMMARY:Soul Stitchers- Virtual Knitting Circle
DESCRIPTION:Know how to knit and/or crochet? As a tribute to Nikki Zarefsky z”l\, join us for an hour (on zoom) of knitting and connecting as we create shawls to warm people during services and/or healing shawls that will bring warmth to those in need in a hospital\, home or other settings. Newcomers are welcome and encouraged to join! Please send us an email with any questions.
URL:https://bethemet.org/event/soul-stitchers-virtual-knitting-circle-8-2022-12-06-2023-02-07/2023-03-07/
CATEGORIES:Congregational Programs
ATTACH;FMTTYPE=image/jpeg:https://bethemet.org/wp-content/uploads/2021/12/Mandala-Scarf-PDF-and-Final-051.jpg
END:VEVENT
BEGIN:VEVENT
DTSTART;TZID=America/Chicago:20230307T113000
DTEND;TZID=America/Chicago:20230307T120000
DTSTAMP:20260421T093924
CREATED:20210725T013853Z
LAST-MODIFIED:20230612T151502Z
UID:10006438-1678188600-1678190400@bethemet.org
SUMMARY:Daily Meditation from Institute for Jewish Spirituality
DESCRIPTION:Join Meditation Room
URL:https://bethemet.org/event/daily-meditation-from-institute-for-jewish-spirituality/2023-03-07/
CATEGORIES:Congregational Programs
END:VEVENT
BEGIN:VEVENT
DTSTART;TZID=America/Chicago:20230307T093000
DTEND;TZID=America/Chicago:20230307T101500
DTSTAMP:20260421T093924
CREATED:20230117T200042Z
LAST-MODIFIED:20230117T200042Z
UID:10008168-1678181400-1678184100@bethemet.org
SUMMARY:Jamberry Music with Nicole Jaworski! Co-sponsored by JBaby
DESCRIPTION:Join us for joyful\, collaborative music-making with Nicole Jaworski and Jamberry Music! In this class\, you and your little one will bond with each other and make new friends while we sing\, dance\, play\, pretend and experiment with instruments. Class is geared to kids 6 months to 2.5 years old and siblings are welcome to join! This program will take place from February 14-March 21 from 9:30 am – 10:15 am. The fee per family is $90.00. \nPlease register here
URL:https://bethemet.org/event/jamberry-music-with-nicole-jaworski-co-sponsored-by-jbaby/2023-03-07/
CATEGORIES:Young Families
END:VEVENT
BEGIN:VEVENT
DTSTART;VALUE=DATE:20230307
DTEND;VALUE=DATE:20230308
DTSTAMP:20260421T093924
CREATED:20220327T224927Z
LAST-MODIFIED:20220327T224927Z
UID:10007448-1678147200-1678233599@bethemet.org
SUMMARY:Purim
DESCRIPTION:
URL:https://bethemet.org/event/purim-2/
END:VEVENT
BEGIN:VEVENT
DTSTART;TZID=America/Chicago:20230306T190000
DTEND;TZID=America/Chicago:20230306T210000
DTSTAMP:20260421T093924
CREATED:20230110T053320Z
LAST-MODIFIED:20230214T223607Z
UID:10009200-1678129200-1678136400@bethemet.org
SUMMARY:Megillah Reading and Purim Shpiel
DESCRIPTION:Purim fun for everyone! We can’t wait to see you at this year’s Purim Shpiel\, Romancing The Throne. Whether you attend in-person or participate online via LiveControl\, we promise you’ll have a good time and much-needed laughter! \nCostumes are encouraged (whether you are joining in the Sanctuary or in your living room!)
URL:https://bethemet.org/event/megillah-reading-and-purim-spiel-2/
CATEGORIES:Congregational Programs,Worship
END:VEVENT
BEGIN:VEVENT
DTSTART;TZID=America/Chicago:20230306T113000
DTEND;TZID=America/Chicago:20230306T120000
DTSTAMP:20260421T093924
CREATED:20210725T013853Z
LAST-MODIFIED:20230612T151502Z
UID:10006437-1678102200-1678104000@bethemet.org
SUMMARY:Daily Meditation from Institute for Jewish Spirituality
DESCRIPTION:Join Meditation Room
URL:https://bethemet.org/event/daily-meditation-from-institute-for-jewish-spirituality/2023-03-06/
CATEGORIES:Congregational Programs
END:VEVENT
BEGIN:VEVENT
DTSTART;VALUE=DATE:20230306
DTEND;VALUE=DATE:20230307
DTSTAMP:20260421T093924
CREATED:20220327T224857Z
LAST-MODIFIED:20220327T224857Z
UID:10008453-1678060800-1678147199@bethemet.org
SUMMARY:Erev Purim
DESCRIPTION:Purim starts at night
URL:https://bethemet.org/event/erev-purim-2/
END:VEVENT
BEGIN:VEVENT
DTSTART;TZID=America/Chicago:20230305T121500
DTEND;TZID=America/Chicago:20230305T131500
DTSTAMP:20260421T093924
CREATED:20221014T171230Z
LAST-MODIFIED:20230110T065124Z
UID:10008067-1678018500-1678022100@bethemet.org
SUMMARY:Hebrew 1 with Bluma Stoller
DESCRIPTION:For learners with no or limited Hebrew language background. This class focuses on mastery of the Hebrew alphabet in order to read and understand Hebrew words and phrases in the prayer book and modern usage. Hebrew 1 also connects Hebrew vocabulary with Jewish life\, ritual\, tradition\, and Israel. Member fee $220; non-member fee $270 (five-student minimum for this class) \nContact Marci if you are interested or have questions. \nBLUMA STOLLER is a Beth Emet congregant and a graduate of Columbia University and the Jewish Theological Seminary. She was the North American Director of Academic Affairs for Tel Aviv University and was the recipient of Hillel International’s Exemplar of Excellence Award for her commitment to social justice and tikkun olam. She has held leadership positions in major Jewish organizations\, including Project Otzma and the JCRC of Greater Boston.
URL:https://bethemet.org/event/hebrew-1-with-bluma-stoller-2022-10-16/2023-03-05/
CATEGORIES:Adult Programming
END:VEVENT
BEGIN:VEVENT
DTSTART;TZID=America/Chicago:20230305T120000
DTEND;TZID=America/Chicago:20230305T133000
DTSTAMP:20260421T093924
CREATED:20230110T053056Z
LAST-MODIFIED:20230222T201228Z
UID:10009199-1678017600-1678023000@bethemet.org
SUMMARY:BESSY Purim Carnival for All Ages
DESCRIPTION:Celebrate Purim with BESSY this year! Our annual Purim Carnival is our biggest fundraiser of the year. So\, come support Beth Emet’s youth programs and have a great time. There are opportunities for our littlest of littles through our high school seniors. Please reach out to BESSY advisor\, Emma Milner-Gorvine\, with any questions\, concerns\, or just plain excitement. \nLearn More
URL:https://bethemet.org/event/purim-carnival/
CATEGORIES:Beit Sefer,Congregational Programs
END:VEVENT
BEGIN:VEVENT
DTSTART;TZID=America/Chicago:20230305T113000
DTEND;TZID=America/Chicago:20230305T123000
DTSTAMP:20260421T093924
CREATED:20221014T153532Z
LAST-MODIFIED:20221201T204425Z
UID:10009053-1678015800-1678019400@bethemet.org
SUMMARY:Hebrew 3 with Dorit Flatt
DESCRIPTION:Hebrew 3 is for learners able to sound out and print Hebrew words. This class will explore the grammar and vocabulary of modern Hebrew through a variety of reading\, writing\, and speaking activities. \nMember fee $220; non-member fee $270 (five-student minimum for this class) \nContact Marci if you are interested or have questions.
URL:https://bethemet.org/event/hebrew-3-with-dorit-flatt/2023-03-05/
CATEGORIES:Adult Programming
END:VEVENT
BEGIN:VEVENT
DTSTART;TZID=America/Chicago:20230305T103000
DTEND;TZID=America/Chicago:20230305T120000
DTSTAMP:20260421T093924
CREATED:20230222T201409Z
LAST-MODIFIED:20230222T201409Z
UID:10009239-1678012200-1678017600@bethemet.org
SUMMARY:Purim Celebration for Families with Young Children
DESCRIPTION:Come for the Purim shpiel (skit)\, costume parade (kids and adults!)\, lots of singing\, and the famous Purim Carnival! All of this is geared especially for families with kids 5 and under. \nLearn more about the Purim Carnival!
URL:https://bethemet.org/event/purim-celebration-for-families-with-young-children/
CATEGORIES:Young Families
END:VEVENT
END:VCALENDAR