BEGIN:VCALENDAR
VERSION:2.0
PRODID:-//Beth Emet - ECPv6.15.17//NONSGML v1.0//EN
CALSCALE:GREGORIAN
METHOD:PUBLISH
X-ORIGINAL-URL:https://bethemet.org
X-WR-CALDESC:Events for Beth Emet
REFRESH-INTERVAL;VALUE=DURATION:PT1H
X-Robots-Tag:noindex
X-PUBLISHED-TTL:PT1H
BEGIN:VTIMEZONE
TZID:America/Chicago
BEGIN:DAYLIGHT
TZOFFSETFROM:-0600
TZOFFSETTO:-0500
TZNAME:CDT
DTSTART:20210314T080000
END:DAYLIGHT
BEGIN:STANDARD
TZOFFSETFROM:-0500
TZOFFSETTO:-0600
TZNAME:CST
DTSTART:20211107T070000
END:STANDARD
BEGIN:DAYLIGHT
TZOFFSETFROM:-0600
TZOFFSETTO:-0500
TZNAME:CDT
DTSTART:20220313T080000
END:DAYLIGHT
BEGIN:STANDARD
TZOFFSETFROM:-0500
TZOFFSETTO:-0600
TZNAME:CST
DTSTART:20221106T070000
END:STANDARD
BEGIN:DAYLIGHT
TZOFFSETFROM:-0600
TZOFFSETTO:-0500
TZNAME:CDT
DTSTART:20230312T080000
END:DAYLIGHT
BEGIN:STANDARD
TZOFFSETFROM:-0500
TZOFFSETTO:-0600
TZNAME:CST
DTSTART:20231105T070000
END:STANDARD
END:VTIMEZONE
BEGIN:VEVENT
DTSTART;TZID=America/Chicago:20221222T171500
DTEND;TZID=America/Chicago:20221222T181500
DTSTAMP:20260421T034124
CREATED:20221207T233807Z
LAST-MODIFIED:20221222T184957Z
UID:10009143-1671729300-1671732900@bethemet.org
SUMMARY:*Canceled* Beit Sefer Family Social Justice Opportunity
DESCRIPTION:The Beit Sefer Family Social Justice Opportunity has been canceled due to the weather. Have a great winter break! \n\nJoin us on the 5th night of Chanukah\, December 22\, to bring light to others. Beit Sefer students in grades 3-7 will begin classes and Chanukah celebrations at 4:15 pm. \nAt 5:15 pm\, we invite parents to join their kids for this social justice project. We will be decorating holiday cookies and creating holiday cards for our guests at the Emergency Shelter. The Interfaith Action of Evanston’s shelter is run from November through March each year by several houses of worship\, including Beth Emet. Each night\, the shelter provides beds for 25 Evanstonians experiencing homelessness\, both men and women\, opening the doors at 9:00 pm\, with guests leaving at 7:00 am. Beth Emet has been the host site since Sunday\, December 4 and will continue through Sunday\, December 24. \nWhether you are able to participate that day\, all families and congregants can purchase gifts for the clients through the Amazon wishlist. These gifts will be wrapped by Beit Sefer families and given that evening to our clients. Access the wishlist here. \nWe are excited about this opportunity for our Beit Sefer community to display hachnasat orchim\, hospitality\, to our guests and to share our Chanukah light with others.
URL:https://bethemet.org/event/beit-sefer-family-social-justice-opportunity/
CATEGORIES:Beit Sefer,Congregational Programs
END:VEVENT
BEGIN:VEVENT
DTSTART;TZID=America/Chicago:20221222T161500
DTEND;TZID=America/Chicago:20221222T181500
DTSTAMP:20260421T034124
CREATED:20221109T162103Z
LAST-MODIFIED:20221222T184927Z
UID:10009085-1671725700-1671732900@bethemet.org
SUMMARY:*Canceled* Gesher Class (Grade 7)
DESCRIPTION:Gesher has been canceled due to the weather. Have a great winter break!
URL:https://bethemet.org/event/gesher-class-grade-7-2022-12-22/
CATEGORIES:Beit Sefer
END:VEVENT
BEGIN:VEVENT
DTSTART;TZID=America/Chicago:20221222T161500
DTEND;TZID=America/Chicago:20221222T181500
DTSTAMP:20260421T034124
CREATED:20220906T151519Z
LAST-MODIFIED:20221222T184900Z
UID:10009082-1671725700-1671732900@bethemet.org
SUMMARY:*Canceled* Beit Sefer - Grades 3-6
DESCRIPTION:Beit Sefer has been canceled due to the weather. Have a great winter break!
URL:https://bethemet.org/event/beit-sefer-grades-3-6-2022-11-10-2022-12-22/
CATEGORIES:Beit Sefer
END:VEVENT
BEGIN:VEVENT
DTSTART;TZID=America/Chicago:20221222T113000
DTEND;TZID=America/Chicago:20221222T120000
DTSTAMP:20260421T034124
CREATED:20210725T013853Z
LAST-MODIFIED:20230612T151502Z
UID:10006393-1671708600-1671710400@bethemet.org
SUMMARY:Daily Meditation from Institute for Jewish Spirituality
DESCRIPTION:Join Meditation Room
URL:https://bethemet.org/event/daily-meditation-from-institute-for-jewish-spirituality/2022-12-22/
CATEGORIES:Congregational Programs
END:VEVENT
BEGIN:VEVENT
DTSTART;TZID=America/Chicago:20221222T100000
DTEND;TZID=America/Chicago:20221222T110000
DTSTAMP:20260421T034124
CREATED:20220103T173119Z
LAST-MODIFIED:20230530T041340Z
UID:10008296-1671703200-1671706800@bethemet.org
SUMMARY:Qigong with Netiva Caftori
DESCRIPTION:There are so many moving parts in our day to day lives. Our very own Netiva Caftori\, invites us to experience the healing practice of Qigong with her. Qigong is a millennia-old system of coordinated body-posture and movement\, breathing\, and meditation used for the purposes of health and spirituality. Beginners are encouraged to try out this session. \nJoin Here
URL:https://bethemet.org/event/qigong-with-netiva-caftori-7/2022-12-22/
CATEGORIES:Congregational Programs
ATTACH;FMTTYPE=image/jpeg:https://bethemet.org/wp-content/uploads/2021/07/qigong.jpg
END:VEVENT
BEGIN:VEVENT
DTSTART;TZID=America/Chicago:20221221T180000
DTEND;TZID=America/Chicago:20221221T190000
DTSTAMP:20260421T034124
CREATED:20211108T135936Z
LAST-MODIFIED:20220602T010622Z
UID:10007728-1671645600-1671649200@bethemet.org
SUMMARY:Soup Kitchen
DESCRIPTION:
URL:https://bethemet.org/event/soup-kitchen-2022-06-08/2022-12-21/
CATEGORIES:Congregational Programs
ATTACH;FMTTYPE=image/jpeg:https://bethemet.org/wp-content/uploads/2021/11/soup-kitchen.jpg
END:VEVENT
BEGIN:VEVENT
DTSTART;TZID=America/Chicago:20221221T113000
DTEND;TZID=America/Chicago:20221221T120000
DTSTAMP:20260421T034124
CREATED:20210725T013853Z
LAST-MODIFIED:20230612T151502Z
UID:10006392-1671622200-1671624000@bethemet.org
SUMMARY:Daily Meditation from Institute for Jewish Spirituality
DESCRIPTION:Join Meditation Room
URL:https://bethemet.org/event/daily-meditation-from-institute-for-jewish-spirituality/2022-12-21/
CATEGORIES:Congregational Programs
END:VEVENT
BEGIN:VEVENT
DTSTART;TZID=America/Chicago:20221220T193000
DTEND;TZID=America/Chicago:20221220T203000
DTSTAMP:20260421T034124
CREATED:20220920T005122Z
LAST-MODIFIED:20221206T195024Z
UID:10008084-1671564600-1671568200@bethemet.org
SUMMARY:Dayenu Circle Monthly Meeting
DESCRIPTION:Calling on all those concerned about climate change. Come to the next Dayenu Circle zoom meeting. We are fine-tuning our sustainability priorities for the coming year. Among them we will be discussing measures we can take to become a net-zero waste congregation through reducing single-use plastic and increasing composting of our waste. \nFor more information on Dayenu\, contact: Sharon Smaller\, 847-651-0955.
URL:https://bethemet.org/event/dayenu-circle-monthly-meeting-2022-11-22-2022-12-27/
CATEGORIES:Congregational Programs
ATTACH;FMTTYPE=image/png:https://bethemet.org/wp-content/uploads/2022/02/BEDayenu-Circle-logo-720-×-405-px.png
END:VEVENT
BEGIN:VEVENT
DTSTART;TZID=America/Chicago:20221220T113000
DTEND;TZID=America/Chicago:20221220T120000
DTSTAMP:20260421T034124
CREATED:20210725T013853Z
LAST-MODIFIED:20230612T151502Z
UID:10006391-1671535800-1671537600@bethemet.org
SUMMARY:Daily Meditation from Institute for Jewish Spirituality
DESCRIPTION:Join Meditation Room
URL:https://bethemet.org/event/daily-meditation-from-institute-for-jewish-spirituality/2022-12-20/
CATEGORIES:Congregational Programs
END:VEVENT
BEGIN:VEVENT
DTSTART;TZID=America/Chicago:20221220T094500
DTEND;TZID=America/Chicago:20221220T103000
DTSTAMP:20260421T034124
CREATED:20220722T161415Z
LAST-MODIFIED:20220805T205147Z
UID:10007747-1671529500-1671532200@bethemet.org
SUMMARY:Jamberry
DESCRIPTION:Join us for joyful\, collaborative music making with Nicole Jaworski and Jamberry Music! In this class\, you and your little one will bond with each other and make new friends while we sing\, dance\, play\, pretend and experiment with instruments. Class is geared to kids 6 months to 2.5 years old and siblings are welcome to join! Masks for everyone 2+\, and social distancing\, will be expected. \nThis program will take place Aug 16\, 23\, 30\, Sept. 6\, 13\, 20  at Beth Emet The Free Synagogue.\nThe fee per family is $90.00 \nRegister for Jamberry
URL:https://bethemet.org/event/jamberry-5/2022-12-20/
CATEGORIES:Young Families
END:VEVENT
BEGIN:VEVENT
DTSTART;TZID=America/Chicago:20221219T190000
DTEND;TZID=America/Chicago:20221219T210000
DTSTAMP:20260421T034124
CREATED:20221208T221144Z
LAST-MODIFIED:20230620T152413Z
UID:10009145-1671476400-1671483600@bethemet.org
SUMMARY:Board of Trustees Meeting
DESCRIPTION:If you are interested in attending the meeting\, please reach out to Geoff Prass for the password-protected Zoom link. This is done for security purposes.
URL:https://bethemet.org/event/board-of-trustees-meeting/2022-12-19/
CATEGORIES:Congregational Programs
END:VEVENT
BEGIN:VEVENT
DTSTART;TZID=America/Chicago:20221219T113000
DTEND;TZID=America/Chicago:20221219T120000
DTSTAMP:20260421T034124
CREATED:20210725T013853Z
LAST-MODIFIED:20230612T151502Z
UID:10006390-1671449400-1671451200@bethemet.org
SUMMARY:Daily Meditation from Institute for Jewish Spirituality
DESCRIPTION:Join Meditation Room
URL:https://bethemet.org/event/daily-meditation-from-institute-for-jewish-spirituality/2022-12-19/
CATEGORIES:Congregational Programs
END:VEVENT
BEGIN:VEVENT
DTSTART;VALUE=DATE:20221219
DTEND;VALUE=DATE:20221227
DTSTAMP:20260421T034124
CREATED:20220327T224334Z
LAST-MODIFIED:20220327T224334Z
UID:10008429-1671408000-1672099199@bethemet.org
SUMMARY:Chanukah
DESCRIPTION:
URL:https://bethemet.org/event/chanukah/
END:VEVENT
BEGIN:VEVENT
DTSTART;TZID=America/Chicago:20221218T160000
DTEND;TZID=America/Chicago:20221218T170000
DTSTAMP:20260421T034124
CREATED:20221109T232523Z
LAST-MODIFIED:20221206T192403Z
UID:10009134-1671379200-1671382800@bethemet.org
SUMMARY:Beth Emet Synagogue Annual Chanukah Concert for Young Families
DESCRIPTION:Our favorite Chanukah concert is back! Once again\, featuring Cantor Cotler and Aimee Leigh. This is perfect for families with children in Kindergarten and younger. Grandparents are encouraged to attend! Come for the songs\, fun\, and candle lighting\, stay for the holiday gift bags! $10/Family \nBeth Emet Members Register Here \nNon-Members Register Here
URL:https://bethemet.org/event/beth-emet-synagogue-annual-chanukah-concert-for-young-families/
CATEGORIES:Young Families
ATTACH;FMTTYPE=image/png:https://bethemet.org/wp-content/uploads/2022/11/Beth-Emet-Synagogue-Annual-Chanukah-Concert-720-×-405-px.png
END:VEVENT
BEGIN:VEVENT
DTSTART;TZID=America/Chicago:20221218T121500
DTEND;TZID=America/Chicago:20221218T131500
DTSTAMP:20260421T034124
CREATED:20221014T171230Z
LAST-MODIFIED:20230110T065124Z
UID:10008060-1671365700-1671369300@bethemet.org
SUMMARY:Hebrew 1 with Bluma Stoller
DESCRIPTION:For learners with no or limited Hebrew language background. This class focuses on mastery of the Hebrew alphabet in order to read and understand Hebrew words and phrases in the prayer book and modern usage. Hebrew 1 also connects Hebrew vocabulary with Jewish life\, ritual\, tradition\, and Israel. Member fee $220; non-member fee $270 (five-student minimum for this class) \nContact Marci if you are interested or have questions. \nBLUMA STOLLER is a Beth Emet congregant and a graduate of Columbia University and the Jewish Theological Seminary. She was the North American Director of Academic Affairs for Tel Aviv University and was the recipient of Hillel International’s Exemplar of Excellence Award for her commitment to social justice and tikkun olam. She has held leadership positions in major Jewish organizations\, including Project Otzma and the JCRC of Greater Boston.
URL:https://bethemet.org/event/hebrew-1-with-bluma-stoller-2022-10-16/2022-12-18/
CATEGORIES:Adult Programming
END:VEVENT
BEGIN:VEVENT
DTSTART;TZID=America/Chicago:20221218T113000
DTEND;TZID=America/Chicago:20221218T123000
DTSTAMP:20260421T034124
CREATED:20221014T153532Z
LAST-MODIFIED:20221201T204425Z
UID:10009046-1671363000-1671366600@bethemet.org
SUMMARY:Hebrew 3 with Dorit Flatt
DESCRIPTION:Hebrew 3 is for learners able to sound out and print Hebrew words. This class will explore the grammar and vocabulary of modern Hebrew through a variety of reading\, writing\, and speaking activities. \nMember fee $220; non-member fee $270 (five-student minimum for this class) \nContact Marci if you are interested or have questions.
URL:https://bethemet.org/event/hebrew-3-with-dorit-flatt/2022-12-18/
CATEGORIES:Adult Programming
END:VEVENT
BEGIN:VEVENT
DTSTART;TZID=America/Chicago:20221218T113000
DTEND;TZID=America/Chicago:20221218T120000
DTSTAMP:20260421T034124
CREATED:20221206T192102Z
LAST-MODIFIED:20221206T192102Z
UID:10009141-1671363000-1671364800@bethemet.org
SUMMARY:Annual Beit Sefer Chanukah Concert
DESCRIPTION:Our Beit Sefer students will participate in a Chanukah concert featuring Cantor Cotler and Storyteller Marilyn Price. All Beit Sefer parents are encouraged to attend as well.
URL:https://bethemet.org/event/annual-beit-sefer-chanukah-concert/
CATEGORIES:Beit Sefer
END:VEVENT
BEGIN:VEVENT
DTSTART;TZID=America/Chicago:20221218T101500
DTEND;TZID=America/Chicago:20221218T114500
DTSTAMP:20260421T034124
CREATED:20230831T204710Z
LAST-MODIFIED:20230831T204710Z
UID:10008762-1671358500-1671363900@bethemet.org
SUMMARY:Hebrew 1 with Bluma Stoller
DESCRIPTION:Hebrew 1 is for learners with no or limited Hebrew language background. This class focuses on mastery of the Hebrew alphabet in order to read and understand Hebrew words and phrases in the prayer book and modern usage. Hebrew 1 also connects Hebrew vocabulary with Jewish life\, ritual\, tradition\, and Israel. \nThis class will begin remotely\, through Zoom\, and continue in person as conditions permit. \nMember fee $220; non-member fee $270\n(five-student minimum for this class; Scholarships are available) \nNon-Member Register Here \nMember Register Here \nBLUMA STOLLER is a Beth Emet congregant and a graduate of Columbia University and the Jewish Theological Seminary. She was the North American Director of Academic Affairs for Tel Aviv University and was the recipient of Hillel International’s Exemplar of Excellence Award for her commitment to social justice and tikkun olam. She has held leadership positions in major Jewish organizations including the Boards of Combined Jewish Philanthropies\, the JCRC of Greater Boston\, and Project Otzma.
URL:https://bethemet.org/event/hebrew-1-with-bluma-stoller-2/2022-12-18/
CATEGORIES:Adult Programming
END:VEVENT
BEGIN:VEVENT
DTSTART;TZID=America/Chicago:20221218T093000
DTEND;TZID=America/Chicago:20221218T120000
DTSTAMP:20260421T034124
CREATED:20220906T151250Z
LAST-MODIFIED:20230111T203052Z
UID:10008842-1671355800-1671364800@bethemet.org
SUMMARY:Beit Sefer
DESCRIPTION:
URL:https://bethemet.org/event/beit-sefer-first-day/2022-12-18/
CATEGORIES:Beit Sefer
END:VEVENT
BEGIN:VEVENT
DTSTART;TZID=America/Chicago:20221218T093000
DTEND;TZID=America/Chicago:20221218T110000
DTSTAMP:20260421T034124
CREATED:20220808T184046Z
LAST-MODIFIED:20220811T174012Z
UID:10008702-1671355800-1671361200@bethemet.org
SUMMARY:Gan Yom Rishon
DESCRIPTION:Gan Yom Rishon is an interactive class for children ages 3-5\, with a parent/caregiver\, that meets on Sunday mornings in-person at Beth Emet. Each week we’ll experience Judaism through music\, art\, cooking\, and stories. Gan Yom Rishon is also open to non-members. \nNon-Members Register Here \nMembers Register Here \nClass Dates: \nSeptember 18\nOctober 2\, 9\, 16\, 23\nNovember 6\, 13\, 20\nDecember 4\, 11\, 18\nJanuary 15\, 22\nFebruary 5\, 12\, 26\nMarch 12\, 19\, 26\nApril 16\, 23\, 30\nMay 7\, 14\, 21
URL:https://bethemet.org/event/gan-yom-rishon/2022-12-18/
CATEGORIES:Young Families
ATTACH;FMTTYPE=image/png:https://bethemet.org/wp-content/uploads/2022/08/GYR-2022-2023-1.png
END:VEVENT
BEGIN:VEVENT
DTSTART;TZID=America/Chicago:20221218T093000
DTEND;TZID=America/Chicago:20221218T102000
DTSTAMP:20260421T034124
CREATED:20221031T152156Z
LAST-MODIFIED:20221031T152759Z
UID:10009072-1671355800-1671358800@bethemet.org
SUMMARY:Sunday Morning Moves with Nichola Goss
DESCRIPTION:Looking for motivation to move your body and soul as well as connection to community? This combo cardio/ stretch class is offered while kids are in Beit Sefer. You will work our inner strength while stretching your entire body. Bring a yoga or exercise mat and your desire to move. All bodies and mindsets are welcome. \nCome experience camaraderie and gain flexibility! $10/session \nMembers Register Here \nNon-Members Register Here \nNICHOLA GOSS\, BFA from the University of Texas at Austin and is certified in PBT\, Pilates Matt\, and Ace. Nichola has been accumulating exercise techniques from Ballet to exercise science for the last 30 years. She has taught dance and movement in venues throughout our community\, including Beth Emet.
URL:https://bethemet.org/event/sunday-morning-moves-with-nichola-goss/2022-12-18/
CATEGORIES:Adult Programming
ATTACH;FMTTYPE=image/png:https://bethemet.org/wp-content/uploads/2022/10/Nichola-Goss.png
END:VEVENT
BEGIN:VEVENT
DTSTART;TZID=America/Chicago:20221218T090000
DTEND;TZID=America/Chicago:20221218T100000
DTSTAMP:20260421T034124
CREATED:20211108T135747Z
LAST-MODIFIED:20230110T064535Z
UID:10007864-1671354000-1671357600@bethemet.org
SUMMARY:Sunday Morning Minyan
DESCRIPTION:Join us on Sundays to daven (pray) the weekday Shacharit (morning) service! We are returning to the building! First-timers are encouraged! Please note\, we will continue to Zoom as well for virtual participation. \nThe Minyan offers an intimate opportunity to pray with the Beth Emet community. The service explores our ritual\, liturgical\, and musical traditions in a welcoming setting for people new to prayer while providing a deeper connection for people with more experience. \nParticipants are encouraged to wear a tallit and tefillin. \n 
URL:https://bethemet.org/event/sunday-morning-minyan-2022-03-13-2022-03-27-2022-07-03-2022-10-30-2022-11-06/2022-12-18/
CATEGORIES:Worship
ATTACH;FMTTYPE=image/png:https://bethemet.org/wp-content/uploads/2021/11/Morning-Minyan-website.png
END:VEVENT
BEGIN:VEVENT
DTSTART;VALUE=DATE:20221218
DTEND;VALUE=DATE:20221219
DTSTAMP:20260421T034124
CREATED:20220327T224256Z
LAST-MODIFIED:20220327T224256Z
UID:10008428-1671321600-1671407999@bethemet.org
SUMMARY:Chanukah Begins
DESCRIPTION:
URL:https://bethemet.org/event/chanukah-begins/
END:VEVENT
BEGIN:VEVENT
DTSTART;TZID=America/Chicago:20221217T093000
DTEND;TZID=America/Chicago:20221217T113000
DTSTAMP:20260421T034124
CREATED:20210725T013907Z
LAST-MODIFIED:20230706T204935Z
UID:10007055-1671269400-1671276600@bethemet.org
SUMMARY:Kahal Shabbat Morning Services
DESCRIPTION:Whether in-person or online participate in worship by signing up for an honor via the online honor form. Masks are no longer required and are encouraged. \nPh: 312-626-6799- Meeting ID: 813 2237 5514 / Passcode: 1224 \n 
URL:https://bethemet.org/event/kahal-shabbat-morning-services-2022-03-19-2022-06-11-2022-07-23-2022-10-08/2022-12-17/
CATEGORIES:Worship
END:VEVENT
BEGIN:VEVENT
DTSTART;TZID=America/Chicago:20221216T183000
DTEND;TZID=America/Chicago:20221216T200000
DTSTAMP:20260421T034124
CREATED:20211108T140157Z
LAST-MODIFIED:20230706T213130Z
UID:10008488-1671215400-1671220800@bethemet.org
SUMMARY:Kabbalat Shabbat Services
DESCRIPTION:Welcome Shabbat whether in the Sanctuary or online! Masks are no longer required and are encouraged. There will be a masks-required section for those that feel more comfortable in the Sanctuary. \nTo listen to the service dial 847-869-4230 and press 7 \n 
URL:https://bethemet.org/event/kabbalat-shabbat-services-2/2022-12-16/
CATEGORIES:Worship
END:VEVENT
BEGIN:VEVENT
DTSTART;TZID=America/Chicago:20221216T113000
DTEND;TZID=America/Chicago:20221216T120000
DTSTAMP:20260421T034124
CREATED:20210725T013853Z
LAST-MODIFIED:20230612T151502Z
UID:10006389-1671190200-1671192000@bethemet.org
SUMMARY:Daily Meditation from Institute for Jewish Spirituality
DESCRIPTION:Join Meditation Room
URL:https://bethemet.org/event/daily-meditation-from-institute-for-jewish-spirituality/2022-12-16/
CATEGORIES:Congregational Programs
END:VEVENT
BEGIN:VEVENT
DTSTART;TZID=America/Chicago:20221216T093000
DTEND;TZID=America/Chicago:20221216T103500
DTSTAMP:20260421T034124
CREATED:20220829T002747Z
LAST-MODIFIED:20230831T203506Z
UID:10007823-1671183000-1671186900@bethemet.org
SUMMARY:A Close Look at Torah with Rabbi Andrea London
DESCRIPTION:There are many ways to interpret Torah and its nuances of meaning that are often overlooked. We will continue our learning from last year\, reading and interpreting the text of the Book of Deuteronomy line by line. New learners are always welcome. \nNo Fee for members; non-member fee is $120. \nNon-Members Register Here \nMembers Register Here
URL:https://bethemet.org/event/a-close-look-at-torah-with-rabbi-andrea-london/2022-12-16/
CATEGORIES:Adult Programming
ATTACH;FMTTYPE=image/jpeg:https://bethemet.org/wp-content/uploads/2021/07/rabbi-london-headshot.jpg
END:VEVENT
BEGIN:VEVENT
DTSTART;TZID=America/Chicago:20221215T191500
DTEND;TZID=America/Chicago:20221215T203000
DTSTAMP:20260421T034124
CREATED:20220829T002546Z
LAST-MODIFIED:20230607T194400Z
UID:10008821-1671131700-1671136200@bethemet.org
SUMMARY:Conversations to Nourish Our Souls with Marci Dickman
DESCRIPTION:Not sure how to connect to the Mystery or the Divine in the world? Perhaps you are seeking an honest conversation about making meaning in life and what really matters. Maybe you know what you do not believe but are still hungry or wanting something more spiritual. We will use the prayerbook\, poetry\, prose\, and ourselves as our texts\, aiming to deepen our connections and discern meaningful paths in our daily lives. Our tools will include mindfulness practices\, journaling\, questioning\, and conversation. \nNo fee \nNon-Members Register Here \nMembers Register Here
URL:https://bethemet.org/event/conversations-to-nourish-our-souls-with-marci-dickman/2022-12-15/
CATEGORIES:Adult Programming
ATTACH;FMTTYPE=image/png:https://bethemet.org/wp-content/uploads/2022/08/Nourish_the_soul_2022.png
END:VEVENT
BEGIN:VEVENT
DTSTART;TZID=America/Chicago:20221215T161500
DTEND;TZID=America/Chicago:20221215T181500
DTSTAMP:20260421T034124
CREATED:20221109T162103Z
LAST-MODIFIED:20221109T162103Z
UID:10009098-1671120900-1671128100@bethemet.org
SUMMARY:Gesher Class (Grade 7)
DESCRIPTION:Gesher students learn to identify Jewish values in their lives and to use those values as they make choices. You can see the full list of dates and classes at this link.
URL:https://bethemet.org/event/gesher-class-grade-7/2022-12-15/
CATEGORIES:Beit Sefer
END:VEVENT
BEGIN:VEVENT
DTSTART;TZID=America/Chicago:20221215T161500
DTEND;TZID=America/Chicago:20221215T181500
DTSTAMP:20260421T034124
CREATED:20220906T151519Z
LAST-MODIFIED:20230110T062539Z
UID:10008872-1671120900-1671128100@bethemet.org
SUMMARY:Beit Sefer - Grades 3-6
DESCRIPTION:
URL:https://bethemet.org/event/beit-sefer-grades-3-6-2022-11-10/2022-12-15/
CATEGORIES:Beit Sefer
END:VEVENT
END:VCALENDAR