BEGIN:VCALENDAR
VERSION:2.0
PRODID:-//Beth Emet - ECPv6.15.17//NONSGML v1.0//EN
CALSCALE:GREGORIAN
METHOD:PUBLISH
X-ORIGINAL-URL:https://bethemet.org
X-WR-CALDESC:Events for Beth Emet
REFRESH-INTERVAL;VALUE=DURATION:PT1H
X-Robots-Tag:noindex
X-PUBLISHED-TTL:PT1H
BEGIN:VTIMEZONE
TZID:America/Chicago
BEGIN:DAYLIGHT
TZOFFSETFROM:-0600
TZOFFSETTO:-0500
TZNAME:CDT
DTSTART:20230312T080000
END:DAYLIGHT
BEGIN:STANDARD
TZOFFSETFROM:-0500
TZOFFSETTO:-0600
TZNAME:CST
DTSTART:20231105T070000
END:STANDARD
BEGIN:DAYLIGHT
TZOFFSETFROM:-0600
TZOFFSETTO:-0500
TZNAME:CDT
DTSTART:20240310T080000
END:DAYLIGHT
BEGIN:STANDARD
TZOFFSETFROM:-0500
TZOFFSETTO:-0600
TZNAME:CST
DTSTART:20241103T070000
END:STANDARD
BEGIN:DAYLIGHT
TZOFFSETFROM:-0600
TZOFFSETTO:-0500
TZNAME:CDT
DTSTART:20250309T080000
END:DAYLIGHT
BEGIN:STANDARD
TZOFFSETFROM:-0500
TZOFFSETTO:-0600
TZNAME:CST
DTSTART:20251102T070000
END:STANDARD
END:VTIMEZONE
BEGIN:VEVENT
DTSTART;TZID=America/Chicago:20240408T190000
DTEND;TZID=America/Chicago:20240408T203000
DTSTAMP:20260421T232010
CREATED:20240403T031454Z
LAST-MODIFIED:20240403T031734Z
UID:10012077-1712602800-1712608200@bethemet.org
SUMMARY:Social Justice Task Force at Bundled Blessings
DESCRIPTION:Register / Info / Note: No meeting at Beth Emet \nThis month’s social justice gathering will focus on action by volunteering at Bundled Blessings\, an organization that makes monthly distributions of diapers to local service agencies and has drop-off barrels throughout the area\, including a recent drive at Beth Emet. The evening will include an update on Bundled Blessings\, and then we will need lots of arms to help with the packing and bundling. Learn more and register to ensure we can plan accordingly. \nif you are interested in being added to the social justice mailing list\, contact Bekki Kaplan.
URL:https://bethemet.org/event/social-justice-task-force-6/
LOCATION:First United Methodist Church\, 516 Church St\, Evanston\, IL\, 60201\, United States
CATEGORIES:Congregational Programs
ATTACH;FMTTYPE=image/png:https://bethemet.org/wp-content/uploads/2024/04/Bundled-Blessing.png
END:VEVENT
BEGIN:VEVENT
DTSTART;TZID=America/Chicago:20240408T190000
DTEND;TZID=America/Chicago:20240408T200000
DTSTAMP:20260421T232010
CREATED:20231012T182030Z
LAST-MODIFIED:20240424T154750Z
UID:10012500-1712602800-1712606400@bethemet.org
SUMMARY:Shiur B'Internet
DESCRIPTION:Please email Melinda if you are interested in learning more.
URL:https://bethemet.org/event/shiur-binternet/2024-04-08/
CATEGORIES:Beit Sefer
END:VEVENT
BEGIN:VEVENT
DTSTART;TZID=America/Chicago:20240408T170000
DTEND;TZID=America/Chicago:20240408T181500
DTSTAMP:20260421T232010
CREATED:20230926T185458Z
LAST-MODIFIED:20240205T175308Z
UID:10012384-1712595600-1712600100@bethemet.org
SUMMARY:Jewish Cooking: A Family Affair with Jessica Amend
DESCRIPTION:If you or someone in your family are interested in building cooking and Jewish knowledge\, this class is for you! Bring Judaism’s mitzvot of haknasat orchim (welcoming guests) to life in the comfort of your own kitchen with other Beth Emet families with this new virtual series. \nSessions will be held to coincide with the Jewish holidays. Register for one session or the whole series. Reach out to Jessica to register. Open to families with children ages 4 and above. Fee per session: $18
URL:https://bethemet.org/event/jewish-cooking-a-family-affair-with-jessica-amend/2024-04-08/
CATEGORIES:Beit Sefer,Congregational Programs,Young Families,Youth
END:VEVENT
BEGIN:VEVENT
DTSTART;TZID=America/Chicago:20240407T120000
DTEND;TZID=America/Chicago:20240407T130000
DTSTAMP:20260421T232010
CREATED:20231013T142927Z
LAST-MODIFIED:20231013T192429Z
UID:10012583-1712491200-1712494800@bethemet.org
SUMMARY:Hebrew 2 with Bluma
DESCRIPTION:Hebrew 2 is for learners seeking more meaningful participation at services. This class provides opportunities to improve your Hebrew reading fluency while exploring the structure\, themes\, and key Hebrew vocabulary of the Shabbat morning worship service and its individual prayers. Hebrew 2 also includes basic elements of Hebrew grammar. \nMember fee $250; non-member fee $300 (five-student minimum for this class) \nInterested? Contact Marci Dickman
URL:https://bethemet.org/event/hebrew-2-with-bluma/2024-04-07/
CATEGORIES:Adult Programming
END:VEVENT
BEGIN:VEVENT
DTSTART;TZID=America/Chicago:20240407T110000
DTEND;TZID=America/Chicago:20240407T120000
DTSTAMP:20260421T232010
CREATED:20230831T205710Z
LAST-MODIFIED:20231013T184616Z
UID:10011991-1712487600-1712491200@bethemet.org
SUMMARY:Hebrew 3 with Dorit Flatt
DESCRIPTION:Hebrew 3 is for learners able to sound out and print Hebrew words. This class will explore the grammar and vocabulary of modern Hebrew through a variety of reading\, writing\, and speaking activities. \nMember fee $250; non-member fee $300.\n(five-student minimum for this class\, scholarships are available) \nNon-Members Register Here \nMembers Register Here \nDORIT FLATT is the daughter of Holocaust survivors and grew up in Tel-Aviv\, Israel. After completing her IDF service in the paratrooper unit\, she studied elementary education at Seminar Levinsky in Tel-Aviv. She holds a BA in Psychology from the University of Michigan\, and taught Hebrew language\, literature\, and religious studies in Michigan for twenty-five years. 
URL:https://bethemet.org/event/hebrew-3-with-dorit-flatt-2/2024-04-07/
CATEGORIES:Adult Programming
END:VEVENT
BEGIN:VEVENT
DTSTART;TZID=America/Chicago:20240407T103000
DTEND;TZID=America/Chicago:20240407T120000
DTSTAMP:20260421T232010
CREATED:20240207T222846Z
LAST-MODIFIED:20240321T214542Z
UID:10013691-1712485800-1712491200@bethemet.org
SUMMARY:Community Potluck Brunch
DESCRIPTION:Share a bit of nosh for the potluck\, enjoy a mimosa/bubbly drink\, and meet up with new/old friends\, with fun badges and signs to spark connections. It’ll be a Sunday simcha – good food\, good company\, and good times. Register here.
URL:https://bethemet.org/event/community-potluck-brunch/
CATEGORIES:Adult Programming
ATTACH;FMTTYPE=image/jpeg:https://bethemet.org/wp-content/uploads/2024/02/bagels.jpg
END:VEVENT
BEGIN:VEVENT
DTSTART;TZID=America/Chicago:20240407T103000
DTEND;TZID=America/Chicago:20240407T120000
DTSTAMP:20260421T232010
CREATED:20231023T215611Z
LAST-MODIFIED:20240205T183713Z
UID:10013005-1712485800-1712491200@bethemet.org
SUMMARY:Mitzvah Corps
DESCRIPTION:
URL:https://bethemet.org/event/mitzvah-corps-13/2024-04-07/
CATEGORIES:Beit Sefer,Youth
END:VEVENT
BEGIN:VEVENT
DTSTART;TZID=America/Chicago:20240407T103000
DTEND;TZID=America/Chicago:20240407T120000
DTSTAMP:20260421T232010
CREATED:20231013T180106Z
LAST-MODIFIED:20231210T173838Z
UID:10012635-1712485800-1712491200@bethemet.org
SUMMARY:Gesher
DESCRIPTION:
URL:https://bethemet.org/event/gesher-16/2024-04-07/
CATEGORIES:Beit Sefer
END:VEVENT
BEGIN:VEVENT
DTSTART;TZID=America/Chicago:20240407T093000
DTEND;TZID=America/Chicago:20240407T120000
DTSTAMP:20260421T232010
CREATED:20231023T211319Z
LAST-MODIFIED:20231023T212222Z
UID:10012971-1712482200-1712491200@bethemet.org
SUMMARY:Beit Sefer
DESCRIPTION:
URL:https://bethemet.org/event/beit-sefer-35/2024-04-07/
CATEGORIES:Beit Sefer,Youth
END:VEVENT
BEGIN:VEVENT
DTSTART;TZID=America/Chicago:20240407T090000
DTEND;TZID=America/Chicago:20240407T100000
DTSTAMP:20260421T232010
CREATED:20240403T144356Z
LAST-MODIFIED:20240403T144358Z
UID:10012140-1712480400-1712484000@bethemet.org
SUMMARY:Sunday Morning Minyan
DESCRIPTION:The Sunday Morning Minyan meets in the Beit Midrash at Beth Emet. \nJoin us on Sundays to daven (pray) the weekday Shacharit (morning) service!  First-timers are encouraged! Please note\, we will continue to Zoom as well for virtual participation. \nThe Minyan offers an intimate opportunity to pray with the Beth Emet community. The service explores our ritual\, liturgical\, and musical traditions in a welcoming setting for people new to prayer while providing a deeper connection for people with more experience. \nParticipants are encouraged to wear a tallit and tefillin. \n 
URL:https://bethemet.org/event/sunday-morning-minyan-2022-03-13-2022-03-27-2022-07-03-2022-10-30-2022-11-06-2023-03-12-2023-05-28-2-2-8/
CATEGORIES:Worship
ATTACH;FMTTYPE=image/png:https://bethemet.org/wp-content/uploads/2021/11/Sunday-Morning-Minyan.png
END:VEVENT
BEGIN:VEVENT
DTSTART;TZID=America/Chicago:20240407T090000
DTEND;TZID=America/Chicago:20240407T100000
DTSTAMP:20260421T232010
CREATED:20230926T160224Z
LAST-MODIFIED:20231004T181257Z
UID:10012143-1712480400-1712484000@bethemet.org
SUMMARY:Sunday Morning Minyan
DESCRIPTION:The Sunday Morning Minyan meets in the Beit Midrash at Beth Emet. \nJoin us on Sundays to daven (pray) the weekday Shacharit (morning) service!  First-timers are encouraged! Please note\, we will continue to Zoom as well for virtual participation. \nThe Minyan offers an intimate opportunity to pray with the Beth Emet community. The service explores our ritual\, liturgical\, and musical traditions in a welcoming setting for people new to prayer while providing a deeper connection for people with more experience. \nParticipants are encouraged to wear a tallit and tefillin. \n 
URL:https://bethemet.org/event/sunday-morning-minyan-2022-03-13-2022-03-27-2022-07-03-2022-10-30-2022-11-06-2023-03-12-2023-05-28-2-2/2024-04-07/
CATEGORIES:Worship
ATTACH;FMTTYPE=image/png:https://bethemet.org/wp-content/uploads/2021/11/Sunday-Morning-Minyan.png
END:VEVENT
BEGIN:VEVENT
DTSTART;TZID=America/Chicago:20240406T120000
DTEND;TZID=America/Chicago:20240406T130000
DTSTAMP:20260421T232010
CREATED:20230928T181150Z
LAST-MODIFIED:20251204T002009Z
UID:10010453-1712404800-1712408400@bethemet.org
SUMMARY:Kahal Potluck Lunch
DESCRIPTION:If you are able to attend on Saturday morning\, please consider bringing a vegetarian\, nut-free dish or lunch item for all to enjoy. The potluck will take place in the Sanctuary and on LiveControl. Please also take a moment to jot down a list of ingredients that can be displayed with your dish for the benefit of those with food allergies. \nInstead of a potluck item\, feel free to donate to help offset the cost of purchasing food.
URL:https://bethemet.org/event/kahal-potluck-luncheon-2-3/2024-04-06/
CATEGORIES:Congregational Programs
END:VEVENT
BEGIN:VEVENT
DTSTART;TZID=America/Chicago:20240406T093000
DTEND;TZID=America/Chicago:20240406T113000
DTSTAMP:20260421T232010
CREATED:20240313T171044Z
LAST-MODIFIED:20240809T174343Z
UID:10007944-1712395800-1712403000@bethemet.org
SUMMARY:Kahal Shabbat Morning Services
DESCRIPTION:Whether in-person or online participate in worship by signing up for an honor via the online honor form. \n 
URL:https://bethemet.org/event/kahal-shabbat-morning-services-2022-03-19-2022-06-11-2022-07-23-2022-10-08-2022-12-24-2023-05-27-3-4/2024-04-06/
CATEGORIES:Worship
END:VEVENT
BEGIN:VEVENT
DTSTART;TZID=America/Chicago:20240405T194500
DTEND;TZID=America/Chicago:20240405T201500
DTSTAMP:20260421T232010
CREATED:20240308T133206Z
LAST-MODIFIED:20240308T133206Z
UID:10015433-1712346300-1712348100@bethemet.org
SUMMARY:Oneg Shabbat (Desserts & Fruit)
DESCRIPTION:Continue the joy of Shabbat with a few sweets and conversation following services.
URL:https://bethemet.org/event/oneg-shabbat-desserts-fruit/2024-04-05/
CATEGORIES:Congregational Programs
END:VEVENT
BEGIN:VEVENT
DTSTART;TZID=America/Chicago:20240405T183000
DTEND;TZID=America/Chicago:20240405T200000
DTSTAMP:20260421T232010
CREATED:20240206T153813Z
LAST-MODIFIED:20240403T035240Z
UID:10013221-1712341800-1712347200@bethemet.org
SUMMARY:Soul Spark Shabbat Service; Honoring Incoming and Outgoing Officers and Board of Trustees; Celebrating All Our April Birthdays
DESCRIPTION:Join our clergy\, musicians\, and singers for a unique Shabbat experience filled with soul-stirring music and contemplative meditations and teachings. Follow along with the online prayers during the service. Note that the service will not be projected or shared as we do for other Friday night services. Please refer to the link to access the services. During services we will be honoring the outgoing and incoming officers and Board of Trustees\, and you can click here for a listing of the incoming Officers and Board of Trustees. Check out those who will be celebrating April birthdays! \nTo listen to the service dial 847-869-4230 and press 7.
URL:https://bethemet.org/event/kabbalat-shabbat-service-5-6/
CATEGORIES:Worship
ATTACH;FMTTYPE=image/png:https://bethemet.org/wp-content/uploads/2021/11/Soul-Spark-Shabbat-for-Web.png
END:VEVENT
BEGIN:VEVENT
DTSTART;TZID=America/Chicago:20240405T174500
DTEND;TZID=America/Chicago:20240405T183000
DTSTAMP:20260421T232010
CREATED:20240319T212407Z
LAST-MODIFIED:20240403T040824Z
UID:10013833-1712339100-1712341800@bethemet.org
SUMMARY:Oneg Shabbat Sponsored by the Weiss Family in Memory of Stanley Weiss on His First Yahrzeit
DESCRIPTION:An Oneg Shabbat before services is such a wonderful way in which to welcome Shabbat together as a community. Consider sponsoring an Oneg to honor a special occasion or remember a loved one… or just because you want to sponsor an Oneg. You can either make/bake your own or sponsor a catered Oneg. For more information\, contact Bekki.
URL:https://bethemet.org/event/oneg-shabbat-sponsored-by-the-weiss-family-in-memory-of-stanley-weiss-on-his-first-yahrzeit/
CATEGORIES:Congregational Programs
END:VEVENT
BEGIN:VEVENT
DTSTART;TZID=America/Chicago:20240405T110000
DTEND;TZID=America/Chicago:20240405T121500
DTSTAMP:20260421T232010
CREATED:20240403T040100Z
LAST-MODIFIED:20240403T040202Z
UID:10013739-1712314800-1712319300@bethemet.org
SUMMARY:What is Antisemitism? With David Shyovitz
DESCRIPTION:In modern political discourse\, “Antisemitism” is frequently invoked and infrequently defined. The imprecision with which the term is deployed leads to broad disagreements about the nature and scope of the phenomenon. Is anti-Semitism a form of racism? Of xenophobia? Of anti-religious animus\, akin to Islamophobia? Is it a conspiracy theory? Does antisemitism assume that Jews constitute a religion? A nationality? An ethnicity? A “race”? One reason these questions are so hotly contested is because they are usually discussed historically\, in isolation from the extensive academic scholarship on the origins and development of antisemitism—both the actual phenomenon and the descriptive term itself. In our sessions\, we will explore several historical case studies of anti-Jewish rhetoric\, violence\, and discrimination from antiquity through the present\, paying particular attention to the analytical concepts that historians have developed and deployed—including\, but not limited to anti-Semitism\, antisemitism\, anti-Judaism\, and Judeophobia. \n* This is a two part class that occurs on April 5 and April 12 \nMembers Register Here \nNon-Member Register Here \nDAVID SHYOVITZ (PhD University of Pennsylvania) is Associate Professor of History at Northwestern University\, and Director of NU’s Crown Family Center for Jewish and Israel Studies. He is the author of A Remembrance of His Wonders: Nature and the Supernatural in Medieval Ashkenaz (2017)\, and has lectured widely throughout the United States\, Israel\, and Europe
URL:https://bethemet.org/event/what-is-antisemitism-with-david-shyovitz-2/
CATEGORIES:Adult Programming,Congregational Programs
ATTACH;FMTTYPE=image/jpeg:https://bethemet.org/wp-content/uploads/2024/03/David-Shyovitz.jpeg
END:VEVENT
BEGIN:VEVENT
DTSTART;TZID=America/Chicago:20240405T093000
DTEND;TZID=America/Chicago:20240405T104500
DTSTAMP:20260421T232010
CREATED:20240404T183746Z
LAST-MODIFIED:20240404T184315Z
UID:10013848-1712309400-1712313900@bethemet.org
SUMMARY:A Close Look at Torah with Rabbi Andrea London
DESCRIPTION:There are many ways to interpret Torah and its nuances of meaning that are often overlooked. We will continue our learning from last year\, reading and interpreting the text of the Book of Deuteronomy line by line. New learners are always welcome. \n  \n 
URL:https://bethemet.org/event/a-close-look-at-torah-with-rabbi-andrea-london-3/
CATEGORIES:Congregational Programs
END:VEVENT
BEGIN:VEVENT
DTSTART;TZID=America/Chicago:20240404T191500
DTEND;TZID=America/Chicago:20240404T203000
DTSTAMP:20260421T232010
CREATED:20240229T223421Z
LAST-MODIFIED:20240403T040331Z
UID:10013738-1712258100-1712262600@bethemet.org
SUMMARY:Kol Haneshamah Music Connections with Cantor Natalie Young
DESCRIPTION:Join Cantor Young in the exploration of our sacred texts through music and art. Learn about the evolution of Jewish music and the creative expression of our identity and experiences. \nMembers Register Here \nNon-Members Register Here
URL:https://bethemet.org/event/kol-haneshamah-music-connections/
CATEGORIES:Adult Programming,Congregational Programs
END:VEVENT
BEGIN:VEVENT
DTSTART;TZID=America/Chicago:20240404T161500
DTEND;TZID=America/Chicago:20240404T181500
DTSTAMP:20260421T232010
CREATED:20231023T205240Z
LAST-MODIFIED:20231023T212123Z
UID:10012948-1712247300-1712254500@bethemet.org
SUMMARY:Beit Sefer
DESCRIPTION:
URL:https://bethemet.org/event/beit-sefer-2/2024-04-04/
CATEGORIES:Beit Sefer,Youth
END:VEVENT
BEGIN:VEVENT
DTSTART;TZID=America/Chicago:20240404T161500
DTEND;TZID=America/Chicago:20240404T181500
DTSTAMP:20260421T232010
CREATED:20231013T175345Z
LAST-MODIFIED:20231210T173358Z
UID:10012610-1712247300-1712254500@bethemet.org
SUMMARY:Gesher
DESCRIPTION:
URL:https://bethemet.org/event/gesher-14/2024-04-04/
CATEGORIES:Beit Sefer
END:VEVENT
BEGIN:VEVENT
DTSTART;TZID=America/Chicago:20240404T100000
DTEND;TZID=America/Chicago:20240404T110000
DTSTAMP:20260421T232010
CREATED:20231026T183645Z
LAST-MODIFIED:20231026T183646Z
UID:10013057-1712224800-1712228400@bethemet.org
SUMMARY:Hebrew 1 with Nancy Fink
DESCRIPTION:Can you open a Siddur and participate in the Synagogue service? Do you want to read the prayers in Hebrew? For learners with no or limited Hebrew language background. This class focuses on mastery of the hebrew alphabet in order to read and understand Hebrew words and phrases in the prayer book and modern usage. Hebrew 1 also connects Hebrew vocabulary with Jewish life\, ritual\, tradition\, and Israel. \nMember fee $250; non-member fee $300\n(five-student minimum for this class; Scholarships are available) \nNon-Members Register Here \nMembers Register Here \nNANCY FINK is a Beth Emet congregant who abandoned a budding career as an urban planner to pursue her love of all things Jewish\, especially Hebrew. She has worked at Beth Emet’s school community since 1983 as a teacher\, mentor\, administrator\, and is currently the Assistant Principal of Beit Sefer\, the K-6 school.
URL:https://bethemet.org/event/hebrew-1-with-bluma-stoller-3-2/2024-04-04/
CATEGORIES:Adult Programming
END:VEVENT
BEGIN:VEVENT
DTSTART;TZID=America/Chicago:20240403T180000
DTEND;TZID=America/Chicago:20240403T190000
DTSTAMP:20260421T232010
CREATED:20211108T135936Z
LAST-MODIFIED:20230914T185950Z
UID:10007572-1712167200-1712170800@bethemet.org
SUMMARY:Soup Kitchen
DESCRIPTION:
URL:https://bethemet.org/event/soup-kitchen-2022-06-08-2022-12-28/2024-04-03/
CATEGORIES:Congregational Programs
ATTACH;FMTTYPE=image/jpeg:https://bethemet.org/wp-content/uploads/2021/11/soup-kitchen.jpg
END:VEVENT
BEGIN:VEVENT
DTSTART;TZID=America/Chicago:20240402T193000
DTEND;TZID=America/Chicago:20240402T210000
DTSTAMP:20260421T232010
CREATED:20240321T170546Z
LAST-MODIFIED:20240329T163310Z
UID:10013835-1712086200-1712091600@bethemet.org
SUMMARY:Jews and Palestinians of Israel United for Peace\, Justice and Equality with Itamar Avneri and Rula Daood
DESCRIPTION:Standing Together is a progressive grassroots movement\, organizing Jewish and Palestinian citizens of Israel against the occupation\, and for equality\, peace\, and social justice for over eight years. Hear from Standing Together leaders\, Itamar Avneri and Rula Daood\, as they discuss how their movement is leading the fight on the ground for a ceasefire and hostage deal. Rula is the National co-Director of Standing Together and is a Palestinian citizen living in Israel. Itamar is a social\, peace and anti-occupational activist. Learn more on their website. \nLake Street Church (607 Lake Street; Evanston) \n 
URL:https://bethemet.org/event/jews-and-palestinians-of-israel-united-for-peace-justice-and-equality-with-itamar-avneri-and-rula-daood/
CATEGORIES:Adult Programming
ATTACH;FMTTYPE=image/png:https://bethemet.org/wp-content/uploads/2024/03/Rula-Daood-_2_.png
END:VEVENT
BEGIN:VEVENT
DTSTART;TZID=America/Chicago:20240402T190000
DTEND;TZID=America/Chicago:20240402T200000
DTSTAMP:20260421T232010
CREATED:20240129T162035Z
LAST-MODIFIED:20240502T154051Z
UID:10010391-1712084400-1712088000@bethemet.org
SUMMARY:Soul Stitchers- Virtual Knitting Circle
DESCRIPTION:Know how to knit and/or crochet? As a tribute to Nikki Zarefsky z”l\, join us for an hour (on zoom) of knitting and connecting as we create shawls to warm people during services and/or healing shawls that will bring warmth to those in need in a hospital\, home or other settings. Newcomers are welcome and encouraged to join! Please send us an email with any questions.
URL:https://bethemet.org/event/soul-stitchers-virtual-knitting-circle-8-2022-12-06-2023-02-07-2-2/2024-04-02/
CATEGORIES:Congregational Programs
ATTACH;FMTTYPE=image/jpeg:https://bethemet.org/wp-content/uploads/2021/12/Mandala-Scarf-PDF-and-Final-051.jpg
END:VEVENT
BEGIN:VEVENT
DTSTART;TZID=America/Chicago:20240401T190000
DTEND;TZID=America/Chicago:20240401T203000
DTSTAMP:20260421T232010
CREATED:20240321T214046Z
LAST-MODIFIED:20240328T181809Z
UID:10013836-1711998000-1712003400@bethemet.org
SUMMARY:Beth Emet Annual Meeting
DESCRIPTION:The Annual Meeting is a time set aside each year\, for our members to hear from Beth Emet’s President\, Treasurer\, Foundation president\, and clergy on the state of the congregation. Complying with our by-laws\, we show accountability for finances\, communicate our year’s accomplishments and challenges\, and share plans for our synagogue’s future activities. We will also elect new officers and board members as well as show our appreciation to those who have completed their terms on the board. To view the official nominating letter\, click here. The service to honor our officers and Board of Trustees (both incoming and outgoing) will be Friday\, April 5 during Soul Spark Shabbat.
URL:https://bethemet.org/event/beth-emet-annual-meeting/
CATEGORIES:Congregational Programs
END:VEVENT
BEGIN:VEVENT
DTSTART;TZID=America/Chicago:20240401T190000
DTEND;TZID=America/Chicago:20240401T200000
DTSTAMP:20260421T232010
CREATED:20231012T182030Z
LAST-MODIFIED:20240424T154750Z
UID:10012499-1711998000-1712001600@bethemet.org
SUMMARY:Shiur B'Internet
DESCRIPTION:Please email Melinda if you are interested in learning more.
URL:https://bethemet.org/event/shiur-binternet/2024-04-01/
CATEGORIES:Beit Sefer
END:VEVENT
BEGIN:VEVENT
DTSTART;TZID=America/Chicago:20240331T120000
DTEND;TZID=America/Chicago:20240331T130000
DTSTAMP:20260421T232010
CREATED:20240321T150341Z
LAST-MODIFIED:20240321T150342Z
UID:10012582-1711886400-1711890000@bethemet.org
SUMMARY:NO Hebrew 2 with Bluma
DESCRIPTION:Hebrew 2 is for learners seeking more meaningful participation at services. This class provides opportunities to improve your Hebrew reading fluency while exploring the structure\, themes\, and key Hebrew vocabulary of the Shabbat morning worship service and its individual prayers. Hebrew 2 also includes basic elements of Hebrew grammar. \nMember fee $250; non-member fee $300 (five-student minimum for this class) \nInterested? Contact Marci Dickman
URL:https://bethemet.org/event/hebrew-2-with-bluma-2/
CATEGORIES:Adult Programming
END:VEVENT
BEGIN:VEVENT
DTSTART;TZID=America/Chicago:20240331T110000
DTEND;TZID=America/Chicago:20240331T120000
DTSTAMP:20260421T232010
CREATED:20240321T150507Z
LAST-MODIFIED:20240321T150509Z
UID:10011990-1711882800-1711886400@bethemet.org
SUMMARY:NO Hebrew 3 with Dorit Flatt
DESCRIPTION:Hebrew 3 is for learners able to sound out and print Hebrew words. This class will explore the grammar and vocabulary of modern Hebrew through a variety of reading\, writing\, and speaking activities. \nMember fee $250; non-member fee $300.\n(five-student minimum for this class\, scholarships are available) \nNon-Members Register Here \nMembers Register Here \nDORIT FLATT is the daughter of Holocaust survivors and grew up in Tel-Aviv\, Israel. After completing her IDF service in the paratrooper unit\, she studied elementary education at Seminar Levinsky in Tel-Aviv. She holds a BA in Psychology from the University of Michigan\, and taught Hebrew language\, literature\, and religious studies in Michigan for twenty-five years. 
URL:https://bethemet.org/event/hebrew-3-with-dorit-flatt-2-2/
CATEGORIES:Adult Programming
END:VEVENT
BEGIN:VEVENT
DTSTART;TZID=America/Chicago:20240331T103000
DTEND;TZID=America/Chicago:20240331T120000
DTSTAMP:20260421T232010
CREATED:20240321T145441Z
LAST-MODIFIED:20240321T145443Z
UID:10013004-1711881000-1711886400@bethemet.org
SUMMARY:NO Mitzvah Corps
DESCRIPTION:
URL:https://bethemet.org/event/mitzvah-corps-13-2/
CATEGORIES:Beit Sefer,Youth
END:VEVENT
END:VCALENDAR