BEGIN:VCALENDAR
VERSION:2.0
PRODID:-//Beth Emet - ECPv6.15.17//NONSGML v1.0//EN
CALSCALE:GREGORIAN
METHOD:PUBLISH
X-ORIGINAL-URL:https://bethemet.org
X-WR-CALDESC:Events for Beth Emet
REFRESH-INTERVAL;VALUE=DURATION:PT1H
X-Robots-Tag:noindex
X-PUBLISHED-TTL:PT1H
BEGIN:VTIMEZONE
TZID:America/Chicago
BEGIN:DAYLIGHT
TZOFFSETFROM:-0600
TZOFFSETTO:-0500
TZNAME:CDT
DTSTART:20250309T080000
END:DAYLIGHT
BEGIN:STANDARD
TZOFFSETFROM:-0500
TZOFFSETTO:-0600
TZNAME:CST
DTSTART:20251102T070000
END:STANDARD
BEGIN:DAYLIGHT
TZOFFSETFROM:-0600
TZOFFSETTO:-0500
TZNAME:CDT
DTSTART:20260308T080000
END:DAYLIGHT
BEGIN:STANDARD
TZOFFSETFROM:-0500
TZOFFSETTO:-0600
TZNAME:CST
DTSTART:20261101T070000
END:STANDARD
BEGIN:DAYLIGHT
TZOFFSETFROM:-0600
TZOFFSETTO:-0500
TZNAME:CDT
DTSTART:20270314T080000
END:DAYLIGHT
BEGIN:STANDARD
TZOFFSETFROM:-0500
TZOFFSETTO:-0600
TZNAME:CST
DTSTART:20271107T070000
END:STANDARD
END:VTIMEZONE
BEGIN:VEVENT
DTSTART;TZID=America/Chicago:20260325T183000
DTEND;TZID=America/Chicago:20260325T203000
DTSTAMP:20260421T134236
CREATED:20251024T154035Z
LAST-MODIFIED:20251024T154035Z
UID:10021932-1774463400-1774470600@bethemet.org
SUMMARY:Kabbalat Torah
DESCRIPTION:Our 12th graders participate in Kabbalat Torah with Rabbi London. In addition to action\, students who participate in our teen classes develop a love for and commitment to Judaism\, a strong sense of self and community\, and the ability to speak thoughtfully on questions of God\, Torah and Israel. This special seminar-style class meets in the spring semester and includes a weekend trip to New York City with Rabbi London. \nFor more information about Kabbalat Torah or any of our learning programs\, please contact Director of Lifelong Learning Lauren Reeves.
URL:https://bethemet.org/event/kabbalat-torah/2026-03-25/
CATEGORIES:Youth
END:VEVENT
BEGIN:VEVENT
DTSTART;TZID=America/Chicago:20260415T183000
DTEND;TZID=America/Chicago:20260415T203000
DTSTAMP:20260421T134236
CREATED:20251024T154035Z
LAST-MODIFIED:20251024T154035Z
UID:10021933-1776277800-1776285000@bethemet.org
SUMMARY:Kabbalat Torah
DESCRIPTION:Our 12th graders participate in Kabbalat Torah with Rabbi London. In addition to action\, students who participate in our teen classes develop a love for and commitment to Judaism\, a strong sense of self and community\, and the ability to speak thoughtfully on questions of God\, Torah and Israel. This special seminar-style class meets in the spring semester and includes a weekend trip to New York City with Rabbi London. \nFor more information about Kabbalat Torah or any of our learning programs\, please contact Director of Lifelong Learning Lauren Reeves.
URL:https://bethemet.org/event/kabbalat-torah/2026-04-15/
CATEGORIES:Youth
END:VEVENT
BEGIN:VEVENT
DTSTART;TZID=America/Chicago:20260422T183000
DTEND;TZID=America/Chicago:20260422T203000
DTSTAMP:20260421T134236
CREATED:20251024T154035Z
LAST-MODIFIED:20251024T154035Z
UID:10021934-1776882600-1776889800@bethemet.org
SUMMARY:Kabbalat Torah
DESCRIPTION:Our 12th graders participate in Kabbalat Torah with Rabbi London. In addition to action\, students who participate in our teen classes develop a love for and commitment to Judaism\, a strong sense of self and community\, and the ability to speak thoughtfully on questions of God\, Torah and Israel. This special seminar-style class meets in the spring semester and includes a weekend trip to New York City with Rabbi London. \nFor more information about Kabbalat Torah or any of our learning programs\, please contact Director of Lifelong Learning Lauren Reeves.
URL:https://bethemet.org/event/kabbalat-torah/2026-04-22/
CATEGORIES:Youth
END:VEVENT
BEGIN:VEVENT
DTSTART;TZID=America/Chicago:20260426T150000
DTEND;TZID=America/Chicago:20260426T170000
DTSTAMP:20260421T134236
CREATED:20260327T182857Z
LAST-MODIFIED:20260327T182857Z
UID:10023573-1777215600-1777222800@bethemet.org
SUMMARY:Prayer & Action for Earth Day
DESCRIPTION:Join us this Earth Day as we come together to care for our shared home. Families\, children\, and participants of all ages are invited to take part in a community trash pick-up. Even the smallest hands can make a big difference!Come ready to connect\, give back\, and show our children what it means to care for the world around us. This event will take place at the Evanston Ecology Center.
URL:https://bethemet.org/event/prayer-action-for-earth-day/
CATEGORIES:Beit Sefer,Social Justice,Young Families,Youth
ATTACH;FMTTYPE=image/png:https://bethemet.org/wp-content/uploads/2026/03/FACEBOOK-EVENT.png
END:VEVENT
BEGIN:VEVENT
DTSTART;TZID=America/Chicago:20260515T183000
DTEND;TZID=America/Chicago:20260515T203000
DTSTAMP:20260421T134236
CREATED:20251024T162949Z
LAST-MODIFIED:20251024T162949Z
UID:10021935-1778869800-1778877000@bethemet.org
SUMMARY:Kabbalat Torah & Gesher ceremony
DESCRIPTION:The Shabbat when we celebrate our 7th grade Gesher students and 12th grade Kabbalat Torah class is a beloved moment honoring our next generation of Jewish learners and leaders. During the service\, our graduating seniors will share reflections on what Beth Emet and Judaism mean to them as they prepare for the next chapter of their lives. The 7th graders mark the culmination of their Gesher year\, witnessing the older students model Jewish engagement in high school. After the service\, Gesher families gather for a brief ceremony where students share what they’ve learned about how Judaism and community can guide them as they grow. This meaningful evening highlights the continuity of Jewish learning from childhood through young adulthood.
URL:https://bethemet.org/event/kabbalat-torah-gesher-ceremony/
CATEGORIES:Youth
END:VEVENT
END:VCALENDAR