BEGIN:VCALENDAR
VERSION:2.0
PRODID:-//Beth Emet - ECPv6.15.17//NONSGML v1.0//EN
CALSCALE:GREGORIAN
METHOD:PUBLISH
X-ORIGINAL-URL:https://bethemet.org
X-WR-CALDESC:Events for Beth Emet
REFRESH-INTERVAL;VALUE=DURATION:PT1H
X-Robots-Tag:noindex
X-PUBLISHED-TTL:PT1H
BEGIN:VTIMEZONE
TZID:America/Chicago
BEGIN:DAYLIGHT
TZOFFSETFROM:-0600
TZOFFSETTO:-0500
TZNAME:CDT
DTSTART:20220313T080000
END:DAYLIGHT
BEGIN:STANDARD
TZOFFSETFROM:-0500
TZOFFSETTO:-0600
TZNAME:CST
DTSTART:20221106T070000
END:STANDARD
BEGIN:DAYLIGHT
TZOFFSETFROM:-0600
TZOFFSETTO:-0500
TZNAME:CDT
DTSTART:20230312T080000
END:DAYLIGHT
BEGIN:STANDARD
TZOFFSETFROM:-0500
TZOFFSETTO:-0600
TZNAME:CST
DTSTART:20231105T070000
END:STANDARD
BEGIN:DAYLIGHT
TZOFFSETFROM:-0600
TZOFFSETTO:-0500
TZNAME:CDT
DTSTART:20240310T080000
END:DAYLIGHT
BEGIN:STANDARD
TZOFFSETFROM:-0500
TZOFFSETTO:-0600
TZNAME:CST
DTSTART:20241103T070000
END:STANDARD
END:VTIMEZONE
BEGIN:VEVENT
DTSTART;TZID=America/Chicago:20230609T183000
DTEND;TZID=America/Chicago:20230609T200000
DTSTAMP:20260421T053643
CREATED:20211108T140157Z
LAST-MODIFIED:20230606T231536Z
UID:10008933-1686335400-1686340800@bethemet.org
SUMMARY:Kabbalat Shabbat Services Honoring Cantor Rabbi Kyle Cotler
DESCRIPTION:On this Shabbat\, we will honor and thank Cantor Cotler as he sets forth on his new journey at Congregation Or Ami in Calabasas\, CA. Prior to services\, we will have a Festive Oneg starting at 5:45 pm. \nWelcome Shabbat whether in the Sanctuary or online! \nTo listen to the service dial 847-869-4230 and press 7 \n 
URL:https://bethemet.org/event/kabbalat-shabbat-services-2-2023-06-02-2023-06-09/
CATEGORIES:Worship
ATTACH;FMTTYPE=image/png:https://bethemet.org/wp-content/uploads/2021/11/Thank-You-Kyle-720-×-405-px.png
END:VEVENT
END:VCALENDAR