BEGIN:VCALENDAR
VERSION:2.0
PRODID:-//Beth Emet - ECPv6.15.17//NONSGML v1.0//EN
CALSCALE:GREGORIAN
METHOD:PUBLISH
X-ORIGINAL-URL:https://bethemet.org
X-WR-CALDESC:Events for Beth Emet
REFRESH-INTERVAL;VALUE=DURATION:PT1H
X-Robots-Tag:noindex
X-PUBLISHED-TTL:PT1H
BEGIN:VTIMEZONE
TZID:America/Chicago
BEGIN:DAYLIGHT
TZOFFSETFROM:-0600
TZOFFSETTO:-0500
TZNAME:CDT
DTSTART:20220313T080000
END:DAYLIGHT
BEGIN:STANDARD
TZOFFSETFROM:-0500
TZOFFSETTO:-0600
TZNAME:CST
DTSTART:20221106T070000
END:STANDARD
BEGIN:DAYLIGHT
TZOFFSETFROM:-0600
TZOFFSETTO:-0500
TZNAME:CDT
DTSTART:20230312T080000
END:DAYLIGHT
BEGIN:STANDARD
TZOFFSETFROM:-0500
TZOFFSETTO:-0600
TZNAME:CST
DTSTART:20231105T070000
END:STANDARD
BEGIN:DAYLIGHT
TZOFFSETFROM:-0600
TZOFFSETTO:-0500
TZNAME:CDT
DTSTART:20240310T080000
END:DAYLIGHT
BEGIN:STANDARD
TZOFFSETFROM:-0500
TZOFFSETTO:-0600
TZNAME:CST
DTSTART:20241103T070000
END:STANDARD
END:VTIMEZONE
BEGIN:VEVENT
DTSTART;TZID=America/Chicago:20230211T183000
DTEND;TZID=America/Chicago:20230211T223000
DTSTAMP:20260425T070436
CREATED:20230110T002754Z
LAST-MODIFIED:20230127T000734Z
UID:10009194-1676140200-1676154600@bethemet.org
SUMMARY:Faux Kabbalat Mitzvah Party
DESCRIPTION:Why should the Kids have all the fun? This Faux Mitzvah is PARENTS ONLY \nCalling all parents of kids ages 6-21 to your own celebration! Havdalah followed by dinner and dancing in the Crown Room. \nDress: casually Fabulous \n$25/person (includes dinner and drinks) \nRSVP Today
URL:https://bethemet.org/event/faux-kabbalat-mitzvah-party/
CATEGORIES:Congregational Programs
ATTACH;FMTTYPE=image/png:https://bethemet.org/wp-content/uploads/2023/01/Untitled-design.png
END:VEVENT
BEGIN:VEVENT
DTSTART;TZID=America/Chicago:20230213T113000
DTEND;TZID=America/Chicago:20230213T120000
DTSTAMP:20260425T070436
CREATED:20210725T013853Z
LAST-MODIFIED:20230612T151502Z
UID:10006423-1676287800-1676289600@bethemet.org
SUMMARY:Daily Meditation from Institute for Jewish Spirituality
DESCRIPTION:Join Meditation Room
URL:https://bethemet.org/event/daily-meditation-from-institute-for-jewish-spirituality/2023-02-13/
CATEGORIES:Congregational Programs
END:VEVENT
BEGIN:VEVENT
DTSTART;TZID=America/Chicago:20230213T190000
DTEND;TZID=America/Chicago:20230213T203000
DTSTAMP:20260425T070436
CREATED:20221103T195736Z
LAST-MODIFIED:20230210T194413Z
UID:10009137-1676314800-1676320200@bethemet.org
SUMMARY:Social Justice Committee Meeting
DESCRIPTION:This month’s guest speaker is Beth Emet’s very own Inclusion Committee! \nThe Social Justice Committee centers around the values of Tikkun Olam\, repairing the world\, and gemilut chasadim (acts of loving kindness)\, through a hands-on\, interactive\, and committee-based approach. There are so many ways to get involved and help to support those suffering as a result of policies of injustice and marginalization.
URL:https://bethemet.org/event/social-justice-committee-2023-02-13/
CATEGORIES:Congregational Programs
ATTACH;FMTTYPE=image/jpeg:https://bethemet.org/wp-content/uploads/2022/09/IMG_3187_9289-scaled.jpg
END:VEVENT
BEGIN:VEVENT
DTSTART;TZID=America/Chicago:20230214T113000
DTEND;TZID=America/Chicago:20230214T120000
DTSTAMP:20260425T070436
CREATED:20210725T013853Z
LAST-MODIFIED:20230612T151502Z
UID:10006424-1676374200-1676376000@bethemet.org
SUMMARY:Daily Meditation from Institute for Jewish Spirituality
DESCRIPTION:Join Meditation Room
URL:https://bethemet.org/event/daily-meditation-from-institute-for-jewish-spirituality/2023-02-14/
CATEGORIES:Congregational Programs
END:VEVENT
BEGIN:VEVENT
DTSTART;TZID=America/Chicago:20230215T113000
DTEND;TZID=America/Chicago:20230215T120000
DTSTAMP:20260425T070436
CREATED:20210725T013853Z
LAST-MODIFIED:20230612T151502Z
UID:10006425-1676460600-1676462400@bethemet.org
SUMMARY:Daily Meditation from Institute for Jewish Spirituality
DESCRIPTION:Join Meditation Room
URL:https://bethemet.org/event/daily-meditation-from-institute-for-jewish-spirituality/2023-02-15/
CATEGORIES:Congregational Programs
END:VEVENT
BEGIN:VEVENT
DTSTART;TZID=America/Chicago:20230215T180000
DTEND;TZID=America/Chicago:20230215T190000
DTSTAMP:20260425T070436
CREATED:20211108T135936Z
LAST-MODIFIED:20230914T185950Z
UID:10007515-1676484000-1676487600@bethemet.org
SUMMARY:Soup Kitchen
DESCRIPTION:
URL:https://bethemet.org/event/soup-kitchen-2022-06-08-2022-12-28/2023-02-15/
CATEGORIES:Congregational Programs
ATTACH;FMTTYPE=image/jpeg:https://bethemet.org/wp-content/uploads/2021/11/soup-kitchen.jpg
END:VEVENT
BEGIN:VEVENT
DTSTART;TZID=America/Chicago:20230216T100000
DTEND;TZID=America/Chicago:20230216T110000
DTSTAMP:20260425T070436
CREATED:20220103T173119Z
LAST-MODIFIED:20230530T041340Z
UID:10008304-1676541600-1676545200@bethemet.org
SUMMARY:Qigong with Netiva Caftori
DESCRIPTION:There are so many moving parts in our day to day lives. Our very own Netiva Caftori\, invites us to experience the healing practice of Qigong with her. Qigong is a millennia-old system of coordinated body-posture and movement\, breathing\, and meditation used for the purposes of health and spirituality. Beginners are encouraged to try out this session. \nJoin Here
URL:https://bethemet.org/event/qigong-with-netiva-caftori-7/2023-02-16/
CATEGORIES:Congregational Programs
ATTACH;FMTTYPE=image/jpeg:https://bethemet.org/wp-content/uploads/2021/07/qigong.jpg
END:VEVENT
BEGIN:VEVENT
DTSTART;TZID=America/Chicago:20230216T113000
DTEND;TZID=America/Chicago:20230216T120000
DTSTAMP:20260425T070436
CREATED:20210725T013853Z
LAST-MODIFIED:20230612T151502Z
UID:10006426-1676547000-1676548800@bethemet.org
SUMMARY:Daily Meditation from Institute for Jewish Spirituality
DESCRIPTION:Join Meditation Room
URL:https://bethemet.org/event/daily-meditation-from-institute-for-jewish-spirituality/2023-02-16/
CATEGORIES:Congregational Programs
END:VEVENT
BEGIN:VEVENT
DTSTART;TZID=America/Chicago:20230217T113000
DTEND;TZID=America/Chicago:20230217T120000
DTSTAMP:20260425T070436
CREATED:20210725T013853Z
LAST-MODIFIED:20230612T151502Z
UID:10006427-1676633400-1676635200@bethemet.org
SUMMARY:Daily Meditation from Institute for Jewish Spirituality
DESCRIPTION:Join Meditation Room
URL:https://bethemet.org/event/daily-meditation-from-institute-for-jewish-spirituality/2023-02-17/
CATEGORIES:Congregational Programs
END:VEVENT
BEGIN:VEVENT
DTSTART;TZID=America/Chicago:20230220T170000
DTEND;TZID=America/Chicago:20230220T180000
DTSTAMP:20260425T070436
CREATED:20230127T061727Z
LAST-MODIFIED:20230307T031300Z
UID:10009219-1676912400-1676916000@bethemet.org
SUMMARY:Inclusion Committee Meeting
DESCRIPTION:Join the Beth Emet Inclusion Committee as we examine our current practices and explore ways to create a culture of belonging and inclusivity for Beth Emet members of all abilities. We know that all individuals can contribute to our community. \nIf interested\, please email Terri Michaels or call (847-691-8167) or email Marci Dickman.
URL:https://bethemet.org/event/inclusion-committee-meeting-15/2023-02-20/
CATEGORIES:Congregational Programs
END:VEVENT
BEGIN:VEVENT
DTSTART;TZID=America/Chicago:20230221T113000
DTEND;TZID=America/Chicago:20230221T120000
DTSTAMP:20260425T070436
CREATED:20210725T013853Z
LAST-MODIFIED:20230612T151502Z
UID:10006428-1676979000-1676980800@bethemet.org
SUMMARY:Daily Meditation from Institute for Jewish Spirituality
DESCRIPTION:Join Meditation Room
URL:https://bethemet.org/event/daily-meditation-from-institute-for-jewish-spirituality/2023-02-21/
CATEGORIES:Congregational Programs
END:VEVENT
BEGIN:VEVENT
DTSTART;TZID=America/Chicago:20230221T193000
DTEND;TZID=America/Chicago:20230221T203000
DTSTAMP:20260425T070436
CREATED:20230110T003916Z
LAST-MODIFIED:20230208T191533Z
UID:10009195-1677007800-1677011400@bethemet.org
SUMMARY:Dayenu Circle Monthly Meeting
DESCRIPTION:Calling on all those concerned about climate change. Come to the next Dayenu Circle zoom meeting. We will be exploring ways to become a more zero-waste congregation by looking at other Evanston faith communities that have adopted zero-waste practices\, e.g.\, composting and avoiding disposable plastic items. We will also kick off brainstorming about celebrating Earth Day in April. \nLaunched last November\, our Beth Emet Dayenu Circle is part of the umbrella organization of the national Dayenu in Washington\, DC. Dayenu is a relatively new group seeking to combat climate change and other environmental concerns based on Jewish values. Since our Circle’s start up last November\, we have focused on meeting a number of goals that fall into three broad categories: education and awareness\, advocacy\, and “greening” our synagogue and homes. \nFor more information on Dayenu\, contact: Sharon Smaller\, 847-651-0955.
URL:https://bethemet.org/event/dayenu-circle-monthly-meeting-2/
CATEGORIES:Congregational Programs
ATTACH;FMTTYPE=image/png:https://bethemet.org/wp-content/uploads/2022/02/BEDayenu-Circle-logo-720-×-405-px.png
END:VEVENT
BEGIN:VEVENT
DTSTART;TZID=America/Chicago:20230222T113000
DTEND;TZID=America/Chicago:20230222T120000
DTSTAMP:20260425T070436
CREATED:20210725T013853Z
LAST-MODIFIED:20230612T151502Z
UID:10006429-1677065400-1677067200@bethemet.org
SUMMARY:Daily Meditation from Institute for Jewish Spirituality
DESCRIPTION:Join Meditation Room
URL:https://bethemet.org/event/daily-meditation-from-institute-for-jewish-spirituality/2023-02-22/
CATEGORIES:Congregational Programs
END:VEVENT
BEGIN:VEVENT
DTSTART;TZID=America/Chicago:20230222T120000
DTEND;TZID=America/Chicago:20230222T140000
DTSTAMP:20260425T070436
CREATED:20230213T164434Z
LAST-MODIFIED:20230516T232234Z
UID:10009230-1677067200-1677074400@bethemet.org
SUMMARY:A Just Harvest
DESCRIPTION:Beth Emet volunteers serve food monthly at A Just Harvest. Reach out to Michelle at 847-558-9797 if you are interested in volunteering to serve food or help prepare/cook beforehand.
URL:https://bethemet.org/event/a-just-harvest/2023-02-22/
LOCATION:A Just Harvest\, 7649 N. Paulina Street\, Chicago\, IL\, 60626\, United States
CATEGORIES:Congregational Programs
END:VEVENT
BEGIN:VEVENT
DTSTART;TZID=America/Chicago:20230222T180000
DTEND;TZID=America/Chicago:20230222T190000
DTSTAMP:20260425T070436
CREATED:20211108T135936Z
LAST-MODIFIED:20230914T185950Z
UID:10007516-1677088800-1677092400@bethemet.org
SUMMARY:Soup Kitchen
DESCRIPTION:
URL:https://bethemet.org/event/soup-kitchen-2022-06-08-2022-12-28/2023-02-22/
CATEGORIES:Congregational Programs
ATTACH;FMTTYPE=image/jpeg:https://bethemet.org/wp-content/uploads/2021/11/soup-kitchen.jpg
END:VEVENT
BEGIN:VEVENT
DTSTART;TZID=America/Chicago:20230223T100000
DTEND;TZID=America/Chicago:20230223T110000
DTSTAMP:20260425T070436
CREATED:20220103T173119Z
LAST-MODIFIED:20230530T041340Z
UID:10008305-1677146400-1677150000@bethemet.org
SUMMARY:Qigong with Netiva Caftori
DESCRIPTION:There are so many moving parts in our day to day lives. Our very own Netiva Caftori\, invites us to experience the healing practice of Qigong with her. Qigong is a millennia-old system of coordinated body-posture and movement\, breathing\, and meditation used for the purposes of health and spirituality. Beginners are encouraged to try out this session. \nJoin Here
URL:https://bethemet.org/event/qigong-with-netiva-caftori-7/2023-02-23/
CATEGORIES:Congregational Programs
ATTACH;FMTTYPE=image/jpeg:https://bethemet.org/wp-content/uploads/2021/07/qigong.jpg
END:VEVENT
BEGIN:VEVENT
DTSTART;TZID=America/Chicago:20230223T113000
DTEND;TZID=America/Chicago:20230223T120000
DTSTAMP:20260425T070436
CREATED:20210725T013853Z
LAST-MODIFIED:20230612T151502Z
UID:10006430-1677151800-1677153600@bethemet.org
SUMMARY:Daily Meditation from Institute for Jewish Spirituality
DESCRIPTION:Join Meditation Room
URL:https://bethemet.org/event/daily-meditation-from-institute-for-jewish-spirituality/2023-02-23/
CATEGORIES:Congregational Programs
END:VEVENT
BEGIN:VEVENT
DTSTART;TZID=America/Chicago:20230223T171500
DTEND;TZID=America/Chicago:20230223T181500
DTSTAMP:20260425T070436
CREATED:20230120T184547Z
LAST-MODIFIED:20230123T192041Z
UID:10008171-1677172500-1677176100@bethemet.org
SUMMARY:Shattering Barriers: I Am Who I Am
DESCRIPTION:Jewish Disability Awareness\, Acceptance and Inclusion Month Presents Tellin’ Tales Theatre\nIn honor of Jewish Disability Awareness\, Acceptance and Inclusion Month\, we are so excited to welcome Tellin’ Tales\, a Chicago-based theater company. Three seasoned solo performers share personal vignettes based on their real-life stories about living with a disability. The result is a beautiful message of independence and the power of dealing with the world on their own terms. Funny as well as touching\, these stories will change the way you think about disability. Please join us for this 60-minute performance that includes a question and answer session. Click here for a sneak peak at one of the performers. \nOrganized by the Beth Emet Inclusion Committee \nNon-Beth Emet Members Register Here \nBeth Emet Members Register Here  \nTellin’ Tales exists to create a bridge between children and adults with disabilities  and those without disabilities through the nurturing and innovative performances of people’s personal stories. This is achieved through mentoring and collaboration. A key goal is to bring together diverse populations all the while helping them to recognize commonalities and build a strong sense of community in Chicago. \n 
URL:https://bethemet.org/event/shattering-barriers-i-am-who-i-am/
CATEGORIES:Beit Sefer,Congregational Programs
ATTACH;FMTTYPE=image/png:https://bethemet.org/wp-content/uploads/2023/01/Tellin-Tales-Theatre-Website.png
END:VEVENT
BEGIN:VEVENT
DTSTART;TZID=America/Chicago:20230224T113000
DTEND;TZID=America/Chicago:20230224T120000
DTSTAMP:20260425T070436
CREATED:20210725T013853Z
LAST-MODIFIED:20230612T151502Z
UID:10006431-1677238200-1677240000@bethemet.org
SUMMARY:Daily Meditation from Institute for Jewish Spirituality
DESCRIPTION:Join Meditation Room
URL:https://bethemet.org/event/daily-meditation-from-institute-for-jewish-spirituality/2023-02-24/
CATEGORIES:Congregational Programs
END:VEVENT
BEGIN:VEVENT
DTSTART;TZID=America/Chicago:20230226T123000
DTEND;TZID=America/Chicago:20230226T140000
DTSTAMP:20260425T070436
CREATED:20230213T172236Z
LAST-MODIFIED:20230213T172236Z
UID:10009237-1677414600-1677420000@bethemet.org
SUMMARY:Purim Clothing Swap Hosted by Chavayah
DESCRIPTION:The entire congregation is invited to Chavayah’s ” SWAP don’t SHOP!” In the spirit of bal taschit– do not destroy or waste needlessly! Combat fast fashion waste\, meet your community\, clean out your closet! Find a fun (free) Purim look! \nLearn More \nPlease note: No Donations necessary to join! \n  \n  \n 
URL:https://bethemet.org/event/purim-clothing-swap-hosted-by-chavayah/
CATEGORIES:Congregational Programs,Youth
END:VEVENT
BEGIN:VEVENT
DTSTART;TZID=America/Chicago:20230227T113000
DTEND;TZID=America/Chicago:20230227T120000
DTSTAMP:20260425T070436
CREATED:20210725T013853Z
LAST-MODIFIED:20230612T151502Z
UID:10006432-1677497400-1677499200@bethemet.org
SUMMARY:Daily Meditation from Institute for Jewish Spirituality
DESCRIPTION:Join Meditation Room
URL:https://bethemet.org/event/daily-meditation-from-institute-for-jewish-spirituality/2023-02-27/
CATEGORIES:Congregational Programs
END:VEVENT
BEGIN:VEVENT
DTSTART;TZID=America/Chicago:20230227T190000
DTEND;TZID=America/Chicago:20230227T210000
DTSTAMP:20260425T070436
CREATED:20221208T221144Z
LAST-MODIFIED:20230620T152413Z
UID:10009147-1677524400-1677531600@bethemet.org
SUMMARY:Board of Trustees Meeting
DESCRIPTION:If you are interested in attending the meeting\, please reach out to Geoff Prass for the password-protected Zoom link. This is done for security purposes.
URL:https://bethemet.org/event/board-of-trustees-meeting/2023-02-27/
CATEGORIES:Congregational Programs
END:VEVENT
BEGIN:VEVENT
DTSTART;TZID=America/Chicago:20230228T113000
DTEND;TZID=America/Chicago:20230228T120000
DTSTAMP:20260425T070436
CREATED:20210725T013853Z
LAST-MODIFIED:20230612T151502Z
UID:10006433-1677583800-1677585600@bethemet.org
SUMMARY:Daily Meditation from Institute for Jewish Spirituality
DESCRIPTION:Join Meditation Room
URL:https://bethemet.org/event/daily-meditation-from-institute-for-jewish-spirituality/2023-02-28/
CATEGORIES:Congregational Programs
END:VEVENT
BEGIN:VEVENT
DTSTART;TZID=America/Chicago:20230301T113000
DTEND;TZID=America/Chicago:20230301T120000
DTSTAMP:20260425T070436
CREATED:20210725T013853Z
LAST-MODIFIED:20230612T151502Z
UID:10006434-1677670200-1677672000@bethemet.org
SUMMARY:Daily Meditation from Institute for Jewish Spirituality
DESCRIPTION:Join Meditation Room
URL:https://bethemet.org/event/daily-meditation-from-institute-for-jewish-spirituality/2023-03-01/
CATEGORIES:Congregational Programs
END:VEVENT
BEGIN:VEVENT
DTSTART;TZID=America/Chicago:20230301T180000
DTEND;TZID=America/Chicago:20230301T190000
DTSTAMP:20260425T070436
CREATED:20211108T135936Z
LAST-MODIFIED:20230914T185950Z
UID:10007517-1677693600-1677697200@bethemet.org
SUMMARY:Soup Kitchen
DESCRIPTION:
URL:https://bethemet.org/event/soup-kitchen-2022-06-08-2022-12-28/2023-03-01/
CATEGORIES:Congregational Programs
ATTACH;FMTTYPE=image/jpeg:https://bethemet.org/wp-content/uploads/2021/11/soup-kitchen.jpg
END:VEVENT
BEGIN:VEVENT
DTSTART;TZID=America/Chicago:20230301T193000
DTEND;TZID=America/Chicago:20230301T210000
DTSTAMP:20260425T070436
CREATED:20221129T223314Z
LAST-MODIFIED:20230310T185302Z
UID:10008112-1677699000-1677704400@bethemet.org
SUMMARY:What are the Takeaways for the US from Uruguay's Transformative Climate Change Measures?
DESCRIPTION:Uruguay is an international Climate Change leader which has transformed its energy sector to 90% renewables\, planned relocation of vulnerable coastal communities\, built climate resilient infrastructure\, and changed agriculture as well as cattle ranching\, for sustainability and climate resilience. This transformation provides important examples for changes that are needed in the U.S. And how diplomacy will help build a more climate-resilient future. \nWatch the recording here \nGlobal Americans is a research and analysis organization providing vital information and insights about Latin America and the Caribbean in a global context. We will be joined on zoom by Jackson Mihm\, Associate Editor\, and Alejandro Trenchi\, Research Assistant for their Caribbean Climate Change Project. \nThis event is co-sponsored by the Beth Emet Dayenu Circle\, Interfaith Action Climate Change and Justice Subcommittee\, Citizens Climate Lobby Evanston Northshore Chapter\, Citizens’ Greener Evanston and Go Green Wilmette
URL:https://bethemet.org/event/what-are-the-takeaways-for-the-us-from-uruguays-transformative-climate-change-measures/
CATEGORIES:Adult Programming,Congregational Programs
ATTACH;FMTTYPE=image/png:https://bethemet.org/wp-content/uploads/2022/11/Uruguay-Climate-Change.png
END:VEVENT
BEGIN:VEVENT
DTSTART;TZID=America/Chicago:20230302T100000
DTEND;TZID=America/Chicago:20230302T110000
DTSTAMP:20260425T070436
CREATED:20220103T173119Z
LAST-MODIFIED:20230530T041340Z
UID:10008306-1677751200-1677754800@bethemet.org
SUMMARY:Qigong with Netiva Caftori
DESCRIPTION:There are so many moving parts in our day to day lives. Our very own Netiva Caftori\, invites us to experience the healing practice of Qigong with her. Qigong is a millennia-old system of coordinated body-posture and movement\, breathing\, and meditation used for the purposes of health and spirituality. Beginners are encouraged to try out this session. \nJoin Here
URL:https://bethemet.org/event/qigong-with-netiva-caftori-7/2023-03-02/
CATEGORIES:Congregational Programs
ATTACH;FMTTYPE=image/jpeg:https://bethemet.org/wp-content/uploads/2021/07/qigong.jpg
END:VEVENT
BEGIN:VEVENT
DTSTART;TZID=America/Chicago:20230302T113000
DTEND;TZID=America/Chicago:20230302T120000
DTSTAMP:20260425T070436
CREATED:20210725T013853Z
LAST-MODIFIED:20230612T151502Z
UID:10006435-1677756600-1677758400@bethemet.org
SUMMARY:Daily Meditation from Institute for Jewish Spirituality
DESCRIPTION:Join Meditation Room
URL:https://bethemet.org/event/daily-meditation-from-institute-for-jewish-spirituality/2023-03-02/
CATEGORIES:Congregational Programs
END:VEVENT
BEGIN:VEVENT
DTSTART;TZID=America/Chicago:20230303T113000
DTEND;TZID=America/Chicago:20230303T120000
DTSTAMP:20260425T070436
CREATED:20210725T013853Z
LAST-MODIFIED:20230612T151502Z
UID:10006436-1677843000-1677844800@bethemet.org
SUMMARY:Daily Meditation from Institute for Jewish Spirituality
DESCRIPTION:Join Meditation Room
URL:https://bethemet.org/event/daily-meditation-from-institute-for-jewish-spirituality/2023-03-03/
CATEGORIES:Congregational Programs
END:VEVENT
BEGIN:VEVENT
DTSTART;TZID=America/Chicago:20230304T120000
DTEND;TZID=America/Chicago:20230304T130000
DTSTAMP:20260425T070436
CREATED:20230111T060405Z
LAST-MODIFIED:20230516T234826Z
UID:10009214-1677931200-1677934800@bethemet.org
SUMMARY:Kahal Potluck Lunch
DESCRIPTION:We will gather for lunch immediately following the Kahal service while adhering to our current Covid protocols. If you are able to attend on Saturday morning\, please consider bringing a vegetarian\, nut-free dish or lunch item for all to enjoy. \nPlease also take a moment to jot down a list of ingredients that can be displayed with your dish for the benefit of those with food allergies.
URL:https://bethemet.org/event/kahal-potluck-luncheon/2023-03-04/
CATEGORIES:Congregational Programs
END:VEVENT
END:VCALENDAR