BEGIN:VCALENDAR
VERSION:2.0
PRODID:-//Beth Emet - ECPv6.15.17//NONSGML v1.0//EN
CALSCALE:GREGORIAN
METHOD:PUBLISH
X-ORIGINAL-URL:https://bethemet.org
X-WR-CALDESC:Events for Beth Emet
REFRESH-INTERVAL;VALUE=DURATION:PT1H
X-Robots-Tag:noindex
X-PUBLISHED-TTL:PT1H
BEGIN:VTIMEZONE
TZID:America/Chicago
BEGIN:DAYLIGHT
TZOFFSETFROM:-0600
TZOFFSETTO:-0500
TZNAME:CDT
DTSTART:20250309T080000
END:DAYLIGHT
BEGIN:STANDARD
TZOFFSETFROM:-0500
TZOFFSETTO:-0600
TZNAME:CST
DTSTART:20251102T070000
END:STANDARD
BEGIN:DAYLIGHT
TZOFFSETFROM:-0600
TZOFFSETTO:-0500
TZNAME:CDT
DTSTART:20260308T080000
END:DAYLIGHT
BEGIN:STANDARD
TZOFFSETFROM:-0500
TZOFFSETTO:-0600
TZNAME:CST
DTSTART:20261101T070000
END:STANDARD
BEGIN:DAYLIGHT
TZOFFSETFROM:-0600
TZOFFSETTO:-0500
TZNAME:CDT
DTSTART:20270314T080000
END:DAYLIGHT
BEGIN:STANDARD
TZOFFSETFROM:-0500
TZOFFSETTO:-0600
TZNAME:CST
DTSTART:20271107T070000
END:STANDARD
END:VTIMEZONE
BEGIN:VEVENT
DTSTART;TZID=America/Chicago:20260426T100000
DTEND;TZID=America/Chicago:20260426T113000
DTSTAMP:20260425T111950
CREATED:20260304T175255Z
LAST-MODIFIED:20260319T154931Z
UID:10023214-1777197600-1777203000@bethemet.org
SUMMARY:Contemporary Israeli Writers with Hanna Seltzer
DESCRIPTION:Hanna Tzuker Seltzer returns this spring to lead us in reading and discussing selected works of contemporary Israeli writers. The specific texts will be provided in advance. \nHanna Tzuker Seltzer is an Associate Professor and the director of the Hebrew program at Northwestern University\, where she teaches advanced Hebrew\, Yiddish and Hebrew literature\, and Israeli film. Raised in Jerusalem\, she has a BA in Hebrew literature and creative writing from Hebrew University and a PhD in Hebrew literature and Israeli film from UC Berkley. Hanna created a movie that won an award and was shown on Israeli TV. She and her family are members of Beth Emet. \n\n\nMembers register here\nGuests register here\n\n\n\n\nBeth Emet uses budgeted funds and fees to support our adult education program. This year\, instead of individual registration fees for specific classes\, our goal is to secure $4\,000 in donations to cover our costs. Please consider an optional donation to the adult education fund when you register to help sustain our commitment to lifelong learning.
URL:https://bethemet.org/event/selected-works-by-contemporary-israeli-writers-in-person-and-virtual/
LOCATION:At Beth Emet and via Zoom\, 1224 Dempster Street\, Evanston\, IL\, 60202\, United States
CATEGORIES:Adult Programming
ATTACH;FMTTYPE=image/jpeg:https://bethemet.org/wp-content/uploads/2025/10/Lifelong-Learning-at-Beth-Emet-2.jpg
END:VEVENT
BEGIN:VEVENT
DTSTART;TZID=America/Chicago:20260426T110000
DTEND;TZID=America/Chicago:20260426T120000
DTSTAMP:20260425T111950
CREATED:20251016T010050Z
LAST-MODIFIED:20251208T204045Z
UID:10021401-1777201200-1777204800@bethemet.org
SUMMARY:Conversational Hebrew
DESCRIPTION:Conversational Hebrew meets most Sundays\, 11:00 am–12:00 pm when Beit Sefer meets. This class uses an Ulpan-like immersive setting to teach modern conversational Hebrew. Participants will read news articles\, discuss life and current events\, and other basic conversations in Hebrew. The only prerequisite is basic Hebrew skills. The class meets in the Beit Midrash. \nMembers\, click here to register. \nGuests\, click here to register. \nDorit Flatt is the daughter of Holocaust survivors and grew up in Tel-Aviv\, Israel. After completing her IDF service in the paratrooper unit\, she studied elementary education at Seminar Levinsky in Tel-Aviv. She holds a BA in Psychology from the University of Michigan and taught Hebrew language\, literature\, and religious studies in Michigan for 25 years.
URL:https://bethemet.org/event/conversational-hebrew/2026-04-26/
CATEGORIES:Adult Programming
ATTACH;FMTTYPE=image/jpeg:https://bethemet.org/wp-content/uploads/2025/10/Adult-Hebrew.jpg
END:VEVENT
END:VCALENDAR