BEGIN:VCALENDAR
VERSION:2.0
PRODID:-//Beth Emet - ECPv6.15.17//NONSGML v1.0//EN
CALSCALE:GREGORIAN
METHOD:PUBLISH
X-ORIGINAL-URL:https://bethemet.org
X-WR-CALDESC:Events for Beth Emet
REFRESH-INTERVAL;VALUE=DURATION:PT1H
X-Robots-Tag:noindex
X-PUBLISHED-TTL:PT1H
BEGIN:VTIMEZONE
TZID:America/Chicago
BEGIN:DAYLIGHT
TZOFFSETFROM:-0600
TZOFFSETTO:-0500
TZNAME:CDT
DTSTART:20250309T080000
END:DAYLIGHT
BEGIN:STANDARD
TZOFFSETFROM:-0500
TZOFFSETTO:-0600
TZNAME:CST
DTSTART:20251102T070000
END:STANDARD
BEGIN:DAYLIGHT
TZOFFSETFROM:-0600
TZOFFSETTO:-0500
TZNAME:CDT
DTSTART:20260308T080000
END:DAYLIGHT
BEGIN:STANDARD
TZOFFSETFROM:-0500
TZOFFSETTO:-0600
TZNAME:CST
DTSTART:20261101T070000
END:STANDARD
BEGIN:DAYLIGHT
TZOFFSETFROM:-0600
TZOFFSETTO:-0500
TZNAME:CDT
DTSTART:20270314T080000
END:DAYLIGHT
BEGIN:STANDARD
TZOFFSETFROM:-0500
TZOFFSETTO:-0600
TZNAME:CST
DTSTART:20271107T070000
END:STANDARD
END:VTIMEZONE
BEGIN:VEVENT
DTSTART;TZID=America/Chicago:20260424T093000
DTEND;TZID=America/Chicago:20260424T103000
DTSTAMP:20260421T083517
CREATED:20251015T182912Z
LAST-MODIFIED:20260409T173818Z
UID:10016841-1777023000-1777026600@bethemet.org
SUMMARY:A Close Look at Prophets with Rabbi Andrea London
DESCRIPTION:There are many ways to interpret our Tanach and its nuances of meaning that are often overlooked. Having completed our Close Look at Torah\, we turn to N’viim / Prophets\, beginning with Joshua. New learners are always welcome. If you are new\, please register below and the meeting will take place in the Wiener room. If you plan to participate online\, you must register to receive a Zoom link\, watch EmetMail for the link. \nThis class meets most Fridays during the program year. During the 5786 year\, the class will take place October 24 to June 12\, and will not take place on the following dates: \n\nNovember 28\nDecember 5\nDecember 26\nJanuary 2\nJanuary 23\nJanuary 30\nFebruary 13\nApril 3\n\nMembers Register Here \nGuests Register Here
URL:https://bethemet.org/event/a-close-look-at-prophets-with-rabbi-andrea-london-3-2-3-2/2026-04-24/
CATEGORIES:Adult Programming
ATTACH;FMTTYPE=image/jpeg:https://bethemet.org/wp-content/uploads/2024/08/A-close-look-final-class-scaled.jpeg
END:VEVENT
BEGIN:VEVENT
DTSTART;TZID=America/Chicago:20260424T110000
DTEND;TZID=America/Chicago:20260424T121500
DTSTAMP:20260421T083517
CREATED:20260305T215722Z
LAST-MODIFIED:20260319T154244Z
UID:10023216-1777028400-1777032900@bethemet.org
SUMMARY:Reengaging Psalms with Rabbi Michael Balinksy
DESCRIPTION:The biblical book of Psalms forms the foundation of much of Jewish liturgy. In this learning session\, we will explore Psalm 15 and ask “are we worthy to enter the gates?” Together we will consider how these ancient texts can speak to contemporary spiritual life and how studying them as literature can deepen the experience of prayer. \nRabbi Michael Balinsky has taught at Beth Emet for many years. He first came to Evanston in 1981 where he was the Hillel director at Northwestern for 20 years\, was next the Director of Faculty Development for Melton\, and then led the Chicago Board of Rabbis. Michael is a graduate of Yeshiva University. \nMembers\, register here. \nGuests\, register here. \n  \nBeth Emet uses budgeted funds and fees to support our adult education program. This year\, instead of individual registration fees for specific classes\, our goal is to secure $4\,000 in donations to cover our costs. Please consider an optional donation to the adult education fund when you register to help sustain our commitment to lifelong learning.
URL:https://bethemet.org/event/reengaging-psalms-with-rabbi-michael-balinksy-2/
CATEGORIES:Adult Programming
ATTACH;FMTTYPE=image/jpeg:https://bethemet.org/wp-content/uploads/2025/10/Lifelong-Learning-at-Beth-Emet-2.jpg
END:VEVENT
END:VCALENDAR