BEGIN:VCALENDAR
VERSION:2.0
PRODID:-//Beth Emet - ECPv6.15.17//NONSGML v1.0//EN
CALSCALE:GREGORIAN
METHOD:PUBLISH
X-ORIGINAL-URL:https://bethemet.org
X-WR-CALDESC:Events for Beth Emet
REFRESH-INTERVAL;VALUE=DURATION:PT1H
X-Robots-Tag:noindex
X-PUBLISHED-TTL:PT1H
BEGIN:VTIMEZONE
TZID:America/Chicago
BEGIN:DAYLIGHT
TZOFFSETFROM:-0600
TZOFFSETTO:-0500
TZNAME:CDT
DTSTART:20220313T080000
END:DAYLIGHT
BEGIN:STANDARD
TZOFFSETFROM:-0500
TZOFFSETTO:-0600
TZNAME:CST
DTSTART:20221106T070000
END:STANDARD
BEGIN:DAYLIGHT
TZOFFSETFROM:-0600
TZOFFSETTO:-0500
TZNAME:CDT
DTSTART:20230312T080000
END:DAYLIGHT
BEGIN:STANDARD
TZOFFSETFROM:-0500
TZOFFSETTO:-0600
TZNAME:CST
DTSTART:20231105T070000
END:STANDARD
BEGIN:DAYLIGHT
TZOFFSETFROM:-0600
TZOFFSETTO:-0500
TZNAME:CDT
DTSTART:20240310T080000
END:DAYLIGHT
BEGIN:STANDARD
TZOFFSETFROM:-0500
TZOFFSETTO:-0600
TZNAME:CST
DTSTART:20241103T070000
END:STANDARD
END:VTIMEZONE
BEGIN:VEVENT
DTSTART;TZID=America/Chicago:20230113T093000
DTEND;TZID=America/Chicago:20230113T103500
DTSTAMP:20260421T070031
CREATED:20220829T002747Z
LAST-MODIFIED:20230831T203506Z
UID:10007825-1673602200-1673606100@bethemet.org
SUMMARY:A Close Look at Torah with Rabbi Andrea London
DESCRIPTION:There are many ways to interpret Torah and its nuances of meaning that are often overlooked. We will continue our learning from last year\, reading and interpreting the text of the Book of Deuteronomy line by line. New learners are always welcome. \nNo Fee for members; non-member fee is $120. \nNon-Members Register Here \nMembers Register Here
URL:https://bethemet.org/event/a-close-look-at-torah-with-rabbi-andrea-london/2023-01-13/
CATEGORIES:Adult Programming
ATTACH;FMTTYPE=image/jpeg:https://bethemet.org/wp-content/uploads/2021/07/rabbi-london-headshot.jpg
END:VEVENT
BEGIN:VEVENT
DTSTART;TZID=America/Chicago:20230113T110000
DTEND;TZID=America/Chicago:20230113T121500
DTSTAMP:20260421T070031
CREATED:20220918T044234Z
LAST-MODIFIED:20230106T171700Z
UID:10007853-1673607600-1673612100@bethemet.org
SUMMARY:Competing Narratives of the 1948 War with Dr. Maayan Hilel
DESCRIPTION:The war of 1948 has shaped the history of the modern Middle East more than any other single event\, and it continues to shape both Israeli and Palestinian societies to this day. We will discuss the major events that led to the outbreak of the war\, its main stages\, and the different\, even contrasting\, narratives Israelis and Palestinians created about it. We will examine the diverse voices of those who participated in or experienced the war to shed new light on this constitutive and complex event. \nMember fee $25 or included in Friday morning package; non-member fee $35.  \nNon-Members Register Here \nMembers Register Here \nMAAYAN HILEL is a lecturer at the Crown Family Center for Israel and Jewish Studies at Northwestern University. She is a historian of the modern Middle East\, specializing in the cultural and social history of Palestine / Land of Israel during the first  half of the twentieth century. Dr. Hilel teachers history courses about Jewish-Arab relations; leisure\, and popular culture in the Middle East; the Israeli-Palestinian conflict; and more. \n  \n 
URL:https://bethemet.org/event/competing-narratives-of-the-1948-war-with-dr-maayan-hilel/2023-01-13/
CATEGORIES:Adult Programming
END:VEVENT
END:VCALENDAR