BEGIN:VCALENDAR
VERSION:2.0
PRODID:-//Beth Emet - ECPv6.15.17//NONSGML v1.0//EN
CALSCALE:GREGORIAN
METHOD:PUBLISH
X-ORIGINAL-URL:https://bethemet.org
X-WR-CALDESC:Events for Beth Emet
REFRESH-INTERVAL;VALUE=DURATION:PT1H
X-Robots-Tag:noindex
X-PUBLISHED-TTL:PT1H
BEGIN:VTIMEZONE
TZID:America/Chicago
BEGIN:DAYLIGHT
TZOFFSETFROM:-0600
TZOFFSETTO:-0500
TZNAME:CDT
DTSTART:20250309T080000
END:DAYLIGHT
BEGIN:STANDARD
TZOFFSETFROM:-0500
TZOFFSETTO:-0600
TZNAME:CST
DTSTART:20251102T070000
END:STANDARD
BEGIN:DAYLIGHT
TZOFFSETFROM:-0600
TZOFFSETTO:-0500
TZNAME:CDT
DTSTART:20260308T080000
END:DAYLIGHT
BEGIN:STANDARD
TZOFFSETFROM:-0500
TZOFFSETTO:-0600
TZNAME:CST
DTSTART:20261101T070000
END:STANDARD
BEGIN:DAYLIGHT
TZOFFSETFROM:-0600
TZOFFSETTO:-0500
TZNAME:CDT
DTSTART:20270314T080000
END:DAYLIGHT
BEGIN:STANDARD
TZOFFSETFROM:-0500
TZOFFSETTO:-0600
TZNAME:CST
DTSTART:20271107T070000
END:STANDARD
END:VTIMEZONE
BEGIN:VEVENT
DTSTART;VALUE=DATE:20260409
DTEND;VALUE=DATE:20260413
DTSTAMP:20260421T072445
CREATED:20260313T191150Z
LAST-MODIFIED:20260313T191150Z
UID:10023218-1775692800-1776038399@bethemet.org
SUMMARY:Yom HaShoah Photo Exhibit
DESCRIPTION:In recognition of Yom HaShoah\, Beth Emet will host a photographic exhibit from Zachor: The Holocaust Memory Project in the Crown Room\, Thursday\, April 9 through Sunday\, April 12. The exhibit features powerful portraits of Holocaust survivors paired with brief reflections from their lives\, preserving their stories and honoring their resilience. The project’s name\, Zachor (Hebrew for “remember”) reflects the Jewish responsibility to carry these memories forward and to confront hatred and antisemitism in our own time. Congregants are encouraged to stop by the Crown Room to spend time with these moving images.\n\nOn Sunday\, April 12\, we will have a conversation for adults\, including Beit Sefer parents about antisemitism. Rabbi Toby Manewith and Lauren Reeves will talk about the antisemitism that many school-age children are encountering today. We will discuss how parents can respond when their child shares these experiences\, ways to support children emotionally\, and strategies for communicating effectively with schools when incidents occur. After this conversation\, parents along with 5th-7th grade Beit Sefer learners will visit a photo exhibit featuring Holocaust survivors and how their stories implore us to continue combatting hate and injustice.
URL:https://bethemet.org/event/yom-hashoah-photo-exhibit/
CATEGORIES:Adult Programming
ATTACH;FMTTYPE=image/jpeg:https://bethemet.org/wp-content/uploads/2026/03/Zachor-Project-exhibit.jpg
END:VEVENT
BEGIN:VEVENT
DTSTART;TZID=America/Chicago:20260412T090000
DTEND;TZID=America/Chicago:20260412T100000
DTSTAMP:20260421T072445
CREATED:20240822T181843Z
LAST-MODIFIED:20240909T135135Z
UID:10012248-1775984400-1775988000@bethemet.org
SUMMARY:Sunday Morning Minyan
DESCRIPTION:The Sunday Morning Minyan meets in the Beit Midrash at Beth Emet. \nJoin us on Sundays to daven (pray) the weekday Shacharit (morning) service!  First-timers are encouraged! Please note\, we will continue to Zoom as well for virtual participation. \nThe Minyan offers an intimate opportunity to pray with the Beth Emet community. The service explores our ritual\, liturgical\, and musical traditions in a welcoming setting for people new to prayer while providing a deeper connection for people with more experience. \nPlease contact the office for a link. \nParticipants are encouraged to wear a tallit and tefillin. \n 
URL:https://bethemet.org/event/sunday-morning-minyan-2022-03-13-2022-03-27-2022-07-03-2022-10-30-2022-11-06-2023-03-12-2023-05-28-2-2-9-2/2026-04-12/
CATEGORIES:Worship
ATTACH;FMTTYPE=image/png:https://bethemet.org/wp-content/uploads/2021/11/Sunday-Morning-Minyan.png
END:VEVENT
BEGIN:VEVENT
DTSTART;TZID=America/Chicago:20260412T093000
DTEND;TZID=America/Chicago:20260412T120000
DTSTAMP:20260421T072445
CREATED:20251016T013136Z
LAST-MODIFIED:20251016T013136Z
UID:10021551-1775986200-1775995200@bethemet.org
SUMMARY:Beit Sefer
DESCRIPTION:Beit Sefer is an engaging Jewish learning program for learners in Kindergarten through 7th grade. Classes explore Jewish values\, holidays\, Torah stories\, and Hebrew in a supportive and fun environment\, fostering curiosity\, community\, and connection to Jewish life. Learn more about Beit Sefer.
URL:https://bethemet.org/event/beit-sefer-37/2026-04-12/
CATEGORIES:Beit Sefer
ATTACH;FMTTYPE=image/jpeg:https://bethemet.org/wp-content/uploads/2025/10/IMG_9778-scaled.jpeg
END:VEVENT
BEGIN:VEVENT
DTSTART;TZID=America/Chicago:20260412T103000
DTEND;TZID=America/Chicago:20260412T113000
DTSTAMP:20260421T072445
CREATED:20260318T203931Z
LAST-MODIFIED:20260319T142711Z
UID:10023248-1775989800-1775993400@bethemet.org
SUMMARY:Conversation About Antisemitism at School
DESCRIPTION:In conjunction with our Zachor Project photo exhibit\, we will have a complementary conversation for adults during Beit Sefer about antisemitism. Rabbi Toby Manewith and Director of Lifelong Learning Lauren Reeves will talk about the antisemitism that many school-age children are encountering today. We will discuss how parents can respond when their child shares these experiences\, ways to support children emotionally\, and strategies for communicating effectively with schools when incidents occur. After this conversation\, parents along with 5th-7th grade learners will visit a photo exhibit featuring Holocaust survivors and how their stories implore us to continue combatting hate and injustice. \nThis event is 10:30 am to 11:30 am. In-person only. \nMember registration \nGuest registration
URL:https://bethemet.org/event/conversation-about-antisemitism-at-school/
CATEGORIES:Adult Programming
ATTACH;FMTTYPE=image/jpeg:https://bethemet.org/wp-content/uploads/2026/03/Antisemitism-conversation-April-12.jpg
END:VEVENT
BEGIN:VEVENT
DTSTART;TZID=America/Chicago:20260412T110000
DTEND;TZID=America/Chicago:20260412T120000
DTSTAMP:20260421T072445
CREATED:20251016T010050Z
LAST-MODIFIED:20251208T204045Z
UID:10021399-1775991600-1775995200@bethemet.org
SUMMARY:Conversational Hebrew
DESCRIPTION:Conversational Hebrew meets most Sundays\, 11:00 am–12:00 pm when Beit Sefer meets. This class uses an Ulpan-like immersive setting to teach modern conversational Hebrew. Participants will read news articles\, discuss life and current events\, and other basic conversations in Hebrew. The only prerequisite is basic Hebrew skills. The class meets in the Beit Midrash. \nMembers\, click here to register. \nGuests\, click here to register. \nDorit Flatt is the daughter of Holocaust survivors and grew up in Tel-Aviv\, Israel. After completing her IDF service in the paratrooper unit\, she studied elementary education at Seminar Levinsky in Tel-Aviv. She holds a BA in Psychology from the University of Michigan and taught Hebrew language\, literature\, and religious studies in Michigan for 25 years.
URL:https://bethemet.org/event/conversational-hebrew/2026-04-12/
CATEGORIES:Adult Programming
ATTACH;FMTTYPE=image/jpeg:https://bethemet.org/wp-content/uploads/2025/10/Adult-Hebrew.jpg
END:VEVENT
END:VCALENDAR