BEGIN:VCALENDAR
VERSION:2.0
PRODID:-//Beth Emet - ECPv6.15.17//NONSGML v1.0//EN
CALSCALE:GREGORIAN
METHOD:PUBLISH
X-ORIGINAL-URL:https://bethemet.org
X-WR-CALDESC:Events for Beth Emet
REFRESH-INTERVAL;VALUE=DURATION:PT1H
X-Robots-Tag:noindex
X-PUBLISHED-TTL:PT1H
BEGIN:VTIMEZONE
TZID:America/Chicago
BEGIN:DAYLIGHT
TZOFFSETFROM:-0600
TZOFFSETTO:-0500
TZNAME:CDT
DTSTART:20240310T080000
END:DAYLIGHT
BEGIN:STANDARD
TZOFFSETFROM:-0500
TZOFFSETTO:-0600
TZNAME:CST
DTSTART:20241103T070000
END:STANDARD
BEGIN:DAYLIGHT
TZOFFSETFROM:-0600
TZOFFSETTO:-0500
TZNAME:CDT
DTSTART:20250309T080000
END:DAYLIGHT
BEGIN:STANDARD
TZOFFSETFROM:-0500
TZOFFSETTO:-0600
TZNAME:CST
DTSTART:20251102T070000
END:STANDARD
BEGIN:DAYLIGHT
TZOFFSETFROM:-0600
TZOFFSETTO:-0500
TZNAME:CDT
DTSTART:20260308T080000
END:DAYLIGHT
BEGIN:STANDARD
TZOFFSETFROM:-0500
TZOFFSETTO:-0600
TZNAME:CST
DTSTART:20261101T070000
END:STANDARD
END:VTIMEZONE
BEGIN:VEVENT
DTSTART;VALUE=DATE:20250418
DTEND;VALUE=DATE:20250519
DTSTAMP:20260422T093432
CREATED:20250416T141915Z
LAST-MODIFIED:20250416T141915Z
UID:10020599-1744934400-1747612799@bethemet.org
SUMMARY:Pause the plastic with Dayenu Circle!
DESCRIPTION:This month for earth day we are creating the pause the plastic challenge! Check out this month’s Green Maven blog to find out more information.
URL:https://bethemet.org/event/pause-the-plastic-with-dayenu-circle/
CATEGORIES:Congregational Programs
ATTACH;FMTTYPE=image/png:https://bethemet.org/wp-content/uploads/2024/09/BEDayenu-Circle-logo-720-×-405-px-1920-x-1080-px.png
END:VEVENT
BEGIN:VEVENT
DTSTART;TZID=America/Chicago:20250418T093000
DTEND;TZID=America/Chicago:20250418T103000
DTSTAMP:20260422T093432
CREATED:20250203T155929Z
LAST-MODIFIED:20250203T155930Z
UID:10016788-1744968600-1744972200@bethemet.org
SUMMARY:A Close Look at Prophets with Rabbi Andrea London
DESCRIPTION:There are many ways to interpret our Tanach and its nuances of meaning that are often overlooked. Having completed our Close Look at Torah this past May\, we turn to N’viim / Prophets\, beginning with Joshua. New learners are always welcome. If you are new\, please register below. Additionally if you plan to participate online\, you must register to receive a Zoom link. \nMembers Register Here \nGuests Register Here
URL:https://bethemet.org/event/a-close-look-at-prophets-with-rabbi-andrea-london-3-2/2025-04-18/
CATEGORIES:Adult Programming
ATTACH;FMTTYPE=image/jpeg:https://bethemet.org/wp-content/uploads/2024/08/A-close-look-final-class-scaled.jpeg
END:VEVENT
BEGIN:VEVENT
DTSTART;TZID=America/Chicago:20250418T174500
DTEND;TZID=America/Chicago:20250418T183000
DTSTAMP:20260422T093432
CREATED:20250306T143400Z
LAST-MODIFIED:20250522T215054Z
UID:10020181-1744998300-1745001000@bethemet.org
SUMMARY:Oneg
DESCRIPTION:Each week before Kabbalat Shabbat service\, we will have an oneg. This means that\, although there is no official sponsor\, we will provide light snacks before services begin.
URL:https://bethemet.org/event/light-oneg/2025-04-18/
CATEGORIES:Congregational Programs
END:VEVENT
BEGIN:VEVENT
DTSTART;TZID=America/Chicago:20250418T183000
DTEND;TZID=America/Chicago:20250418T200000
DTSTAMP:20260422T093432
CREATED:20241209T181854Z
LAST-MODIFIED:20251022T191443Z
UID:10019178-1745001000-1745006400@bethemet.org
SUMMARY:Kabbalat Shabbat Services
DESCRIPTION:Welcome Shabbat with our Kabbalat Shabbat Service! Whether in the Sanctuary or online!
URL:https://bethemet.org/event/kabbalat-shabbat-services-4/2025-04-18/
CATEGORIES:Worship
END:VEVENT
BEGIN:VEVENT
DTSTART;TZID=America/Chicago:20250418T183000
DTEND;TZID=America/Chicago:20250418T200000
DTSTAMP:20260422T093432
CREATED:20250403T153152Z
LAST-MODIFIED:20250414T211209Z
UID:10020567-1745001000-1745006400@bethemet.org
SUMMARY:Earth Day Shabbat
DESCRIPTION:Join us for a special Earth Day Shabbat featuring Representative Robyn Gabel\, who will share insights on Illinois’s environmental sustainability and policy commitment. We will also hear briefly from member Eli Coustan\, who will offer additional reflections on how to properly use alternatives to plastics.
URL:https://bethemet.org/event/earth-day-shabbat/
CATEGORIES:Congregational Programs
ATTACH;FMTTYPE=image/png:https://bethemet.org/wp-content/uploads/2024/09/BEDayenu-Circle-logo-720-×-405-px-1920-x-1080-px.png
END:VEVENT
END:VCALENDAR