BEGIN:VCALENDAR
VERSION:2.0
PRODID:-//Beth Emet - ECPv6.15.17//NONSGML v1.0//EN
CALSCALE:GREGORIAN
METHOD:PUBLISH
X-ORIGINAL-URL:https://bethemet.org
X-WR-CALDESC:Events for Beth Emet
REFRESH-INTERVAL;VALUE=DURATION:PT1H
X-Robots-Tag:noindex
X-PUBLISHED-TTL:PT1H
BEGIN:VTIMEZONE
TZID:America/Chicago
BEGIN:DAYLIGHT
TZOFFSETFROM:-0600
TZOFFSETTO:-0500
TZNAME:CDT
DTSTART:20230312T080000
END:DAYLIGHT
BEGIN:STANDARD
TZOFFSETFROM:-0500
TZOFFSETTO:-0600
TZNAME:CST
DTSTART:20231105T070000
END:STANDARD
BEGIN:DAYLIGHT
TZOFFSETFROM:-0600
TZOFFSETTO:-0500
TZNAME:CDT
DTSTART:20240310T080000
END:DAYLIGHT
BEGIN:STANDARD
TZOFFSETFROM:-0500
TZOFFSETTO:-0600
TZNAME:CST
DTSTART:20241103T070000
END:STANDARD
BEGIN:DAYLIGHT
TZOFFSETFROM:-0600
TZOFFSETTO:-0500
TZNAME:CDT
DTSTART:20250309T080000
END:DAYLIGHT
BEGIN:STANDARD
TZOFFSETFROM:-0500
TZOFFSETTO:-0600
TZNAME:CST
DTSTART:20251102T070000
END:STANDARD
END:VTIMEZONE
BEGIN:VEVENT
DTSTART;TZID=America/Chicago:20240715T183000
DTEND;TZID=America/Chicago:20240715T200000
DTSTAMP:20260421T075609
CREATED:20240627T192359Z
LAST-MODIFIED:20240627T192359Z
UID:10015362-1721068200-1721073600@bethemet.org
SUMMARY:Social Justice Task Force First Annual Potluck Dinner and Honoring Lisa Levine
DESCRIPTION:This past year\, our social justice team has been busy accomplishing successful collection drives\, highlighting some of the work we’ve done by bringing speakers to Kabbalat Shabbat services\, participating in city-wide events\, and volunteering at a few agencies/partners\, leading environmental efforts\, and helping in Soup Kitchen efforts.  By no means is our work done\, but the summer allows us an opportunity to step back to reflect\, rejuvenate\, and also to celebrate what we have accomplished together. \n  \nWe honor Lisa for her work and devotion to the cause of social justice with this delicious potluck! Let us know you’re coming by emailing Bekki and sign up for something to bring (side dish\, salad\, dessert & non-alcoholic drinks). Beth Emet will be providing the entree.
URL:https://bethemet.org/event/social-justice-task-force-first-annual-potluck-dinner-and-honoring-lisa-levine/
LOCATION:Lighthouse Beach Shelter\, 2603 Sheridan Rd\, 60201\, Evanston\, IL\, 60201\, United States
CATEGORIES:Adult Programming
ATTACH;FMTTYPE=image/png:https://bethemet.org/wp-content/uploads/2023/09/Untitled-720-×-404-px.png
END:VEVENT
END:VCALENDAR