BEGIN:VCALENDAR
VERSION:2.0
PRODID:-//Beth Emet - ECPv6.15.17//NONSGML v1.0//EN
CALSCALE:GREGORIAN
METHOD:PUBLISH
X-ORIGINAL-URL:https://bethemet.org
X-WR-CALDESC:Events for Beth Emet
REFRESH-INTERVAL;VALUE=DURATION:PT1H
X-Robots-Tag:noindex
X-PUBLISHED-TTL:PT1H
BEGIN:VTIMEZONE
TZID:America/Chicago
BEGIN:DAYLIGHT
TZOFFSETFROM:-0600
TZOFFSETTO:-0500
TZNAME:CDT
DTSTART:20220313T080000
END:DAYLIGHT
BEGIN:STANDARD
TZOFFSETFROM:-0500
TZOFFSETTO:-0600
TZNAME:CST
DTSTART:20221106T070000
END:STANDARD
BEGIN:DAYLIGHT
TZOFFSETFROM:-0600
TZOFFSETTO:-0500
TZNAME:CDT
DTSTART:20230312T080000
END:DAYLIGHT
BEGIN:STANDARD
TZOFFSETFROM:-0500
TZOFFSETTO:-0600
TZNAME:CST
DTSTART:20231105T070000
END:STANDARD
BEGIN:DAYLIGHT
TZOFFSETFROM:-0600
TZOFFSETTO:-0500
TZNAME:CDT
DTSTART:20240310T080000
END:DAYLIGHT
BEGIN:STANDARD
TZOFFSETFROM:-0500
TZOFFSETTO:-0600
TZNAME:CST
DTSTART:20241103T070000
END:STANDARD
END:VTIMEZONE
BEGIN:VEVENT
DTSTART;TZID=America/Chicago:20230707T113000
DTEND;TZID=America/Chicago:20230707T120000
DTSTAMP:20260422T033016
CREATED:20210725T013853Z
LAST-MODIFIED:20230612T151502Z
UID:10006513-1688729400-1688731200@bethemet.org
SUMMARY:Daily Meditation from Institute for Jewish Spirituality
DESCRIPTION:Join Meditation Room
URL:https://bethemet.org/event/daily-meditation-from-institute-for-jewish-spirituality/2023-07-07/
CATEGORIES:Congregational Programs
END:VEVENT
BEGIN:VEVENT
DTSTART;TZID=America/Chicago:20230707T174500
DTEND;TZID=America/Chicago:20230707T183000
DTSTAMP:20260422T033016
CREATED:20230612T204137Z
LAST-MODIFIED:20231002T202606Z
UID:10012026-1688751900-1688754600@bethemet.org
SUMMARY:Festive Oneg Shabbat
DESCRIPTION:Come to Kabbalat Shabbat services early to celebrate and schmooze with your Beth Emet community. Snacks and drinks will be provided.  – Thank you to an anonymous donor for making this Oneg possible.
URL:https://bethemet.org/event/festive-shabbat-oneg/2023-07-07/
CATEGORIES:Congregational Programs
ATTACH;FMTTYPE=image/png:https://bethemet.org/wp-content/uploads/2023/06/Festive-Oneg-Shabbat.Website-1.png
END:VEVENT
BEGIN:VEVENT
DTSTART;TZID=America/Chicago:20230707T183000
DTEND;TZID=America/Chicago:20230707T200000
DTSTAMP:20260422T033016
CREATED:20230404T152207Z
LAST-MODIFIED:20230707T045038Z
UID:10009263-1688754600-1688760000@bethemet.org
SUMMARY:Kabbalat Shabbat Service with July Birthday Blessings and a Picnic Welcoming Cantor Young
DESCRIPTION:A special welcome to Cantor Natalie Young who will be leading her first Kabbalat Shabbat service at Beth Emet. Following the service\, we will have a picnic at Larimer Park (1201 Oak Street\, one block east and one block south of Beth Emet; parking on the surrounding streets). Bring your own picnic dinner and blanket; we’ll provide the birthday cake in honor of all our July birthdays! What a great way to celebrate summer! \nAs this is the first Friday of the month\, we will be offering a birthday blessing to all our July birthdays! Here’s a list of all those who are celebrating! \nWelcome Shabbat whether in the Sanctuary or online! To listen to the service dial 847-869-4230 and press 7 \n 
URL:https://bethemet.org/event/kabbalat-shabbat-with-birthday-blessings-2023-07-07/
CATEGORIES:Worship
ATTACH;FMTTYPE=image/png:https://bethemet.org/wp-content/uploads/2021/11/July-Bday-Blessings-and-Picnic-7.2.png
END:VEVENT
END:VCALENDAR