BEGIN:VCALENDAR
VERSION:2.0
PRODID:-//Beth Emet - ECPv6.15.17//NONSGML v1.0//EN
CALSCALE:GREGORIAN
METHOD:PUBLISH
X-ORIGINAL-URL:https://bethemet.org
X-WR-CALDESC:Events for Beth Emet
REFRESH-INTERVAL;VALUE=DURATION:PT1H
X-Robots-Tag:noindex
X-PUBLISHED-TTL:PT1H
BEGIN:VTIMEZONE
TZID:America/Chicago
BEGIN:DAYLIGHT
TZOFFSETFROM:-0600
TZOFFSETTO:-0500
TZNAME:CDT
DTSTART:20220313T080000
END:DAYLIGHT
BEGIN:STANDARD
TZOFFSETFROM:-0500
TZOFFSETTO:-0600
TZNAME:CST
DTSTART:20221106T070000
END:STANDARD
BEGIN:DAYLIGHT
TZOFFSETFROM:-0600
TZOFFSETTO:-0500
TZNAME:CDT
DTSTART:20230312T080000
END:DAYLIGHT
BEGIN:STANDARD
TZOFFSETFROM:-0500
TZOFFSETTO:-0600
TZNAME:CST
DTSTART:20231105T070000
END:STANDARD
BEGIN:DAYLIGHT
TZOFFSETFROM:-0600
TZOFFSETTO:-0500
TZNAME:CDT
DTSTART:20240310T080000
END:DAYLIGHT
BEGIN:STANDARD
TZOFFSETFROM:-0500
TZOFFSETTO:-0600
TZNAME:CST
DTSTART:20241103T070000
END:STANDARD
END:VTIMEZONE
BEGIN:VEVENT
DTSTART;VALUE=DATE:20230619
DTEND;VALUE=DATE:20230620
DTSTAMP:20260422T103809
CREATED:20220615T175602Z
LAST-MODIFIED:20230516T231849Z
UID:10008636-1687132800-1687219199@bethemet.org
SUMMARY:Juneteenth- Beth Emet Offices Closed
DESCRIPTION:Should you need to contact someone at Beth Emet during this time\, please call the main number (847-869-4230)\, and press 4. The Clergy are available in case of an emergency. \n\nJuneteenth marks the date when news of emancipation finally reached Galveston\, Texas\, confirming the freedom of the last remaining enslaved people in the deepest parts of the South. Today\, Juneteenth commemorates African American freedom and emphasizes education and achievement. \nLearn more about What Is Juneteenth? from PBS.  Or read about Juneteenth: The History of a New Holiday from the NYTimes \nTake a look at resources from Be’chol Lashon to learn more about Juneteenth significance to Black Jews. \n 
URL:https://bethemet.org/event/juneteenth-2023-06-19/2023-06-19/
CATEGORIES:Congregational Programs
END:VEVENT
END:VCALENDAR