BEGIN:VCALENDAR
VERSION:2.0
PRODID:-//Beth Emet - ECPv6.15.17//NONSGML v1.0//EN
CALSCALE:GREGORIAN
METHOD:PUBLISH
X-ORIGINAL-URL:https://bethemet.org
X-WR-CALDESC:Events for Beth Emet
REFRESH-INTERVAL;VALUE=DURATION:PT1H
X-Robots-Tag:noindex
X-PUBLISHED-TTL:PT1H
BEGIN:VTIMEZONE
TZID:America/Chicago
BEGIN:DAYLIGHT
TZOFFSETFROM:-0600
TZOFFSETTO:-0500
TZNAME:CDT
DTSTART:20220313T080000
END:DAYLIGHT
BEGIN:STANDARD
TZOFFSETFROM:-0500
TZOFFSETTO:-0600
TZNAME:CST
DTSTART:20221106T070000
END:STANDARD
BEGIN:DAYLIGHT
TZOFFSETFROM:-0600
TZOFFSETTO:-0500
TZNAME:CDT
DTSTART:20230312T080000
END:DAYLIGHT
BEGIN:STANDARD
TZOFFSETFROM:-0500
TZOFFSETTO:-0600
TZNAME:CST
DTSTART:20231105T070000
END:STANDARD
BEGIN:DAYLIGHT
TZOFFSETFROM:-0600
TZOFFSETTO:-0500
TZNAME:CDT
DTSTART:20240310T080000
END:DAYLIGHT
BEGIN:STANDARD
TZOFFSETFROM:-0500
TZOFFSETTO:-0600
TZNAME:CST
DTSTART:20241103T070000
END:STANDARD
END:VTIMEZONE
BEGIN:VEVENT
DTSTART;VALUE=DATE:20230508
DTEND;VALUE=DATE:20230509
DTSTAMP:20260425T084335
CREATED:20220327T225500Z
LAST-MODIFIED:20220327T225500Z
UID:10007464-1683504000-1683590399@bethemet.org
SUMMARY:Erev Lag B'Omer
DESCRIPTION:
URL:https://bethemet.org/event/erev-lag-bomer-2/
END:VEVENT
BEGIN:VEVENT
DTSTART;TZID=America/Chicago:20230508T113000
DTEND;TZID=America/Chicago:20230508T120000
DTSTAMP:20260425T084335
CREATED:20210725T013853Z
LAST-MODIFIED:20230612T151502Z
UID:10006472-1683545400-1683547200@bethemet.org
SUMMARY:Daily Meditation from Institute for Jewish Spirituality
DESCRIPTION:Join Meditation Room
URL:https://bethemet.org/event/daily-meditation-from-institute-for-jewish-spirituality/2023-05-08/
CATEGORIES:Congregational Programs
END:VEVENT
BEGIN:VEVENT
DTSTART;TZID=America/Chicago:20230508T190000
DTEND;TZID=America/Chicago:20230508T203000
DTSTAMP:20260425T084335
CREATED:20230308T224115Z
LAST-MODIFIED:20230414T180855Z
UID:10008183-1683572400-1683577800@bethemet.org
SUMMARY:Women in American Jewish History That You Might Not Know About with Rabbi Toby Manewith
DESCRIPTION:You know about Ruth Bader Ginsburg\, Sarah Silverman\, and Sheryl Sandburg. Come learn about other Jewish women\, including “The Girl Rabbi of the Golden West\,” who deeply impacted American and/or Jewish life over the last 300 years. \nNon-Members Register Here \nMembers Register Here
URL:https://bethemet.org/event/women-in-american-jewish-history-that-you-might-not-now-about-with-rabbi-toby-manewith/2023-05-08/
CATEGORIES:Adult Programming
END:VEVENT
BEGIN:VEVENT
DTSTART;TZID=America/Chicago:20230508T193000
DTEND;TZID=America/Chicago:20230508T210000
DTSTAMP:20260425T084335
CREATED:20221103T195736Z
LAST-MODIFIED:20230504T205817Z
UID:10009204-1683574200-1683579600@bethemet.org
SUMMARY:Social Justice Committee Meeting
DESCRIPTION:Please note: We will have some time to connect for those joining in person. The formal meeting aspect of the night will begin at 8:00 pm.  \nThe Social Justice Committee centers around the values of Tikkun Olam\, repairing the world\, and gemilut chasadim (acts of loving kindness)\, through a hands-on\, interactive\, and committee-based approach. There are so many ways to get involved and help to support those suffering as a result of policies of injustice and marginalization.
URL:https://bethemet.org/event/social-justice-committee-2023-05-08/
CATEGORIES:Congregational Programs
ATTACH;FMTTYPE=image/jpeg:https://bethemet.org/wp-content/uploads/2022/09/IMG_3187_9289-scaled.jpg
END:VEVENT
END:VCALENDAR