BEGIN:VCALENDAR
VERSION:2.0
PRODID:-//Beth Emet - ECPv6.15.17//NONSGML v1.0//EN
CALSCALE:GREGORIAN
METHOD:PUBLISH
X-ORIGINAL-URL:https://bethemet.org
X-WR-CALDESC:Events for Beth Emet
REFRESH-INTERVAL;VALUE=DURATION:PT1H
X-Robots-Tag:noindex
X-PUBLISHED-TTL:PT1H
BEGIN:VTIMEZONE
TZID:America/Chicago
BEGIN:DAYLIGHT
TZOFFSETFROM:-0600
TZOFFSETTO:-0500
TZNAME:CDT
DTSTART:20220313T080000
END:DAYLIGHT
BEGIN:STANDARD
TZOFFSETFROM:-0500
TZOFFSETTO:-0600
TZNAME:CST
DTSTART:20221106T070000
END:STANDARD
BEGIN:DAYLIGHT
TZOFFSETFROM:-0600
TZOFFSETTO:-0500
TZNAME:CDT
DTSTART:20230312T080000
END:DAYLIGHT
BEGIN:STANDARD
TZOFFSETFROM:-0500
TZOFFSETTO:-0600
TZNAME:CST
DTSTART:20231105T070000
END:STANDARD
BEGIN:DAYLIGHT
TZOFFSETFROM:-0600
TZOFFSETTO:-0500
TZNAME:CDT
DTSTART:20240310T080000
END:DAYLIGHT
BEGIN:STANDARD
TZOFFSETFROM:-0500
TZOFFSETTO:-0600
TZNAME:CST
DTSTART:20241103T070000
END:STANDARD
END:VTIMEZONE
BEGIN:VEVENT
DTSTART;VALUE=DATE:20230116
DTEND;VALUE=DATE:20230117
DTSTAMP:20260424T084300
CREATED:20220327T224607Z
LAST-MODIFIED:20221222T190504Z
UID:10008442-1673827200-1673913599@bethemet.org
SUMMARY:Martin Luther King Jr. Day- Building Closed
DESCRIPTION:Should you need to contact someone at Beth Emet during this time\, please call the main number (847-869-4230)\, and press 4. The Clergy are available in case of an emergency. \nWe look forward to connecting with you when the offices reopen on Tuesday.
URL:https://bethemet.org/event/martin-luther-king-jr-day-2/2023-01-16/
END:VEVENT
BEGIN:VEVENT
DTSTART;TZID=America/Chicago:20230116T110000
DTEND;TZID=America/Chicago:20230116T130000
DTSTAMP:20260424T084300
CREATED:20230103T193206Z
LAST-MODIFIED:20230103T193206Z
UID:10008141-1673866800-1673874000@bethemet.org
SUMMARY:4th Annual Walk for Warmth with Interfaith Action of Evanston
DESCRIPTION:Walk for Warmth is back! \nJoin Beth Emet’s Team on Martin Luther King Jr. Day\, a National Day of Service\, to walk in Interfaith Action of Evanston’s annual Walk for Warmth. Together\, we will raise awareness and funds to support the Emergency Overnight Shelter and the Warming Center. Let’s help those in our community who are experiencing homelessness and facing a brutal winter. \nThis is a family friendly event and people of all ages are welcome! Register to walk and/or donate. Registration is free. \nContact Leslie Shulruff with any questions.
URL:https://bethemet.org/event/4th-annual-walk-for-warmth-with-interfaith-action-of-evanston/
LOCATION:First United Methodist Church\, 516 Church St\, Evanston\, IL\, 60201\, United States
CATEGORIES:Congregational Programs
ATTACH;FMTTYPE=image/png:https://bethemet.org/wp-content/uploads/2023/01/Walk-for-Warmth-event.png
END:VEVENT
BEGIN:VEVENT
DTSTART;TZID=America/Chicago:20230116T180000
DTEND;TZID=America/Chicago:20230116T210000
DTSTAMP:20260424T084300
CREATED:20230104T213356Z
LAST-MODIFIED:20230110T064028Z
UID:10008143-1673892000-1673902800@bethemet.org
SUMMARY:The Big Payback: A Documentary on Reparations
DESCRIPTION:Please join First Repair\, this Rev. Martin Luther King Jr. Day for a special Evanston community screening of The Big Payback with Q&A to follow with Co-Directors Erika Alexander\, Whitney Dow\, Rabbi London and Pastor Carlis Moody Jr\, along with Robin Rue Simmons. \nReserve your spot today \nThe National broadcast on PBS will premiere at 10:00 pm following the screening. Details for local stations can be found here.
URL:https://bethemet.org/event/the-big-payback-a-documentary-on-reparations/
LOCATION:AMC Theatre Evanston 12\, 1715 Maple Avenue\, Evanston\, IL\, 60201\, United States
CATEGORIES:Congregational Programs
ATTACH;FMTTYPE=image/png:https://bethemet.org/wp-content/uploads/2023/01/The-Big-Payback.png
END:VEVENT
END:VCALENDAR