BEGIN:VCALENDAR
VERSION:2.0
PRODID:-//Beth Emet - ECPv6.15.17//NONSGML v1.0//EN
CALSCALE:GREGORIAN
METHOD:PUBLISH
X-ORIGINAL-URL:https://bethemet.org
X-WR-CALDESC:Events for Beth Emet
REFRESH-INTERVAL;VALUE=DURATION:PT1H
X-Robots-Tag:noindex
X-PUBLISHED-TTL:PT1H
BEGIN:VTIMEZONE
TZID:America/Chicago
BEGIN:DAYLIGHT
TZOFFSETFROM:-0600
TZOFFSETTO:-0500
TZNAME:CDT
DTSTART:20210314T080000
END:DAYLIGHT
BEGIN:STANDARD
TZOFFSETFROM:-0500
TZOFFSETTO:-0600
TZNAME:CST
DTSTART:20211107T070000
END:STANDARD
BEGIN:DAYLIGHT
TZOFFSETFROM:-0600
TZOFFSETTO:-0500
TZNAME:CDT
DTSTART:20220313T080000
END:DAYLIGHT
BEGIN:STANDARD
TZOFFSETFROM:-0500
TZOFFSETTO:-0600
TZNAME:CST
DTSTART:20221106T070000
END:STANDARD
BEGIN:DAYLIGHT
TZOFFSETFROM:-0600
TZOFFSETTO:-0500
TZNAME:CDT
DTSTART:20230312T080000
END:DAYLIGHT
BEGIN:STANDARD
TZOFFSETFROM:-0500
TZOFFSETTO:-0600
TZNAME:CST
DTSTART:20231105T070000
END:STANDARD
END:VTIMEZONE
BEGIN:VEVENT
DTSTART;TZID=America/Chicago:20221130T113000
DTEND;TZID=America/Chicago:20221130T120000
DTSTAMP:20260425T101420
CREATED:20210725T013853Z
LAST-MODIFIED:20230612T151502Z
UID:10006379-1669807800-1669809600@bethemet.org
SUMMARY:Daily Meditation from Institute for Jewish Spirituality
DESCRIPTION:Join Meditation Room
URL:https://bethemet.org/event/daily-meditation-from-institute-for-jewish-spirituality/2022-11-30/
CATEGORIES:Congregational Programs
END:VEVENT
BEGIN:VEVENT
DTSTART;TZID=America/Chicago:20221130T180000
DTEND;TZID=America/Chicago:20221130T190000
DTSTAMP:20260425T101420
CREATED:20211108T135936Z
LAST-MODIFIED:20220602T010622Z
UID:10007725-1669831200-1669834800@bethemet.org
SUMMARY:Soup Kitchen
DESCRIPTION:
URL:https://bethemet.org/event/soup-kitchen-2022-06-08/2022-11-30/
CATEGORIES:Congregational Programs
ATTACH;FMTTYPE=image/jpeg:https://bethemet.org/wp-content/uploads/2021/11/soup-kitchen.jpg
END:VEVENT
BEGIN:VEVENT
DTSTART;TZID=America/Chicago:20221130T193000
DTEND;TZID=America/Chicago:20221130T210000
DTSTAMP:20260425T101420
CREATED:20220828T232039Z
LAST-MODIFIED:20221128T183507Z
UID:10008737-1669836600-1669842000@bethemet.org
SUMMARY:Supporting Peace for Israel with Noah Finkelstein\, Midwest Associate Regional Director of J Street
DESCRIPTION:Noah Finkelstein\, J Street’s Associate Regional Director for the Midwest\, will explain how J Street’s pro-Israel\, pro-peace advocacy work\, the results of the elections in the United States and Israel\, and events in Israel and the West Bank\, impact the pursuit of a just and lasting peace between Israelis and Palestinians. \nThis program is sponsored by the Israel Committee. \nNon-Members Register Here \nMembers Register Here \nNOAH FINKELSTEIN is the Midwest Associate Regional Director of J Street. Previously\, Noah was the Senior Coalitions Associate on J Street’s Public Engagement team and held roles on the J Street U team. Before joining J Street\, he worked at Habonim Dror for two years as the National Programs Director. Noah is a graduate of the University of British Columbia. 
URL:https://bethemet.org/event/supporting-peace-for-israel-with-noah-finkelstein-midwest-associate-regional-director-of-j-street/
CATEGORIES:Adult Programming
ATTACH;FMTTYPE=image/png:https://bethemet.org/wp-content/uploads/2022/08/Noah-Finkelstein.png
END:VEVENT
END:VCALENDAR