BEGIN:VCALENDAR
VERSION:2.0
PRODID:-//Beth Emet - ECPv6.15.17//NONSGML v1.0//EN
CALSCALE:GREGORIAN
METHOD:PUBLISH
X-ORIGINAL-URL:https://bethemet.org
X-WR-CALDESC:Events for Beth Emet
REFRESH-INTERVAL;VALUE=DURATION:PT1H
X-Robots-Tag:noindex
X-PUBLISHED-TTL:PT1H
BEGIN:VTIMEZONE
TZID:America/Chicago
BEGIN:DAYLIGHT
TZOFFSETFROM:-0600
TZOFFSETTO:-0500
TZNAME:CDT
DTSTART:20210314T080000
END:DAYLIGHT
BEGIN:STANDARD
TZOFFSETFROM:-0500
TZOFFSETTO:-0600
TZNAME:CST
DTSTART:20211107T070000
END:STANDARD
BEGIN:DAYLIGHT
TZOFFSETFROM:-0600
TZOFFSETTO:-0500
TZNAME:CDT
DTSTART:20220313T080000
END:DAYLIGHT
BEGIN:STANDARD
TZOFFSETFROM:-0500
TZOFFSETTO:-0600
TZNAME:CST
DTSTART:20221106T070000
END:STANDARD
BEGIN:DAYLIGHT
TZOFFSETFROM:-0600
TZOFFSETTO:-0500
TZNAME:CDT
DTSTART:20230312T080000
END:DAYLIGHT
BEGIN:STANDARD
TZOFFSETFROM:-0500
TZOFFSETTO:-0600
TZNAME:CST
DTSTART:20231105T070000
END:STANDARD
END:VTIMEZONE
BEGIN:VEVENT
DTSTART;TZID=America/Chicago:20220520T180000
DTEND;TZID=America/Chicago:20220521T100000
DTSTAMP:20260421T183213
CREATED:20220511T191901Z
LAST-MODIFIED:20220518T180803Z
UID:10008630-1653069600-1653127200@bethemet.org
SUMMARY:BESSY Lock In
DESCRIPTION:Join Beth Emet high schoolers for a sleepover! Pre-registration required \nEmail Sam
URL:https://bethemet.org/event/bessy-lock-in/
CATEGORIES:Youth
END:VEVENT
BEGIN:VEVENT
DTSTART;TZID=America/Chicago:20220521T093000
DTEND;TZID=America/Chicago:20220521T113000
DTSTAMP:20260421T183213
CREATED:20210725T013907Z
LAST-MODIFIED:20220311T180211Z
UID:10008228-1653125400-1653132600@bethemet.org
SUMMARY:Kahal Shabbat Morning Services
DESCRIPTION:Whether in-person or online participate in worship by signing up for an honor via the online honor form. Pre-registration is no longer required unless you have yet to submit your booster information\, (which is required now) and sign the Brit (Covenant of Responsibility) by completing the online form. \nPh: 312-626-6799- Meeting ID: 813 2237 5514 / Passcode: 1224 \nJoin the Service
URL:https://bethemet.org/event/kahal-shabbat-morning-services-2022-03-19/2022-05-21/
CATEGORIES:Worship
END:VEVENT
BEGIN:VEVENT
DTSTART;TZID=America/Chicago:20220521T103000
DTEND;TZID=America/Chicago:20220521T120000
DTSTAMP:20260421T183213
CREATED:20211108T152057Z
LAST-MODIFIED:20211108T152057Z
UID:10007648-1653129000-1653134400@bethemet.org
SUMMARY:Liv Gerstein Kabbalat Mitzvah
DESCRIPTION:Click here for LiveStream \nTo listen to the service: 847-869-4230 press 7
URL:https://bethemet.org/event/liv-gerstein-kabbalat-mitzvah/
CATEGORIES:Beit Sefer
END:VEVENT
BEGIN:VEVENT
DTSTART;TZID=America/Chicago:20220521T163000
DTEND;TZID=America/Chicago:20220521T173000
DTSTAMP:20260421T183213
CREATED:20220504T152601Z
LAST-MODIFIED:20220520T213322Z
UID:10008617-1653150600-1653154200@bethemet.org
SUMMARY:Hello Havdalah!
DESCRIPTION:Join JCC Early Childhood and Beth Emet Synagogue at Beth Emet for an in-person\, outdoor Havdalah! Families are invited to come together for a song session with Cantor Cotler\, braid a Havdalah candle and decorate a spice box and kiddush cup that you can take home! \nMasks and social distancing please. All are welcome! \nEmail Kathy with any questions!
URL:https://bethemet.org/event/hello-havdalah/
CATEGORIES:Young Families
END:VEVENT
END:VCALENDAR