BEGIN:VCALENDAR
VERSION:2.0
PRODID:-//Beth Emet - ECPv6.15.17//NONSGML v1.0//EN
CALSCALE:GREGORIAN
METHOD:PUBLISH
X-ORIGINAL-URL:https://bethemet.org
X-WR-CALDESC:Events for Beth Emet
REFRESH-INTERVAL;VALUE=DURATION:PT1H
X-Robots-Tag:noindex
X-PUBLISHED-TTL:PT1H
BEGIN:VTIMEZONE
TZID:America/Chicago
BEGIN:DAYLIGHT
TZOFFSETFROM:-0600
TZOFFSETTO:-0500
TZNAME:CDT
DTSTART:20210314T080000
END:DAYLIGHT
BEGIN:STANDARD
TZOFFSETFROM:-0500
TZOFFSETTO:-0600
TZNAME:CST
DTSTART:20211107T070000
END:STANDARD
BEGIN:DAYLIGHT
TZOFFSETFROM:-0600
TZOFFSETTO:-0500
TZNAME:CDT
DTSTART:20220313T080000
END:DAYLIGHT
BEGIN:STANDARD
TZOFFSETFROM:-0500
TZOFFSETTO:-0600
TZNAME:CST
DTSTART:20221106T070000
END:STANDARD
BEGIN:DAYLIGHT
TZOFFSETFROM:-0600
TZOFFSETTO:-0500
TZNAME:CDT
DTSTART:20230312T080000
END:DAYLIGHT
BEGIN:STANDARD
TZOFFSETFROM:-0500
TZOFFSETTO:-0600
TZNAME:CST
DTSTART:20231105T070000
END:STANDARD
END:VTIMEZONE
BEGIN:VEVENT
DTSTART;TZID=America/Chicago:20220414T100000
DTEND;TZID=America/Chicago:20220414T110000
DTSTAMP:20260421T105413
CREATED:20220103T173119Z
LAST-MODIFIED:20230530T041340Z
UID:10008262-1649930400-1649934000@bethemet.org
SUMMARY:Qigong with Netiva Caftori
DESCRIPTION:There are so many moving parts in our day to day lives. Our very own Netiva Caftori\, invites us to experience the healing practice of Qigong with her. Qigong is a millennia-old system of coordinated body-posture and movement\, breathing\, and meditation used for the purposes of health and spirituality. Beginners are encouraged to try out this session. \nJoin Here
URL:https://bethemet.org/event/qigong-with-netiva-caftori-7/2022-04-14/
CATEGORIES:Congregational Programs
ATTACH;FMTTYPE=image/jpeg:https://bethemet.org/wp-content/uploads/2021/07/qigong.jpg
END:VEVENT
BEGIN:VEVENT
DTSTART;TZID=America/Chicago:20220414T113000
DTEND;TZID=America/Chicago:20220414T120000
DTSTAMP:20260421T105413
CREATED:20210725T013853Z
LAST-MODIFIED:20230612T151502Z
UID:10006233-1649935800-1649937600@bethemet.org
SUMMARY:Daily Meditation from Institute for Jewish Spirituality
DESCRIPTION:Join Meditation Room
URL:https://bethemet.org/event/daily-meditation-from-institute-for-jewish-spirituality/2022-04-14/
CATEGORIES:Congregational Programs
END:VEVENT
BEGIN:VEVENT
DTSTART;TZID=America/Chicago:20220414T161500
DTEND;TZID=America/Chicago:20220414T164500
DTSTAMP:20260421T105413
CREATED:20211108T135955Z
LAST-MODIFIED:20220406T223147Z
UID:10007789-1649952900-1649954700@bethemet.org
SUMMARY:NO Beit Sefer
DESCRIPTION:
URL:https://bethemet.org/event/beit-sefer-thursday-2022-04-14/
CATEGORIES:Beit Sefer
END:VEVENT
BEGIN:VEVENT
DTSTART;TZID=America/Chicago:20220414T161500
DTEND;TZID=America/Chicago:20220414T164500
DTSTAMP:20260421T105413
CREATED:20211117T212755Z
LAST-MODIFIED:20220406T223202Z
UID:10008019-1649952900-1649954700@bethemet.org
SUMMARY:No Gesher
DESCRIPTION:Happy Passover!
URL:https://bethemet.org/event/gesher-12-2022-04-14/
CATEGORIES:Beit Sefer,Youth
ATTACH;FMTTYPE=image/jpeg:https://bethemet.org/wp-content/uploads/2021/11/7thhallway.jpg
END:VEVENT
END:VCALENDAR