BEGIN:VCALENDAR
VERSION:2.0
PRODID:-//Beth Emet - ECPv6.15.17//NONSGML v1.0//EN
CALSCALE:GREGORIAN
METHOD:PUBLISH
X-ORIGINAL-URL:https://bethemet.org
X-WR-CALDESC:Events for Beth Emet
REFRESH-INTERVAL;VALUE=DURATION:PT1H
X-Robots-Tag:noindex
X-PUBLISHED-TTL:PT1H
BEGIN:VTIMEZONE
TZID:America/Chicago
BEGIN:DAYLIGHT
TZOFFSETFROM:-0600
TZOFFSETTO:-0500
TZNAME:CDT
DTSTART:20210314T080000
END:DAYLIGHT
BEGIN:STANDARD
TZOFFSETFROM:-0500
TZOFFSETTO:-0600
TZNAME:CST
DTSTART:20211107T070000
END:STANDARD
BEGIN:DAYLIGHT
TZOFFSETFROM:-0600
TZOFFSETTO:-0500
TZNAME:CDT
DTSTART:20220313T080000
END:DAYLIGHT
BEGIN:STANDARD
TZOFFSETFROM:-0500
TZOFFSETTO:-0600
TZNAME:CST
DTSTART:20221106T070000
END:STANDARD
BEGIN:DAYLIGHT
TZOFFSETFROM:-0600
TZOFFSETTO:-0500
TZNAME:CDT
DTSTART:20230312T080000
END:DAYLIGHT
BEGIN:STANDARD
TZOFFSETFROM:-0500
TZOFFSETTO:-0600
TZNAME:CST
DTSTART:20231105T070000
END:STANDARD
END:VTIMEZONE
BEGIN:VEVENT
DTSTART;VALUE=DATE:20220121
DTEND;VALUE=DATE:20220123
DTSTAMP:20260421T105302
CREATED:20220112T170600Z
LAST-MODIFIED:20220112T170600Z
UID:10008339-1642723200-1642895999@bethemet.org
SUMMARY:6th Grade Shabbaton
DESCRIPTION:Reach out to Marci with any questions.
URL:https://bethemet.org/event/6th-grade-shabbaton/
CATEGORIES:Beit Sefer,Youth
END:VEVENT
BEGIN:VEVENT
DTSTART;TZID=America/Chicago:20220122T090000
DTEND;TZID=America/Chicago:20220122T101500
DTSTAMP:20260421T105302
CREATED:20211230T191331Z
LAST-MODIFIED:20220119T200124Z
UID:10007321-1642842000-1642846500@bethemet.org
SUMMARY:Tot Shabbat and TuB'shvat Craft Activity
DESCRIPTION:Celebrate Shabbat with Cantor Cotler\, and give thanks to the trees on Tu B’shvat Shabbat. We’ll sing\, pray\, chat and enjoy a fun and interactive Tu B’shvat craft project using materials that you have around the house. Perfect for families with children under age 5.
URL:https://bethemet.org/event/tot-shabbat-and-tubshvat-craft-activity/
CATEGORIES:Young Families
END:VEVENT
BEGIN:VEVENT
DTSTART;TZID=America/Chicago:20220122T093000
DTEND;TZID=America/Chicago:20220122T113000
DTSTAMP:20260421T105302
CREATED:20210725T013907Z
LAST-MODIFIED:20220119T195804Z
UID:10008214-1642843800-1642851000@bethemet.org
SUMMARY:Kahal Shabbat Morning Services- Online
DESCRIPTION:No In-Person Services \nZoom Link \nPh: 312-626-6799 | Meeting ID: 813 2237 5514 | Passcode: 1224
URL:https://bethemet.org/event/kahal-shabbat-morning-services-2022-01-22/
CATEGORIES:Worship
END:VEVENT
END:VCALENDAR