BEGIN:VCALENDAR
VERSION:2.0
PRODID:-//Beth Emet - ECPv6.15.17//NONSGML v1.0//EN
CALSCALE:GREGORIAN
METHOD:PUBLISH
X-ORIGINAL-URL:https://bethemet.org
X-WR-CALDESC:Events for Beth Emet
REFRESH-INTERVAL;VALUE=DURATION:PT1H
X-Robots-Tag:noindex
X-PUBLISHED-TTL:PT1H
BEGIN:VTIMEZONE
TZID:America/Chicago
BEGIN:DAYLIGHT
TZOFFSETFROM:-0600
TZOFFSETTO:-0500
TZNAME:CDT
DTSTART:20200308T080000
END:DAYLIGHT
BEGIN:STANDARD
TZOFFSETFROM:-0500
TZOFFSETTO:-0600
TZNAME:CST
DTSTART:20201101T070000
END:STANDARD
BEGIN:DAYLIGHT
TZOFFSETFROM:-0600
TZOFFSETTO:-0500
TZNAME:CDT
DTSTART:20210314T080000
END:DAYLIGHT
BEGIN:STANDARD
TZOFFSETFROM:-0500
TZOFFSETTO:-0600
TZNAME:CST
DTSTART:20211107T070000
END:STANDARD
BEGIN:DAYLIGHT
TZOFFSETFROM:-0600
TZOFFSETTO:-0500
TZNAME:CDT
DTSTART:20220313T080000
END:DAYLIGHT
BEGIN:STANDARD
TZOFFSETFROM:-0500
TZOFFSETTO:-0600
TZNAME:CST
DTSTART:20221106T070000
END:STANDARD
END:VTIMEZONE
BEGIN:VEVENT
DTSTART;TZID=America/Chicago:20211222T173000
DTEND;TZID=America/Chicago:20211222T183000
DTSTAMP:20260421T135731
CREATED:20211108T135936Z
LAST-MODIFIED:20211207T214411Z
UID:10007676-1640194200-1640197800@bethemet.org
SUMMARY:Soup Kitchen
DESCRIPTION:
URL:https://bethemet.org/event/soup-kitchen-2021-12-01/2021-12-22/
CATEGORIES:Congregational Programs
ATTACH;FMTTYPE=image/jpeg:https://bethemet.org/wp-content/uploads/2021/11/soup-kitchen.jpg
END:VEVENT
BEGIN:VEVENT
DTSTART;TZID=America/Chicago:20211222T193000
DTEND;TZID=America/Chicago:20211222T203000
DTSTAMP:20260421T135731
CREATED:20211203T180900Z
LAST-MODIFIED:20211215T194648Z
UID:10008138-1640201400-1640205000@bethemet.org
SUMMARY:Dayenu Circle
DESCRIPTION:In 2022\, do you want to get involved with Dayenu\, a fast-growing Jewish advocacy group calling for bold climate action? Consider attending the next meeting of the newly launched Beth Emet Dayenu Circle. Be part of our planning process for the coming year and help increase our impact as Jewish voices come together through Dayenu Circles. Collectively\, our circles from coast to coast will demand policies from our lawmakers that will get us on track for improving environmental health and justice for generations to come. \nClick to join Zoom \nPh: 312-626-6799 | Meeting ID: 878 3510 7875 | Passcode: 1224 \n 
URL:https://bethemet.org/event/dayenu-circle/
CATEGORIES:Congregational Programs
ATTACH;FMTTYPE=image/jpeg:https://bethemet.org/wp-content/uploads/2021/12/Dayenu-Circle.jpeg
ORGANIZER;CN="Sharon Smaller":MAILTO:smallersharon@gmail.com
END:VEVENT
END:VCALENDAR